{"text_format":"1","workbook":"xlsx","n_sheets":8,"sheets":["4-Leg","3-Leg","Driveways","DIAMOND N-S","DIAMOND E-W","PARCLO N-S","PARCLO E-W","Single-Point"],"not_rendered":{"charts":0,"images":0,"macros":1,"external_links":0,"defined_names":3,"comments":1,"pivot_tables":0},"unopened":[],"bounds":{"document_bytes":16777216,"sheet_cells":100000,"rows_first":2000,"rows_last":500,"rows_between":2000,"halvings":0,"cell_chars":16384,"cell_head_chars":4096},"cells_cut":0,"cells_raw":0,"read":"whole","date_system":"1900"}

{"sheet":"4-Leg","index":0,"n_rows":76,"n_cols":75,"rows_kept":76,"cut":false,"hidden":false,"merged":[]}
[]
[]
[]
[]
[]
[]
[]
[]
[]
[]
[]
[]
[]
[]
[]
[]
[]
[]
[]
[]
[]
[]
[]
[]
[]
[]
[]
[]
[]
[]
[]
[]
[]
[]
[]
[]
[]
[]
[]
[]
[]
[null,null,null,null,null,null,null,null,null,null,null,null,null,null,null,null,null,null,null,null,null,null,null,null,null,null,null,null,null,null,null,null,null,null,null,null,null,null,null,null,null,null,null,null,null,null,null,null,null,null,null,null,null,null,{"$f":"IF(BD39<>\"\",AVERAGE(BD42,BD39),BD42)","v":0},{"$f":"SUM(BB54:BE54)","v":0},{"$f":"SUM(BB57:BE57)","v":0},null,{"$f":"IF(BG41<>\"\",BG41-BG44,0)","v":0},{"$f":"IF(BH41<>\"\",BH41-BH44,0)","v":0},"imbal"]
[null,null,null,null,null,null,null,null,null,null,null,null,null,null,null,null,null,null,null,null,null,null,null,null,null,null,null,null,null,null,null,null,null,null,null,null,null,null,null,null,null,null,null,null,null,null,null,null,null,null,null,null,null,null,"target","$","$",null,"#","#","target"]
[null,null,null,null,null,null,null,null,null,null,null,null,null,null,null,null,null,null,null,null,null,null,null,null,null,null,null,null,null,null,null,null,null,null,null,null,null,null,null,null,null,null,null,null,null,null,null,null,null,null,null,null,null,null,null,null,null,null,{"$f":"SUM(BE57,BD61,BI61,BH55)","v":0},{"$f":"SUM(BE54,BA61,BI64,BK55)","v":0},{"$f":"IF(BH41<>\"\",AVERAGE(BH44,BH41),BH44)","v":0}]
[null,null,null,null,null,null,null,null,null,null,null,null,null,null,null,null,null,null,null,null,null,null,null,null,null,null,null,null,null,null,null,null,null,null,null,null,null,null,null,null,null,null,null,{"$f":"CHOOSE(1,BF59&\":\",\"IX_NAME\",AS45)","v":"1:"},{"$f":"AW60&\" & \"&BE48","v":"Main Ave & Default St"},null,null,null,null,null,null,null,null,null,null,null,null,null,null,null,null,null,null,null,null,null,"Local OD Raw"]
[null,null,null,null,null,null,null,null,null,null,null,null,null,null,null,null,null,null,null,null,null,null,null,null,null,null,null,null,null,null,null,null,null,null,null,null,null,null,null,null,null,null,null,null,"Raw Count Date:",null,null,null,null,null,null,null,null,null,null,null,null,null,null,null,null,null,null,null,null,null,{"$f":"\"local_od_raw_\"&BF59","v":"local_od_raw_1"},1,2,3,4,"est","tgt","err"]
[null,null,null,null,null,null,null,null,null,null,null,null,null,null,null,null,null,null,null,null,null,null,null,null,null,null,null,null,null,null,null,null,null,null,null,null,null,null,null,null,null,null,null,null,null,null,null,null,null,null,null,null,null,null,null,null,null,null,null,null,null,null,null,null,null,null,1,{"$f":"BG61","v":0},{"$f":"BJ61","v":0},{"$f":"BI61","v":0},{"$f":"BH61","v":0},{"$f":"SUM(BP47:BS47)","v":0},{"$f":"BI76","v":0},{"$f":"IFERROR(ABS(BT47-BU47)/BU47,0)","v":0}]
[null,null,null,null,null,null,null,null,null,null,null,null,null,null,null,null,null,null,null,null,null,null,null,null,null,null,null,null,null,null,null,null,null,null,null,null,null,null,null,null,null,null,null,null,null,null,null,null,null,null,null,null,null,null,null,null,"Default St",null,null,null,null,null,null,null,null,null,2,{"$f":"BH57","v":0},{"$f":"BH58","v":0},{"$f":"BH55","v":0},{"$f":"BH56","v":0},{"$f":"SUM(BP48:BS48)","v":0},{"$f":"BW56","v":0},{"$f":"IFERROR(ABS(BT48-BU48)/BU48,0)","v":0}]
[null,null,null,null,null,null,null,null,null,null,null,null,null,null,null,null,null,null,null,null,null,null,null,null,null,null,null,null,null,null,null,null,null,null,null,null,null,null,null,null,null,null,null,null,null,null,null,null,null,null,null,null,null,"",null,null,null,null,null,null,null,null,null,null,null,null,3,{"$f":"BC57","v":0},{"$f":"BD57","v":0},{"$f":"BE57","v":0},{"$f":"BB57","v":0},{"$f":"SUM(BP49:BS49)","v":0},{"$f":"BC42","v":0},0]
[null,null,null,null,null,null,null,null,null,null,null,null,null,null,null,null,null,null,null,null,null,null,null,null,null,null,null,null,null,null,null,null,null,null,null,null,null,null,null,null,null,null,null,null,null,null,null,null,null,null,null,null,null,null,null,null,null,null,null,null,null,null,null,null,null,null,4,{"$f":"BD63","v":0},{"$f":"BD62","v":0},{"$f":"BD61","v":0},{"$f":"BD60","v":0},{"$f":"SUM(BP50:BS50)","v":0},{"$f":"AO62","v":0},0]
[null,null,null,null,null,null,null,null,null,null,null,null,null,null,null,null,null,null,null,null,null,null,null,null,null,null,null,null,null,null,null,null,null,null,null,null,null,null,null,null,null,null,null,null,null,null,null,null,null,null,null,null,null,null,null,null,null,null,null,null,null,null,null,null,null,null,"est",{"$f":"SUM(BP47:BP50)","v":0},{"$f":"SUM(BQ47:BQ50)","v":0},{"$f":"SUM(BR47:BR50)","v":0},{"$f":"SUM(BS47:BS50)","v":0}]
[null,null,null,null,null,null,null,null,null,null,null,null,null,null,null,null,null,null,null,null,null,null,null,null,null,null,null,null,null,null,null,null,null,null,null,null,null,null,null,null,null,null,null,null,null,null,null,null,null,null,null,null,"RNSE",{"$f":"RNSE(BB54,BB57)","v":"-"},{"$f":"RNSE(BC54,BC57)","v":"-"},"-","-",null,null,null,null,null,null,null,null,null,"tgt",{"$f":"BC74","v":0},{"$f":"BU62","v":0},{"$f":"BI44","v":0},{"$f":"AQ56","v":0}]
[null,null,null,null,null,null,null,null,null,null,null,null,null,null,null,null,null,null,null,null,null,null,null,null,null,null,null,null,null,null,null,null,null,null,null,null,null,null,null,null,null,null,null,null,null,null,null,null,null,null,null,null,"%",{"$f":"BB54/BD42","v":{"$error":"#DIV/0!"}},{"$f":"BC54/BD42","v":{"$error":"#DIV/0!"}},{"$f":"BD54/BD42","v":{"$error":"#DIV/0!"}},{"$f":"BE54/BD42","v":{"$error":"#DIV/0!"}},null,null,null,null,null,null,null,null,null,"err",{"$f":"IFERROR(ABS(BP51-BP52)/BP52,0)","v":0},{"$f":"IFERROR(ABS(BQ51-BQ52)/BQ52,0)","v":0},0,0,null,null,{"$f":"SUM(BP53:BS53,BV47:BV50)","v":0}]
[null,null,null,null,null,null,null,null,null,null,null,null,null,null,null,null,null,null,null,null,null,null,null,null,null,null,null,null,null,null,null,null,null,null,null,null,null,null,null,null,null,null,null,null,null,null,null,null,null,null,null,null,"bal",{"$f":"BS68","v":0},{"$f":"BP68","v":0},{"$f":"BQ68","v":0},{"$f":"BR68","v":0},null,null,"raw","%",null,"bal","%","RNSE"]
[null,null,null,null,null,null,null,null,null,null,null,null,null,null,null,null,null,null,null,null,null,null,null,null,null,null,null,null,null,null,null,null,null,null,null,null,null,null,null,null,null,null,null,null,null,null,null,null,null,null,null,null,null,8,"$",9,"M",null,{"$f":"CHOOSE(1,\"<\",\"TURN\",8,BF59,BH55,BK55)","v":"<"},0,{"$f":"BH55/BW58","v":{"$error":"#DIV/0!"}},"<",{"$f":"BR67","v":0},{"$f":"BK55/BW57","v":{"$error":"#DIV/0!"}},{"$f":"RNSE(BK55,BH55)","v":"-"},null,null,""]
[null,null,null,null,null,null,null,null,null,null,null,null,null,null,null,null,null,null,null,null,null,null,null,null,null,null,null,null,null,null,null,null,null,null,null,null,null,null,null,null,"imbal","target",{"$f":"IF(AN57<>\"\",AVERAGE(AQ57,AN57),AQ57)","v":0},null,null,null,null,null,null,null,null,null,"%",{"$f":"BB57/BE42","v":{"$error":"#DIV/0!"}},{"$f":"BC57/BE42","v":{"$error":"#DIV/0!"}},{"$f":"BD57/BE42","v":{"$error":"#DIV/0!"}},{"$f":"BE57/BE42","v":{"$error":"#DIV/0!"}},null,{"$f":"CHOOSE(1,\"!\",\"TURN\",7,BF59,BH56,BK56)","v":"!"},0,{"$f":"BH56/BW58","v":{"$error":"#DIV/0!"}},"!",{"$f":"BS67","v":0},{"$f":"BK56/BW57","v":{"$error":"#DIV/0!"}},{"$f":"RNSE(BK56,BH56)","v":"-"},null,null,null,null,null,null,null,null,"target",{"$f":"IF(BZ57<>\"\",AVERAGE(BW57,BZ57),BW57)","v":0}]
[null,null,null,null,null,null,null,null,null,null,null,null,null,null,null,null,null,null,null,null,null,null,null,null,null,null,null,null,null,null,null,null,null,null,null,null,null,null,null,null,{"$f":"IF(AN57<>\"\",AN57-AQ57,0)","v":0},"!",{"$f":"SUM(BA60,BH64,BK56,BB54)","v":0},null,null,null,null,null,null,null,null,null,"raw",0,0,0,0,null,{"$f":"CHOOSE(1,\">\",\"TURN\",6,BF59,BH57,BK57)","v":">"},0,{"$f":"BH57/BW58","v":{"$error":"#DIV/0!"}},">",{"$f":"BP67","v":0},{"$f":"BK57/BW57","v":{"$error":"#DIV/0!"}},"-",null,null,null,null,null,null,null,null,"!",{"$f":"SUM(BK55:BK58)","v":0}]
[null,null,null,null,null,null,null,null,null,null,null,null,null,null,null,null,null,null,null,null,null,null,null,null,null,null,null,null,null,null,null,null,null,null,null,null,null,null,null,null,{"$f":"IF(AN58<>\"\",AN58-AQ58,0)","v":0},"!",{"$f":"SUM(BD60,BH61,BH56,BB57)","v":0},null,null,null,null,null,null,null,null,null,null,{"$f":"CHOOSE(1,8,\"TURN\",12,BF59,BB57,BB54)","v":8},{"$f":"CHOOSE(1,\"$\",\"TURN\",11,BF59,BC57,BC54)","v":"$"},{"$f":"CHOOSE(1,\"9\",\"TURN\",10,BF59,BD57,BD54)","v":"9"},{"$f":"CHOOSE(1,\"M\",\"TURN\",9,BF59,BE57,BE54)","v":"M"},null,{"$f":"CHOOSE(1,\"N\",\"TURN\",5,BF59,BH58,BK58)","v":"N"},0,{"$f":"BH58/BW58","v":{"$error":"#DIV/0!"}},"N",{"$f":"BQ67","v":0},{"$f":"BK58/BW57","v":{"$error":"#DIV/0!"}},"-",null,null,null,null,null,null,null,null,"!",{"$f":"SUM(BH55:BH58)","v":0}]
[null,null,null,null,null,null,null,null,null,null,null,null,null,null,null,null,null,null,null,null,null,null,null,null,null,null,null,null,null,null,null,null,null,null,null,null,null,null,null,null,null,null,null,null,null,null,null,null,null,null,null,null,null,null,null,null,null,1]
[null,null,null,null,null,null,null,null,null,null,null,null,null,null,null,null,null,null,null,null,null,null,null,null,null,null,null,null,null,null,null,null,null,null,null,null,null,null,null,null,{"$f":"SUM(BD60:BD63)","v":0},"\"",null,null,null,null,null,null,"Main Ave",null,{"$f":"RNSE(BA60,BD60)","v":"-"},{"$f":"BA60/AO61","v":{"$error":"#DIV/0!"}},{"$f":"BS69","v":0},"O",{"$f":"BD60/AO60","v":{"$error":"#DIV/0!"}},0,{"$f":"CHOOSE(1,\"O\",\"TURN\",13,BF59,BD60,BA60)","v":"O"},null,{"$f":"CHOOSE(1,\"L\",\"TURN\",1,BF59,BG61,BG64)","v":"L"},{"$f":"CHOOSE(1,\":\",\"TURN\",2,BF59,BH61,BH64)","v":":"},{"$f":"CHOOSE(1,\"#\",\"TURN\",3,BF59,BI61,BI64)","v":"#"},{"$f":"CHOOSE(1,\";\",\"TURN\",4,BF59,BJ61,BJ64)","v":";"},null,null,null,null,null,null,null,null,null,null,{"$f":"SUM(BH58,BD57,BD62,BJ61)","v":0},"\"",{"$f":"IF(BX60<>\"\",BX60-BU60,0)","v":0}]
[null,null,null,null,null,null,null,null,null,null,null,null,null,null,null,null,null,null,null,null,null,null,null,null,null,null,null,null,null,null,null,null,null,null,null,null,null,null,null,null,{"$f":"SUM(BA60:BA63)","v":0},"\"",null,null,null,null,null,null,null,null,"-",{"$f":"BA61/AO61","v":{"$error":"#DIV/0!"}},{"$f":"BR69","v":0},"=",{"$f":"BD61/AO60","v":{"$error":"#DIV/0!"}},0,{"$f":"CHOOSE(1,\"=\",\"TURN\",14,BF59,BD61,BA61)","v":"="},null,0,0,0,0,"raw",null,null,null,null,null,null,null,null,null,{"$f":"SUM(BK58,BD54,BA62,BJ64)","v":0},"\"",{"$f":"IF(BX61<>\"\",BX61-BU61,0)","v":0}]
[null,null,null,null,null,null,null,null,null,null,null,null,null,null,null,null,null,null,null,null,null,null,null,null,null,null,null,null,null,null,null,null,null,null,null,null,null,null,null,null,{"$f":"IF(AL61<>\"\",AVERAGE(AO61,AL61),AO61)","v":0},"target",null,null,null,null,null,null,null,null,"-",{"$f":"BA62/AO61","v":{"$error":"#DIV/0!"}},{"$f":"BQ69","v":0},"\"",{"$f":"BD62/AO60","v":{"$error":"#DIV/0!"}},0,{"$f":"CHOOSE(1,\"\"\"\",\"TURN\",15,BF59,BD62,BA62)","v":"\""},null,{"$f":"BG61/BG76","v":{"$error":"#DIV/0!"}},{"$f":"BH61/BG76","v":{"$error":"#DIV/0!"}},{"$f":"BI61/BG76","v":{"$error":"#DIV/0!"}},{"$f":"BJ61/BG76","v":{"$error":"#DIV/0!"}},"%",null,null,null,null,null,null,null,null,null,{"$f":"IF(BX61<>\"\",AVERAGE(BU61,BX61),BU61)","v":0},"target","imbal"]
[null,null,null,null,null,null,null,null,null,null,null,null,null,null,null,null,null,null,null,null,null,null,null,null,null,null,null,null,null,null,null,null,null,null,null,null,null,null,null,null,null,null,null,null,null,null,null,"",null,null,"-",{"$f":"BA63/AO61","v":{"$error":"#DIV/0!"}},{"$f":"BP69","v":0},"?",{"$f":"BD63/AO60","v":{"$error":"#DIV/0!"}},0,{"$f":"CHOOSE(1,\"?\",\"TURN\",16,BF59,BD63,BA63)","v":"?"},null,"L",":","#",";"]
[null,null,null,null,null,null,null,null,null,null,null,null,null,null,null,null,null,null,null,null,null,null,null,null,null,null,null,null,null,null,null,null,null,null,null,null,null,null,null,null,null,null,null,null,null,null,null,null,null,null,"RNSE","%","bal",null,"%","raw",null,null,{"$f":"BP66","v":0},{"$f":"BS66","v":0},{"$f":"BR66","v":0},{"$f":"BQ66","v":0},"bal",null,null,null,"Local OD Estimated"]
[null,null,null,null,null,null,null,null,null,null,null,null,null,null,null,null,null,null,null,null,null,null,null,null,null,null,null,null,null,null,null,null,null,null,null,null,null,null,null,null,null,null,null,null,null,null,null,null,null,null,null,null,null,null,null,null,null,null,{"$f":"BG64/BH76","v":{"$error":"#DIV/0!"}},{"$f":"BH64/BH76","v":{"$error":"#DIV/0!"}},{"$f":"BI64/BH76","v":{"$error":"#DIV/0!"}},{"$f":"BJ64/BH76","v":{"$error":"#DIV/0!"}},"%",null,null,null,{"$f":"\"local_od_est_\"&BF59","v":"local_od_est_1"},1,2,3,4,"est","tgt","err"]
[null,null,null,null,null,null,null,null,null,null,null,null,null,null,null,null,null,null,null,null,null,null,null,null,null,null,null,null,null,null,null,null,null,null,null,null,null,null,null,null,null,null,null,null,null,null,null,null,null,null,null,null,null,null,null,null,null,null,{"$f":"RNSE(BG64,BG61)","v":"-"},"-","-","-","RNSE",null,null,null,1,{"$f":"BP47","v":0},0,0,0,{"$f":"SUM(BP66:BS66)","v":0},{"$f":"BU47","v":0},{"$f":"IFERROR(ABS(BT66-BU66)/BU66,0)","v":0}]
[null,null,null,null,null,null,null,null,null,null,null,null,null,null,null,null,null,null,null,null,null,null,null,null,null,null,null,null,null,null,null,null,null,null,null,null,null,null,null,null,null,null,null,null,null,null,null,null,null,null,null,null,null,null,null,null,null,null,null,null,null,null,null,null,null,null,2,0,0,0,0,{"$f":"SUM(BP67:BS67)","v":0},0,{"$f":"IFERROR(ABS(BT67-BU67)/BU67,0)","v":0}]
[null,null,null,null,null,null,null,null,null,null,null,null,null,null,null,null,null,null,null,null,null,null,null,null,null,null,null,null,null,null,null,null,null,null,null,null,null,null,null,null,null,null,null,null,null,null,null,null,null,null,null,null,null,null,null,null,null,null,null,null,null,null,null,null,null,null,3,0,0,0,0,0,0,0]
[null,null,null,null,null,null,null,null,null,null,null,null,null,null,null,null,null,null,null,null,null,null,null,null,null,null,null,null,null,null,null,null,null,null,null,null,null,null,null,null,null,null,null,null,null,null,null,null,null,null,null,null,null,null,null,null,null,null,null,null,null,"",null,null,null,null,4,0,0,0,0,0,0,0]
[null,null,null,null,null,null,null,null,null,null,null,null,null,null,null,null,null,null,null,null,null,null,null,null,null,null,null,null,null,null,null,null,null,null,null,null,null,null,null,null,null,null,null,null,null,null,null,null,null,null,null,null,null,null,null,null,null,null,null,null,null,null,null,null,null,null,"est",{"$f":"SUM(BP66:BP69)","v":0},{"$f":"SUM(BQ66:BQ69)","v":0},{"$f":"SUM(BR66:BR69)","v":0},{"$f":"SUM(BS66:BS69)","v":0}]
[null,null,null,null,null,null,null,null,null,null,null,null,null,null,null,null,null,null,null,null,null,null,null,null,null,null,null,null,null,null,null,null,null,null,null,null,null,null,null,null,null,null,null,null,null,null,null,null,null,null,null,null,null,null,null,null,null,null,null,null,null,null,null,null,null,null,"tgt",{"$f":"BP52","v":0},0,0,0]
[null,null,null,null,null,null,null,null,null,null,null,null,null,null,null,null,null,null,null,null,null,null,null,null,null,null,null,null,null,null,null,null,null,null,null,null,null,null,null,null,null,null,null,null,null,null,null,null,null,null,null,null,null,null,null,null,null,null,null,null,null,null,null,null,null,null,"err",{"$f":"IFERROR(ABS(BP70-BP71)/BP71,0)","v":0},{"$f":"IFERROR(ABS(BQ70-BQ71)/BQ71,0)","v":0},{"$f":"IFERROR(ABS(BR70-BR71)/BR71,0)","v":0},{"$f":"IFERROR(ABS(BS70-BS71)/BS71,0)","v":0},null,null,{"$f":"SUM(BP72:BS72,BV66:BV69)","v":0}]
[]
[null,null,null,null,null,null,null,null,null,null,null,null,null,null,null,null,null,null,null,null,null,null,null,null,null,null,null,null,null,null,null,null,null,null,null,null,null,null,null,null,null,null,null,null,null,null,null,null,null,null,null,null,null,null,{"$f":"IF(BD77<>\"\",AVERAGE(BD74,BD77),BD74)","v":0},{"$f":"SUM(BG64,BK57,BC54,BA63)","v":0},{"$f":"SUM(BG61,BH57,BC57,BD63)","v":0}]
[null,null,null,null,null,null,null,null,null,null,null,null,null,null,null,null,null,null,null,null,null,null,null,null,null,null,null,null,null,null,null,null,null,null,null,null,null,null,null,null,null,null,null,null,null,null,null,null,null,null,null,null,null,null,"target","$","$",null,"#","#","target"]
[null,null,null,null,null,null,null,null,null,null,null,null,null,null,null,null,null,null,null,null,null,null,null,null,null,null,null,null,null,null,null,null,null,null,null,null,null,null,null,null,null,null,null,null,null,null,null,null,null,null,null,null,null,null,"imbal",{"$f":"IF(BD77<>\"\",BD77-BD74,0)","v":0},{"$f":"IF(BE77<>\"\",BE77-BE74,0)","v":0},null,{"$f":"SUM(BG61:BJ61)","v":0},{"$f":"SUM(BG64:BJ64)","v":0},{"$f":"IF(BH79<>\"\",AVERAGE(BH76,BH79),BH76)","v":0}]

{"sheet":"3-Leg","index":1,"n_rows":190,"n_cols":75,"rows_kept":190,"cut":false,"hidden":false,"merged":[]}
[]
[]
[]
[]
[]
[]
[]
[]
[]
[]
[]
[]
[]
[]
[]
[]
[]
[]
[]
[]
[]
[]
[]
[]
[]
[]
[]
[]
[]
[]
[]
[]
[]
[]
[]
[]
[]
[]
[]
[]
[]
[null,null,null,null,null,null,null,null,null,null,null,null,null,null,null,null,null,null,null,null,null,null,null,null,null,null,null,null,null,null,null,null,null,null,null,null,null,null,null,null,null,null,null,null,null,null,null,null,null,null,null,null,null,null,{"$f":"IF(BD39<>\"\",AVERAGE(BD42,BD39),BD42)","v":0},{"$f":"SUM(BC54:BE54)","v":0},{"$f":"SUM(BC57:BE57)","v":0},null,{"$f":"IF(BG41<>\"\",BG41-BG44,0)","v":0},{"$f":"IF(BH41<>\"\",BH41-BH44,0)","v":0},"imbal"]
[null,null,null,null,null,null,null,null,null,null,null,null,null,null,null,null,null,null,null,null,null,null,null,null,null,null,null,null,null,null,null,null,null,null,null,null,null,null,null,null,null,null,null,null,null,null,null,null,null,null,null,null,null,null,"target","$","$",null,"#","#","target"]
[null,null,null,null,null,null,null,null,null,null,null,null,null,null,null,null,null,null,null,null,null,null,null,null,null,null,null,null,null,null,null,null,null,null,null,null,null,null,null,null,null,null,null,null,null,null,null,null,null,null,null,null,null,null,null,null,null,null,{"$f":"SUM(BE57,BD61,BH56)","v":0},{"$f":"SUM(BE54,BA61,BK56)","v":0},{"$f":"IF(BH41<>\"\",AVERAGE(BH44,BH41),BH44)","v":0}]
[null,null,null,null,null,null,null,null,null,null,null,null,null,null,null,null,null,null,null,null,null,null,null,null,null,null,null,null,null,null,null,null,null,null,null,null,null,null,null,null,null,null,null,{"$f":"CHOOSE(1,BF59&\":\",\"IX_NAME\",AS45)","v":"1:"},{"$f":"AW60&\" & \"&BE48","v":"Main Ave & Default St"},null,null,null,null,null,null,null,null,null,null,null,null,null,null,null,null,null,null,null,null,null,"Local OD Raw"]
[null,null,null,null,null,null,null,null,null,null,null,null,null,null,null,null,null,null,null,null,null,null,null,null,null,null,null,null,null,null,null,null,null,null,null,null,null,null,null,null,null,null,null,null,"Raw Count Date:",null,null,null,null,null,null,null,null,null,null,null,null,null,null,null,null,null,null,null,null,null,{"$f":"\"local_od_raw_\"&BF59","v":"local_od_raw_1"},2,3,4,"est","tgt","err"]
[null,null,null,null,null,null,null,null,null,null,null,null,null,null,null,null,null,null,null,null,null,null,null,null,null,null,null,null,null,null,null,null,null,null,null,null,null,null,null,null,null,null,null,null,null,null,null,null,null,null,null,null,null,null,null,null,null,null,null,null,null,null,null,null,null,null,2,{"$f":"BH58","v":0},{"$f":"BH56","v":0},{"$f":"BH57","v":0},{"$f":"SUM(BP47:BR47)","v":0},{"$f":"BW56","v":0},{"$f":"IFERROR(ABS(BS47-BT47)/BT47,0)","v":0}]
[null,null,null,null,null,null,null,null,null,null,null,null,null,null,null,null,null,null,null,null,null,null,null,null,null,null,null,null,null,null,null,null,null,null,null,null,null,null,null,null,null,null,null,null,null,null,null,null,null,null,null,null,null,null,null,null,"Default St",null,null,null,null,null,null,null,null,null,3,{"$f":"BD57","v":0},{"$f":"BE57","v":0},{"$f":"BC57","v":0},{"$f":"SUM(BP48:BR48)","v":0},{"$f":"BC42","v":0},0]
[null,null,null,null,null,null,null,null,null,null,null,null,null,null,null,null,null,null,null,null,null,null,null,null,null,null,null,null,null,null,null,null,null,null,null,null,null,null,null,null,null,null,null,null,null,null,null,null,null,null,null,null,null,"",null,null,null,null,null,null,null,null,null,null,null,null,4,{"$f":"BD62","v":0},{"$f":"BD61","v":0},{"$f":"BD60","v":0},{"$f":"SUM(BP49:BR49)","v":0},{"$f":"AO62","v":0},0]
[null,null,null,null,null,null,null,null,null,null,null,null,null,null,null,null,null,null,null,null,null,null,null,null,null,null,null,null,null,null,null,null,null,null,null,null,null,null,null,null,null,null,null,null,null,null,null,null,null,null,null,null,null,null,null,null,null,null,null,null,null,null,null,null,null,null,"est",{"$f":"SUM(BP47:BP49)","v":0},{"$f":"SUM(BQ47:BQ49)","v":0},{"$f":"SUM(BR47:BR49)","v":0}]
[null,null,null,null,null,null,null,null,null,null,null,null,null,null,null,null,null,null,null,null,null,null,null,null,null,null,null,null,null,null,null,null,null,null,null,null,null,null,null,null,null,null,null,null,null,null,null,null,null,null,null,null,null,null,null,null,null,null,null,null,null,null,null,null,null,null,"tgt",{"$f":"BU62","v":0},{"$f":"BI44","v":0},{"$f":"AQ56","v":0}]
[null,null,null,null,null,null,null,null,null,null,null,null,null,null,null,null,null,null,null,null,null,null,null,null,null,null,null,null,null,null,null,null,null,null,null,null,null,null,null,null,null,null,null,null,null,null,null,null,null,null,null,null,null,"RNSE",{"$f":"RNSE(BC54,BC57)","v":"-"},{"$f":"RNSE(BD54,BD57)","v":"-"},"-",null,null,null,null,null,null,null,null,null,"err",{"$f":"IFERROR(ABS(BP50-BP51)/BP51,0)","v":0},0,0,null,null,{"$f":"SUM(BP52:BR52,BU47:BU49)","v":0}]
[null,null,null,null,null,null,null,null,null,null,null,null,null,null,null,null,null,null,null,null,null,null,null,null,null,null,null,null,null,null,null,null,null,null,null,null,null,null,null,null,null,null,null,null,null,null,null,null,null,null,null,null,null,"%",{"$f":"BC54/BD42","v":{"$error":"#DIV/0!"}},{"$f":"BD54/BD42","v":{"$error":"#DIV/0!"}},{"$f":"BE54/BD42","v":{"$error":"#DIV/0!"}}]
[null,null,null,null,null,null,null,null,null,null,null,null,null,null,null,null,null,null,null,null,null,null,null,null,null,null,null,null,null,null,null,null,null,null,null,null,null,null,null,null,null,null,null,null,null,null,null,null,null,null,null,null,null,"bal",{"$f":"BR67","v":0},{"$f":"BP67","v":0},{"$f":"BQ67","v":0}]
[null,null,null,null,null,null,null,null,null,null,null,null,null,null,null,null,null,null,null,null,null,null,null,null,null,null,null,null,null,null,null,null,null,null,null,null,null,null,null,null,null,null,null,null,null,null,null,null,null,null,null,null,null,null,8,9,"M",null,null,"raw","%",null,"bal","%","RNSE",null,null,""]
[null,null,null,null,null,null,null,null,null,null,null,null,null,null,null,null,null,null,null,null,null,null,null,null,null,null,null,null,null,null,null,null,null,null,null,null,null,null,null,null,"imbal","target",{"$f":"IF(AN57<>\"\",AVERAGE(AQ57,AN57),AQ57)","v":0},null,null,null,null,null,null,null,null,null,null,"%",{"$f":"BC57/BE42","v":{"$error":"#DIV/0!"}},{"$f":"BD57/BE42","v":{"$error":"#DIV/0!"}},{"$f":"BE57/BE42","v":{"$error":"#DIV/0!"}},null,{"$f":"CHOOSE(1,\"<\",\"TURN\",8,BF59,BH56,BK56)","v":"<"},0,{"$f":"BH56/BW58","v":{"$error":"#DIV/0!"}},"<",{"$f":"BQ66","v":0},{"$f":"BK56/BW57","v":{"$error":"#DIV/0!"}},{"$f":"RNSE(BK56,BH56)","v":"-"},null,null,null,null,null,null,null,null,"target",{"$f":"IF(BZ57<>\"\",AVERAGE(BW57,BZ57),BW57)","v":0}]
[null,null,null,null,null,null,null,null,null,null,null,null,null,null,null,null,null,null,null,null,null,null,null,null,null,null,null,null,null,null,null,null,null,null,null,null,null,null,null,null,{"$f":"IF(AN57<>\"\",AN57-AQ57,0)","v":0},"!",{"$f":"SUM(BA60,BK57,BC54)","v":0},null,null,null,null,null,null,null,null,null,null,"raw",0,0,0,null,{"$f":"CHOOSE(1,\"!\",\"TURN\",7,BF59,BH57,BK57)","v":"!"},0,{"$f":"BH57/BW58","v":{"$error":"#DIV/0!"}},"!",{"$f":"BR66","v":0},{"$f":"BK57/BW57","v":{"$error":"#DIV/0!"}},{"$f":"RNSE(BK57,BH57)","v":"-"},null,null,null,null,null,null,null,null,"!",{"$f":"SUM(BK56:BK58)","v":0}]
[null,null,null,null,null,null,null,null,null,null,null,null,null,null,null,null,null,null,null,null,null,null,null,null,null,null,null,null,null,null,null,null,null,null,null,null,null,null,null,null,{"$f":"IF(AN58<>\"\",AN58-AQ58,0)","v":0},"!",{"$f":"SUM(BD60,BH61,BH57,BC57)","v":0},null,null,null,null,null,null,null,null,null,null,null,{"$f":"CHOOSE(1,8,\"TURN\",12,BF59,BC57,BC54)","v":8},{"$f":"CHOOSE(1,\"9\",\"TURN\",10,BF59,BD57,BD54)","v":"9"},{"$f":"CHOOSE(1,\"M\",\"TURN\",9,BF59,BE57,BE54)","v":"M"},null,{"$f":"CHOOSE(1,\"N\",\"TURN\",5,BF59,BH58,BK58)","v":"N"},0,{"$f":"BH58/BW58","v":{"$error":"#DIV/0!"}},"N",{"$f":"BP66","v":0},{"$f":"BK58/BW57","v":{"$error":"#DIV/0!"}},{"$f":"RNSE(BK58,BH58)","v":"-"},null,null,null,null,null,null,null,null,"!",{"$f":"SUM(BH56:BH58)","v":0}]
[null,null,null,null,null,null,null,null,null,null,null,null,null,null,null,null,null,null,null,null,null,null,null,null,null,null,null,null,null,null,null,null,null,null,null,null,null,null,null,null,null,null,null,null,null,null,null,null,null,null,null,null,null,null,null,null,null,1]
[null,null,null,null,null,null,null,null,null,null,null,null,null,null,null,null,null,null,null,null,null,null,null,null,null,null,null,null,null,null,null,null,null,null,null,null,null,null,null,null,{"$f":"SUM(BD60:BD62)","v":0},"\"",null,null,null,null,null,null,"Main Ave",null,{"$f":"RNSE(BA60,BD60)","v":"-"},{"$f":"BA60/AO61","v":{"$error":"#DIV/0!"}},{"$f":"BR68","v":0},"O",{"$f":"BD60/AO60","v":{"$error":"#DIV/0!"}},0,{"$f":"CHOOSE(1,\"O\",\"TURN\",13,BF59,BD60,BA60)","v":"O"},null,null,null,null,null,null,null,null,null,null,null,null,null,null,null,{"$f":"SUM(BH58,BD57,BD62)","v":0},"\"",{"$f":"IF(BX60<>\"\",BX60-BU60,0)","v":0}]
[null,null,null,null,null,null,null,null,null,null,null,null,null,null,null,null,null,null,null,null,null,null,null,null,null,null,null,null,null,null,null,null,null,null,null,null,null,null,null,null,{"$f":"SUM(BA60:BA62)","v":0},"\"",null,null,null,null,null,null,null,null,"-",{"$f":"BA61/AO61","v":{"$error":"#DIV/0!"}},{"$f":"BQ68","v":0},"=",{"$f":"BD61/AO60","v":{"$error":"#DIV/0!"}},0,{"$f":"CHOOSE(1,\"=\",\"TURN\",14,BF59,BD61,BA61)","v":"="},null,null,null,null,null,null,null,null,null,null,null,null,null,null,null,{"$f":"SUM(BK58,BD54,BA62)","v":0},"\"",{"$f":"IF(BX61<>\"\",BX61-BU61,0)","v":0}]
[null,null,null,null,null,null,null,null,null,null,null,null,null,null,null,null,null,null,null,null,null,null,null,null,null,null,null,null,null,null,null,null,null,null,null,null,null,null,null,null,{"$f":"IF(AL61<>\"\",AVERAGE(AO61,AL61),AO61)","v":0},"target",null,null,null,null,null,null,null,null,"-",{"$f":"BA62/AO61","v":{"$error":"#DIV/0!"}},{"$f":"BP68","v":0},"\"",{"$f":"BD62/AO60","v":{"$error":"#DIV/0!"}},0,{"$f":"CHOOSE(1,\"\"\"\",\"TURN\",15,BF59,BD62,BA62)","v":"\""},null,null,null,null,null,null,null,null,null,null,null,null,null,null,null,{"$f":"IF(BX61<>\"\",AVERAGE(BU61,BX61),BU61)","v":0},"target","imbal"]
[null,null,null,null,null,null,null,null,null,null,null,null,null,null,null,null,null,null,null,null,null,null,null,null,null,null,null,null,null,null,null,null,null,null,null,null,null,null,null,null,null,null,null,null,null,null,null,"",null,null,"RNSE","%","bal",null,"%","raw"]
[null,null,null,null,null,null,null,null,null,null,null,null,null,null,null,null,null,null,null,null,null,null,null,null,null,null,null,null,null,null,null,null,null,null,null,null,null,null,null,null,null,null,null,null,null,null,null,null,null,null,null,null,null,null,null,null,null,null,null,null,null,null,null,null,null,null,"Local OD Estimated"]
[null,null,null,null,null,null,null,null,null,null,null,null,null,null,null,null,null,null,null,null,null,null,null,null,null,null,null,null,null,null,null,null,null,null,null,null,null,null,null,null,null,null,null,null,null,null,null,null,null,null,null,null,null,null,null,null,null,null,null,null,null,null,null,null,null,null,{"$f":"\"local_od_est_\"&BF59","v":"local_od_est_1"},2,3,4,"est","tgt","err"]
[null,null,null,null,null,null,null,null,null,null,null,null,null,null,null,null,null,null,null,null,null,null,null,null,null,null,null,null,null,null,null,null,null,null,null,null,null,null,null,null,null,null,null,null,null,null,null,null,null,null,null,null,null,null,null,null,null,null,null,null,null,null,null,null,null,null,2,{"$f":"BP47","v":0},0,0,{"$f":"SUM(BP66:BR66)","v":0},{"$f":"BT47","v":0},{"$f":"IFERROR(ABS(BS66-BT66)/BT66,0)","v":0}]
[null,null,null,null,null,null,null,null,null,null,null,null,null,null,null,null,null,null,null,null,null,null,null,null,null,null,null,null,null,null,null,null,null,null,null,null,null,null,null,null,null,null,null,null,null,null,null,null,null,null,null,null,null,null,null,null,null,null,null,null,null,null,null,null,null,null,3,0,0,0,{"$f":"SUM(BP67:BR67)","v":0},{"$f":"BT48","v":0},0]
[null,null,null,null,null,null,null,null,null,null,null,null,null,null,null,null,null,null,null,null,null,null,null,null,null,null,null,null,null,null,null,null,null,null,null,null,null,null,null,null,null,null,null,null,null,null,null,null,null,null,null,null,null,null,null,null,null,null,null,null,null,null,null,null,null,null,4,0,0,0,{"$f":"SUM(BP68:BR68)","v":0},{"$f":"BT49","v":0},0]
[null,null,null,null,null,null,null,null,null,null,null,null,null,null,null,null,null,null,null,null,null,null,null,null,null,null,null,null,null,null,null,null,null,null,null,null,null,null,null,null,null,null,null,null,null,null,null,null,null,null,null,null,null,null,null,null,null,null,null,null,null,"",null,null,null,null,"est",{"$f":"SUM(BP66:BP68)","v":0},{"$f":"SUM(BQ66:BQ68)","v":0},{"$f":"SUM(BR66:BR68)","v":0}]
[null,null,null,null,null,null,null,null,null,null,null,null,null,null,null,null,null,null,null,null,null,null,null,null,null,null,null,null,null,null,null,null,null,null,null,null,null,null,null,null,null,null,null,null,null,null,null,null,null,null,null,null,null,null,null,null,null,null,null,null,null,null,null,null,null,null,"tgt",{"$f":"BP51","v":0},{"$f":"BQ51","v":0},{"$f":"BR51","v":0}]
[null,null,null,null,null,null,null,null,null,null,null,null,null,null,null,null,null,null,null,null,null,null,null,null,null,null,null,null,null,null,null,null,null,null,null,null,null,null,null,null,null,null,null,null,null,null,null,null,null,null,null,null,null,null,null,null,null,null,null,null,null,null,null,null,null,null,"err",{"$f":"IFERROR(ABS(BP69-BP70)/BP70,0)","v":0},0,0,null,null,{"$f":"SUM(BP71:BR71,BU66:BU68)","v":0}]
[]
[]
[]
[]
[]
[]
[]
[]
[null,null,null,null,null,null,null,null,null,null,null,null,null,null,null,null,null,null,null,null,null,null,null,null,null,null,null,null,null,null,null,null,null,null,null,null,null,null,null,null,null,null,null,null,null,null,null,null,null,null,null,null,null,null,{"$f":"IF(BD77<>\"\",AVERAGE(BD80,BD77),BD80)","v":0},{"$f":"SUM(BC92:BE92)","v":0},{"$f":"SUM(BC95:BE95)","v":0},null,{"$f":"IF(BG79<>\"\",BG79-BG82,0)","v":0},{"$f":"IF(BH79<>\"\",BH79-BH82,0)","v":0},"imbal"]
[null,null,null,null,null,null,null,null,null,null,null,null,null,null,null,null,null,null,null,null,null,null,null,null,null,null,null,null,null,null,null,null,null,null,null,null,null,null,null,null,null,null,null,null,null,null,null,null,null,null,null,null,null,null,"target","$","$",null,"#","#","target"]
[null,null,null,null,null,null,null,null,null,null,null,null,null,null,null,null,null,null,null,null,null,null,null,null,null,null,null,null,null,null,null,null,null,null,null,null,null,null,null,null,null,null,null,null,null,null,null,null,null,null,null,null,null,null,null,null,null,null,{"$f":"SUM(BE95,BD99,BI99)","v":0},{"$f":"SUM(BE92,BA99,BI102)","v":0},{"$f":"IF(BH79<>\"\",AVERAGE(BH82,BH79),BH82)","v":0}]
[null,null,null,null,null,null,null,null,null,null,null,null,null,null,null,null,null,null,null,null,null,null,null,null,null,null,null,null,null,null,null,null,null,null,null,null,null,null,null,null,null,null,null,{"$f":"CHOOSE(1,BF97&\":\",\"IX_NAME\",AS83)","v":"1:"},{"$f":"AW98&\" & \"&BE86","v":"Main Ave & Default St"},null,null,null,null,null,null,null,null,null,null,null,null,null,null,null,null,null,null,null,null,null,"Local OD Raw"]
[null,null,null,null,null,null,null,null,null,null,null,null,null,null,null,null,null,null,null,null,null,null,null,null,null,null,null,null,null,null,null,null,null,null,null,null,null,null,null,null,null,null,null,null,"Raw Count Date:",null,null,null,null,null,null,null,null,null,null,null,null,null,null,null,null,null,null,null,null,null,{"$f":"\"local_od_raw_\"&BF97","v":"local_od_raw_1"},1,3,4,"est","tgt","err"]
[null,null,null,null,null,null,null,null,null,null,null,null,null,null,null,null,null,null,null,null,null,null,null,null,null,null,null,null,null,null,null,null,null,null,null,null,null,null,null,null,null,null,null,null,null,null,null,null,null,null,null,null,null,null,null,null,null,null,null,null,null,null,null,null,null,null,1,{"$f":"BG99","v":0},{"$f":"BI99","v":0},{"$f":"BH99","v":0},{"$f":"SUM(BP85:BR85)","v":0},{"$f":"BI114","v":0},{"$f":"IFERROR(ABS(BS85-BT85)/BT85,0)","v":0}]
[null,null,null,null,null,null,null,null,null,null,null,null,null,null,null,null,null,null,null,null,null,null,null,null,null,null,null,null,null,null,null,null,null,null,null,null,null,null,null,null,null,null,null,null,null,null,null,null,null,null,null,null,null,null,null,null,"Default St",null,null,null,null,null,null,null,null,null,3,{"$f":"BD95","v":0},{"$f":"BE95","v":0},{"$f":"BC95","v":0},{"$f":"SUM(BP86:BR86)","v":0},{"$f":"BC80","v":0},{"$f":"IFERROR(ABS(BS86-BT86)/BT86,0)","v":0}]
[null,null,null,null,null,null,null,null,null,null,null,null,null,null,null,null,null,null,null,null,null,null,null,null,null,null,null,null,null,null,null,null,null,null,null,null,null,null,null,null,null,null,null,null,null,null,null,null,null,null,null,null,null,"",null,null,null,null,null,null,null,null,null,null,null,null,4,{"$f":"BD100","v":0},{"$f":"BD99","v":0},{"$f":"BD98","v":0},{"$f":"SUM(BP87:BR87)","v":0},{"$f":"AO100","v":0},0]
[null,null,null,null,null,null,null,null,null,null,null,null,null,null,null,null,null,null,null,null,null,null,null,null,null,null,null,null,null,null,null,null,null,null,null,null,null,null,null,null,null,null,null,null,null,null,null,null,null,null,null,null,null,null,null,null,null,null,null,null,null,null,null,null,null,null,"est",{"$f":"SUM(BP85:BP87)","v":0},{"$f":"SUM(BQ85:BQ87)","v":0},{"$f":"SUM(BR85:BR87)","v":0}]
[null,null,null,null,null,null,null,null,null,null,null,null,null,null,null,null,null,null,null,null,null,null,null,null,null,null,null,null,null,null,null,null,null,null,null,null,null,null,null,null,null,null,null,null,null,null,null,null,null,null,null,null,null,null,null,null,null,null,null,null,null,null,null,null,null,null,"tgt",{"$f":"BC112","v":0},{"$f":"BI82","v":0},{"$f":"AQ94","v":0}]
[null,null,null,null,null,null,null,null,null,null,null,null,null,null,null,null,null,null,null,null,null,null,null,null,null,null,null,null,null,null,null,null,null,null,null,null,null,null,null,null,null,null,null,null,null,null,null,null,null,null,null,null,null,"RNSE",{"$f":"RNSE(BC92,BC95)","v":"-"},{"$f":"RNSE(BD92,BD95)","v":"-"},{"$f":"RNSE(BE92,BE95)","v":"-"},null,null,null,null,null,null,null,null,null,"err",{"$f":"IFERROR(ABS(BP88-BP89)/BP89,0)","v":0},{"$f":"IFERROR(ABS(BQ88-BQ89)/BQ89,0)","v":0},0,null,null,{"$f":"SUM(BP90:BR90,BU85:BU87)","v":0}]
[null,null,null,null,null,null,null,null,null,null,null,null,null,null,null,null,null,null,null,null,null,null,null,null,null,null,null,null,null,null,null,null,null,null,null,null,null,null,null,null,null,null,null,null,null,null,null,null,null,null,null,null,null,"%",{"$f":"BC92/BD80","v":{"$error":"#DIV/0!"}},{"$f":"BD92/BD80","v":{"$error":"#DIV/0!"}},{"$f":"BE92/BD80","v":{"$error":"#DIV/0!"}}]
[null,null,null,null,null,null,null,null,null,null,null,null,null,null,null,null,null,null,null,null,null,null,null,null,null,null,null,null,null,null,null,null,null,null,null,null,null,null,null,null,null,null,null,null,null,null,null,null,null,null,null,null,null,"bal",{"$f":"BR105","v":0},{"$f":"BP105","v":0},{"$f":"BQ105","v":0}]
[null,null,null,null,null,null,null,null,null,null,null,null,null,null,null,null,null,null,null,null,null,null,null,null,null,null,null,null,null,null,null,null,null,null,null,null,null,null,null,null,null,null,null,null,null,null,null,null,null,null,null,null,null,null,8,"$","M",null,null,null,null,null,null,null,null,null,null,""]
[null,null,null,null,null,null,null,null,null,null,null,null,null,null,null,null,null,null,null,null,null,null,null,null,null,null,null,null,null,null,null,null,null,null,null,null,null,null,null,null,"imbal","target",{"$f":"IF(AN95<>\"\",AVERAGE(AQ95,AN95),AQ95)","v":0},null,null,null,null,null,null,null,null,null,null,"%",{"$f":"BC95/BE80","v":{"$error":"#DIV/0!"}},{"$f":"BD95/BE80","v":{"$error":"#DIV/0!"}},{"$f":"BE95/BE80","v":{"$error":"#DIV/0!"}}]
[null,null,null,null,null,null,null,null,null,null,null,null,null,null,null,null,null,null,null,null,null,null,null,null,null,null,null,null,null,null,null,null,null,null,null,null,null,null,null,null,{"$f":"IF(AN95<>\"\",AN95-AQ95,0)","v":0},"!",{"$f":"SUM(BA98,BH102,BC92)","v":0},null,null,null,null,null,null,null,null,null,null,"raw",0,0,0]
[null,null,null,null,null,null,null,null,null,null,null,null,null,null,null,null,null,null,null,null,null,null,null,null,null,null,null,null,null,null,null,null,null,null,null,null,null,null,null,null,{"$f":"IF(AN96<>\"\",AN96-AQ96,0)","v":0},"!",{"$f":"SUM(BD98,BH99,BC95)","v":0},null,null,null,null,null,null,null,null,null,null,null,{"$f":"CHOOSE(1,8,\"TURN\",12,BF97,BC95,BC92)","v":8},{"$f":"CHOOSE(1,\"$\",\"TURN\",11,BF97,BD95,BD92)","v":"$"},{"$f":"CHOOSE(1,\"M\",\"TURN\",9,BF97,BE95,BE92)","v":"M"}]
[null,null,null,null,null,null,null,null,null,null,null,null,null,null,null,null,null,null,null,null,null,null,null,null,null,null,null,null,null,null,null,null,null,null,null,null,null,null,null,null,null,null,null,null,null,null,null,null,null,null,null,null,null,null,null,null,null,1]
[null,null,null,null,null,null,null,null,null,null,null,null,null,null,null,null,null,null,null,null,null,null,null,null,null,null,null,null,null,null,null,null,null,null,null,null,null,null,null,null,{"$f":"SUM(BD98:BD100)","v":0},"\"",null,null,null,null,null,null,"Main Ave",null,{"$f":"RNSE(BA98,BD98)","v":"-"},{"$f":"BA98/AO99","v":{"$error":"#DIV/0!"}},{"$f":"BR106","v":0},"O",{"$f":"BD98/AO98","v":{"$error":"#DIV/0!"}},0,{"$f":"CHOOSE(1,\"O\",\"TURN\",13,BF97,BD98,BA98)","v":"O"},null,{"$f":"CHOOSE(1,\"L\",\"TURN\",1,BF97,BG99,BG102)","v":"L"},{"$f":"CHOOSE(1,\":\",\"TURN\",2,BF97,BH99,BH102)","v":":"},{"$f":"CHOOSE(1,\"#\",\"TURN\",3,BF97,BI99,BI102)","v":"#"}]
[null,null,null,null,null,null,null,null,null,null,null,null,null,null,null,null,null,null,null,null,null,null,null,null,null,null,null,null,null,null,null,null,null,null,null,null,null,null,null,null,{"$f":"SUM(BA98:BA100)","v":0},"\"",null,null,null,null,null,null,null,null,"-",{"$f":"BA99/AO99","v":{"$error":"#DIV/0!"}},{"$f":"BQ106","v":0},"=",{"$f":"BD99/AO98","v":{"$error":"#DIV/0!"}},0,{"$f":"CHOOSE(1,\"=\",\"TURN\",14,BF97,BD99,BA99)","v":"="},null,0,0,0,"raw"]
[null,null,null,null,null,null,null,null,null,null,null,null,null,null,null,null,null,null,null,null,null,null,null,null,null,null,null,null,null,null,null,null,null,null,null,null,null,null,null,null,{"$f":"IF(AL99<>\"\",AVERAGE(AO99,AL99),AO99)","v":0},"target",null,null,null,null,null,null,null,null,{"$f":"RNSE(BA100,BD100)","v":"-"},{"$f":"BA100/AO99","v":{"$error":"#DIV/0!"}},{"$f":"BP106","v":0},"?",{"$f":"BD100/AO98","v":{"$error":"#DIV/0!"}},0,{"$f":"CHOOSE(1,\"?\",\"TURN\",16,BF97,BD100,BA100)","v":"?"},null,{"$f":"BG99/BG114","v":{"$error":"#DIV/0!"}},{"$f":"BH99/BG114","v":{"$error":"#DIV/0!"}},{"$f":"BI99/BG114","v":{"$error":"#DIV/0!"}},"%"]
[null,null,null,null,null,null,null,null,null,null,null,null,null,null,null,null,null,null,null,null,null,null,null,null,null,null,null,null,null,null,null,null,null,null,null,null,null,null,null,null,null,null,null,null,null,null,null,"",null,null,"RNSE","%","bal",null,"%","raw",null,null,"L",":","#"]
[null,null,null,null,null,null,null,null,null,null,null,null,null,null,null,null,null,null,null,null,null,null,null,null,null,null,null,null,null,null,null,null,null,null,null,null,null,null,null,null,null,null,null,null,null,null,null,null,null,null,null,null,null,null,null,null,null,null,{"$f":"BP104","v":0},{"$f":"BR104","v":0},{"$f":"BQ104","v":0},"bal",null,null,null,null,"Local OD Estimated"]
[null,null,null,null,null,null,null,null,null,null,null,null,null,null,null,null,null,null,null,null,null,null,null,null,null,null,null,null,null,null,null,null,null,null,null,null,null,null,null,null,null,null,null,null,null,null,null,null,null,null,null,null,null,null,null,null,null,null,{"$f":"BG102/BH114","v":{"$error":"#DIV/0!"}},{"$f":"BH102/BH114","v":{"$error":"#DIV/0!"}},{"$f":"BI102/BH114","v":{"$error":"#DIV/0!"}},"%",null,null,null,null,{"$f":"\"local_od_est_\"&BF97","v":"local_od_est_1"},1,3,4,"est","tgt","err"]
[null,null,null,null,null,null,null,null,null,null,null,null,null,null,null,null,null,null,null,null,null,null,null,null,null,null,null,null,null,null,null,null,null,null,null,null,null,null,null,null,null,null,null,null,null,null,null,null,null,null,null,null,null,null,null,null,null,null,{"$f":"RNSE(BG102,BG99)","v":"-"},"-","-","RNSE",null,null,null,null,1,{"$f":"BP85","v":0},{"$f":"BQ85","v":0},0,{"$f":"SUM(BP104:BR104)","v":0},{"$f":"BT85","v":0},{"$f":"IFERROR(ABS(BS104-BT104)/BT104,0)","v":0}]
[null,null,null,null,null,null,null,null,null,null,null,null,null,null,null,null,null,null,null,null,null,null,null,null,null,null,null,null,null,null,null,null,null,null,null,null,null,null,null,null,null,null,null,null,null,null,null,null,null,null,null,null,null,null,null,null,null,null,null,null,null,null,null,null,null,null,3,{"$f":"BP86","v":0},0,0,{"$f":"SUM(BP105:BR105)","v":0},{"$f":"BT86","v":0},{"$f":"IFERROR(ABS(BS105-BT105)/BT105,0)","v":0}]
[null,null,null,null,null,null,null,null,null,null,null,null,null,null,null,null,null,null,null,null,null,null,null,null,null,null,null,null,null,null,null,null,null,null,null,null,null,null,null,null,null,null,null,null,null,null,null,null,null,null,null,null,null,null,null,null,null,null,null,null,null,null,null,null,null,null,4,{"$f":"BP87","v":0},0,0,{"$f":"SUM(BP106:BR106)","v":0},{"$f":"BT87","v":0},0]
[null,null,null,null,null,null,null,null,null,null,null,null,null,null,null,null,null,null,null,null,null,null,null,null,null,null,null,null,null,null,null,null,null,null,null,null,null,null,null,null,null,null,null,null,null,null,null,null,null,null,null,null,null,null,null,null,null,null,null,null,null,"",null,null,null,null,"est",{"$f":"SUM(BP104:BP106)","v":0},{"$f":"SUM(BQ104:BQ106)","v":0},{"$f":"SUM(BR104:BR106)","v":0}]
[null,null,null,null,null,null,null,null,null,null,null,null,null,null,null,null,null,null,null,null,null,null,null,null,null,null,null,null,null,null,null,null,null,null,null,null,null,null,null,null,null,null,null,null,null,null,null,null,null,null,null,null,null,null,null,null,null,null,null,null,null,null,null,null,null,null,"tgt",{"$f":"BP89","v":0},{"$f":"BQ89","v":0},{"$f":"BR89","v":0}]
[null,null,null,null,null,null,null,null,null,null,null,null,null,null,null,null,null,null,null,null,null,null,null,null,null,null,null,null,null,null,null,null,null,null,null,null,null,null,null,null,null,null,null,null,null,null,null,null,null,null,null,null,null,null,null,null,null,null,null,null,null,null,null,null,null,null,"err",{"$f":"IFERROR(ABS(BP107-BP108)/BP108,0)","v":0},{"$f":"IFERROR(ABS(BQ107-BQ108)/BQ108,0)","v":0},0,null,null,{"$f":"SUM(BP109:BR109,BU104:BU106)","v":0}]
[]
[]
[null,null,null,null,null,null,null,null,null,null,null,null,null,null,null,null,null,null,null,null,null,null,null,null,null,null,null,null,null,null,null,null,null,null,null,null,null,null,null,null,null,null,null,null,null,null,null,null,null,null,null,null,null,null,{"$f":"IF(BD115<>\"\",AVERAGE(BD112,BD115),BD112)","v":0},{"$f":"SUM(BG102,BD92,BA100)","v":0},{"$f":"SUM(BG99,BD95,BD100)","v":0}]
[null,null,null,null,null,null,null,null,null,null,null,null,null,null,null,null,null,null,null,null,null,null,null,null,null,null,null,null,null,null,null,null,null,null,null,null,null,null,null,null,null,null,null,null,null,null,null,null,null,null,null,null,null,null,"target","$","$",null,"#","#","target"]
[null,null,null,null,null,null,null,null,null,null,null,null,null,null,null,null,null,null,null,null,null,null,null,null,null,null,null,null,null,null,null,null,null,null,null,null,null,null,null,null,null,null,null,null,null,null,null,null,null,null,null,null,null,null,"imbal",{"$f":"IF(BD115<>\"\",BD115-BD112,0)","v":0},{"$f":"IF(BE115<>\"\",BE115-BE112,0)","v":0},null,{"$f":"SUM(BG99:BI99)","v":0},{"$f":"SUM(BG102:BI102)","v":0},{"$f":"IF(BH117<>\"\",AVERAGE(BH114,BH117),BH114)","v":0}]
[]
[]
[]
[]
[]
[]
[null,null,null,null,null,null,null,null,null,null,null,null,null,null,null,null,null,null,null,null,null,null,null,null,null,null,null,null,null,null,null,null,null,null,null,null,null,null,null,null,null,null,null,{"$f":"CHOOSE(1,BF135&\":\",\"IX_NAME\",AS121)","v":"1:"},{"$f":"AW136&\" & \"&BE145","v":"Main Ave & Default St"},null,null,null,null,null,null,null,null,null,null,null,null,null,null,null,null,null,null,null,null,null,"Local OD Raw"]
[null,null,null,null,null,null,null,null,null,null,null,null,null,null,null,null,null,null,null,null,null,null,null,null,null,null,null,null,null,null,null,null,null,null,null,null,null,null,null,null,null,null,null,null,"Raw Count Date:",null,null,null,null,null,null,null,null,null,null,null,null,null,null,null,null,null,null,null,null,null,{"$f":"\"local_od_raw_\"&BF135","v":"local_od_raw_1"},1,2,4,"est","tgt","err"]
[null,null,null,null,null,null,null,null,null,null,null,null,null,null,null,null,null,null,null,null,null,null,null,null,null,null,null,null,null,null,null,null,null,null,null,null,null,null,null,null,null,null,null,null,null,null,null,null,null,null,null,null,null,null,null,null,null,null,null,null,null,null,null,null,null,null,1,{"$f":"BG137","v":0},{"$f":"BI137","v":0},{"$f":"BH137","v":0},{"$f":"SUM(BP123:BR123)","v":0},{"$f":"BI152","v":0},{"$f":"IFERROR(ABS(BS123-BT123)/BT123,0)","v":0}]
[null,null,null,null,null,null,null,null,null,null,null,null,null,null,null,null,null,null,null,null,null,null,null,null,null,null,null,null,null,null,null,null,null,null,null,null,null,null,null,null,null,null,null,null,null,null,null,null,null,null,null,null,null,null,null,null,null,null,null,null,null,null,null,null,null,null,2,{"$f":"BH133","v":0},{"$f":"BH134","v":0},{"$f":"BH132","v":0},{"$f":"SUM(BP124:BR124)","v":0},{"$f":"BW132","v":0},{"$f":"IFERROR(ABS(BS124-BT124)/BT124,0)","v":0}]
[null,null,null,null,null,null,null,null,null,null,null,null,null,null,null,null,null,null,null,null,null,null,null,null,null,null,null,null,null,null,null,null,null,null,null,null,null,null,null,null,null,null,null,null,null,null,null,null,null,null,null,null,null,"",null,null,null,null,null,null,null,null,null,null,null,null,4,{"$f":"BD138","v":0},{"$f":"BD137","v":0},{"$f":"BD136","v":0},{"$f":"SUM(BP125:BR125)","v":0},{"$f":"AO138","v":0},{"$f":"IFERROR(ABS(BS125-BT125)/BT125,0)","v":0}]
[null,null,null,null,null,null,null,null,null,null,null,null,null,null,null,null,null,null,null,null,null,null,null,null,null,null,null,null,null,null,null,null,null,null,null,null,null,null,null,null,null,null,null,null,null,null,null,null,null,null,null,null,null,null,null,null,null,null,null,null,null,null,null,null,null,null,"est",{"$f":"SUM(BP123:BP125)","v":0},{"$f":"SUM(BQ123:BQ125)","v":0},{"$f":"SUM(BR123:BR125)","v":0}]
[null,null,null,null,null,null,null,null,null,null,null,null,null,null,null,null,null,null,null,null,null,null,null,null,null,null,null,null,null,null,null,null,null,null,null,null,null,null,null,null,null,null,null,null,null,null,null,null,null,null,null,null,null,null,null,null,null,null,null,null,null,null,null,null,null,null,"tgt",{"$f":"BC150","v":0},{"$f":"BU138","v":0},{"$f":"AQ132","v":0}]
[null,null,null,null,null,null,null,null,null,null,null,null,null,null,null,null,null,null,null,null,null,null,null,null,null,null,null,null,null,null,null,null,null,null,null,null,null,null,null,null,null,null,null,null,null,null,null,null,null,null,null,null,null,null,null,null,null,null,null,null,null,null,null,null,null,null,"err",{"$f":"IFERROR(ABS(BP126-BP127)/BP127,0)","v":0},{"$f":"IFERROR(ABS(BQ126-BQ127)/BQ127,0)","v":0},{"$f":"IFERROR(ABS(BR126-BR127)/BR127,0)","v":0},null,null,{"$f":"SUM(BP128:BR128,BU123:BU125)","v":0}]
[]
[]
[null,null,null,null,null,null,null,null,null,null,null,null,null,null,null,null,null,null,null,null,null,null,null,null,null,null,null,null,null,null,null,null,null,null,null,null,null,null,null,null,null,null,null,null,null,null,null,null,null,null,null,null,null,null,null,null,null,null,null,"raw","%",null,"bal","%","RNSE",null,null,""]
[null,null,null,null,null,null,null,null,null,null,null,null,null,null,null,null,null,null,null,null,null,null,null,null,null,null,null,null,null,null,null,null,null,null,null,null,null,null,null,null,"imbal","target",{"$f":"IF(AN133<>\"\",AVERAGE(AQ133,AN133),AQ133)","v":0},null,null,null,null,null,null,null,null,null,null,null,null,null,null,null,{"$f":"CHOOSE(1,\"!\",\"TURN\",7,BF135,BH132,BK132)","v":"!"},0,{"$f":"BH132/BW134","v":{"$error":"#DIV/0!"}},"!",{"$f":"BR143","v":0},{"$f":"BK132/BW133","v":{"$error":"#DIV/0!"}},{"$f":"RNSE(BK132,BH132)","v":"-"},null,null,null,null,null,null,null,null,"target",{"$f":"IF(BZ133<>\"\",AVERAGE(BW133,BZ133),BW133)","v":0}]
[null,null,null,null,null,null,null,null,null,null,null,null,null,null,null,null,null,null,null,null,null,null,null,null,null,null,null,null,null,null,null,null,null,null,null,null,null,null,null,null,{"$f":"IF(AN133<>\"\",AN133-AQ133,0)","v":0},"!",{"$f":"SUM(BA136,BH140,BK132)","v":0},null,null,null,null,null,null,null,null,null,null,null,null,null,null,null,{"$f":"CHOOSE(1,\">\",\"TURN\",6,BF135,BH133,BK133)","v":">"},0,{"$f":"BH133/BW134","v":{"$error":"#DIV/0!"}},">",{"$f":"BP143","v":0},{"$f":"BK133/BW133","v":{"$error":"#DIV/0!"}},"-",null,null,null,null,null,null,null,null,"!",{"$f":"SUM(BK132:BK134)","v":0}]
[null,null,null,null,null,null,null,null,null,null,null,null,null,null,null,null,null,null,null,null,null,null,null,null,null,null,null,null,null,null,null,null,null,null,null,null,null,null,null,null,{"$f":"IF(AN134<>\"\",AN134-AQ134,0)","v":0},"!",{"$f":"SUM(BD136,BH137,BH132)","v":0},null,null,null,null,null,null,null,null,null,null,null,null,null,null,null,{"$f":"CHOOSE(1,\"N\",\"TURN\",5,BF135,BH134,BK134)","v":"N"},0,{"$f":"BH134/BW134","v":{"$error":"#DIV/0!"}},"N",{"$f":"BQ143","v":0},{"$f":"BK134/BW133","v":{"$error":"#DIV/0!"}},"-",null,null,null,null,null,null,null,null,"!",{"$f":"SUM(BH132:BH134)","v":0}]
[null,null,null,null,null,null,null,null,null,null,null,null,null,null,null,null,null,null,null,null,null,null,null,null,null,null,null,null,null,null,null,null,null,null,null,null,null,null,null,null,null,null,null,null,null,null,null,null,null,null,null,null,null,null,null,null,null,1]
[null,null,null,null,null,null,null,null,null,null,null,null,null,null,null,null,null,null,null,null,null,null,null,null,null,null,null,null,null,null,null,null,null,null,null,null,null,null,null,null,{"$f":"SUM(BD136:BD138)","v":0},"\"",null,null,null,null,null,null,"Main Ave",null,{"$f":"RNSE(BA136,BD136)","v":"-"},{"$f":"BA136/AO137","v":{"$error":"#DIV/0!"}},{"$f":"BR144","v":0},"O",{"$f":"BD136/AO136","v":{"$error":"#DIV/0!"}},0,{"$f":"CHOOSE(1,\"O\",\"TURN\",13,BF135,BD136,BA136)","v":"O"},null,{"$f":"CHOOSE(1,\"L\",\"TURN\",1,BF135,BG137,BG140)","v":"L"},{"$f":"CHOOSE(1,\":\",\"TURN\",2,BF135,BH137,BH140)","v":":"},{"$f":"CHOOSE(1,\";\",\"TURN\",4,BF135,BI137,BI140)","v":";"},null,null,null,null,null,null,null,null,null,null,null,{"$f":"SUM(BH134,BD137,BI137)","v":0},"\"",{"$f":"IF(BX136<>\"\",BX136-BU136,0)","v":0}]
[null,null,null,null,null,null,null,null,null,null,null,null,null,null,null,null,null,null,null,null,null,null,null,null,null,null,null,null,null,null,null,null,null,null,null,null,null,null,null,null,{"$f":"SUM(BA136:BA138)","v":0},"\"",null,null,null,null,null,null,null,null,{"$f":"RNSE(BA137,BD137)","v":"-"},{"$f":"BA137/AO137","v":{"$error":"#DIV/0!"}},{"$f":"BQ144","v":0},"\"",{"$f":"BD137/AO136","v":{"$error":"#DIV/0!"}},0,{"$f":"CHOOSE(1,\"\"\"\",\"TURN\",15,BF135,BD137,BA137)","v":"\""},null,0,0,0,"raw",null,null,null,null,null,null,null,null,null,null,{"$f":"SUM(BK134,BA137,BI140)","v":0},"\"",{"$f":"IF(BX137<>\"\",BX137-BU137,0)","v":0}]
[null,null,null,null,null,null,null,null,null,null,null,null,null,null,null,null,null,null,null,null,null,null,null,null,null,null,null,null,null,null,null,null,null,null,null,null,null,null,null,null,{"$f":"IF(AL137<>\"\",AVERAGE(AO137,AL137),AO137)","v":0},"target",null,null,null,null,null,null,null,null,{"$f":"RNSE(BA138,BD138)","v":"-"},{"$f":"BA138/AO137","v":{"$error":"#DIV/0!"}},{"$f":"BP144","v":0},"?",{"$f":"BD138/AO136","v":{"$error":"#DIV/0!"}},0,{"$f":"CHOOSE(1,\"?\",\"TURN\",16,BF135,BD138,BA138)","v":"?"},null,{"$f":"BG137/BG152","v":{"$error":"#DIV/0!"}},{"$f":"BH137/BG152","v":{"$error":"#DIV/0!"}},{"$f":"BI137/BG152","v":{"$error":"#DIV/0!"}},"%",null,null,null,null,null,null,null,null,null,null,{"$f":"IF(BX137<>\"\",AVERAGE(BU137,BX137),BU137)","v":0},"target","imbal"]
[null,null,null,null,null,null,null,null,null,null,null,null,null,null,null,null,null,null,null,null,null,null,null,null,null,null,null,null,null,null,null,null,null,null,null,null,null,null,null,null,null,null,null,null,null,null,null,"",null,null,"RNSE","%","bal",null,"%","raw",null,null,"L",":",";"]
[null,null,null,null,null,null,null,null,null,null,null,null,null,null,null,null,null,null,null,null,null,null,null,null,null,null,null,null,null,null,null,null,null,null,null,null,null,null,null,null,null,null,null,null,null,null,null,null,null,null,null,null,null,null,null,null,null,null,{"$f":"BP142","v":0},{"$f":"BR142","v":0},{"$f":"BQ142","v":0},"bal",null,null,null,null,"Local OD Estimated"]
[null,null,null,null,null,null,null,null,null,null,null,null,null,null,null,null,null,null,null,null,null,null,null,null,null,null,null,null,null,null,null,null,null,null,null,null,null,null,null,null,null,null,null,null,null,null,null,null,null,null,null,null,null,null,null,null,null,null,{"$f":"BG140/BH152","v":{"$error":"#DIV/0!"}},{"$f":"BH140/BH152","v":{"$error":"#DIV/0!"}},{"$f":"BI140/BH152","v":{"$error":"#DIV/0!"}},"%",null,null,null,null,{"$f":"\"local_od_est_\"&BF135","v":"local_od_est_1"},1,2,4,"est","tgt","err"]
[null,null,null,null,null,null,null,null,null,null,null,null,null,null,null,null,null,null,null,null,null,null,null,null,null,null,null,null,null,null,null,null,null,null,null,null,null,null,null,null,null,null,null,null,null,null,null,null,null,null,null,null,null,null,null,null,null,null,{"$f":"RNSE(BG140,BG137)","v":"-"},"-",{"$f":"RNSE(BI140,BI137)","v":"-"},"RNSE",null,null,null,null,1,{"$f":"BP123","v":0},0,{"$f":"BR123","v":0},{"$f":"SUM(BP142:BR142)","v":0},{"$f":"BT123","v":0},{"$f":"IFERROR(ABS(BS142-BT142)/BT142,0)","v":0}]
[null,null,null,null,null,null,null,null,null,null,null,null,null,null,null,null,null,null,null,null,null,null,null,null,null,null,null,null,null,null,null,null,null,null,null,null,null,null,null,null,null,null,null,null,null,null,null,null,null,null,null,null,null,null,null,null,null,null,null,null,null,null,null,null,null,null,2,0,0,{"$f":"BR124","v":0},{"$f":"SUM(BP143:BR143)","v":0},{"$f":"BT124","v":0},{"$f":"IFERROR(ABS(BS143-BT143)/BT143,0)","v":0}]
[null,null,null,null,null,null,null,null,null,null,null,null,null,null,null,null,null,null,null,null,null,null,null,null,null,null,null,null,null,null,null,null,null,null,null,null,null,null,null,null,null,null,null,null,null,null,null,null,null,null,null,null,null,null,null,null,null,null,null,null,null,null,null,null,null,null,4,{"$f":"BP125","v":0},{"$f":"BQ125","v":0},{"$f":"BR125","v":0},{"$f":"SUM(BP144:BR144)","v":0},{"$f":"BT125","v":0},{"$f":"IFERROR(ABS(BS144-BT144)/BT144,0)","v":0}]
[null,null,null,null,null,null,null,null,null,null,null,null,null,null,null,null,null,null,null,null,null,null,null,null,null,null,null,null,null,null,null,null,null,null,null,null,null,null,null,null,null,null,null,null,null,null,null,null,null,null,null,null,null,null,null,null,"Default St",null,null,null,null,"",null,null,null,null,"est",{"$f":"SUM(BP142:BP144)","v":0},{"$f":"SUM(BQ142:BQ144)","v":0},{"$f":"SUM(BR142:BR144)","v":0}]
[null,null,null,null,null,null,null,null,null,null,null,null,null,null,null,null,null,null,null,null,null,null,null,null,null,null,null,null,null,null,null,null,null,null,null,null,null,null,null,null,null,null,null,null,null,null,null,null,null,null,null,null,null,null,null,null,null,null,null,null,null,null,null,null,null,null,"tgt",{"$f":"BP127","v":0},{"$f":"BQ127","v":0},{"$f":"BR127","v":0}]
[null,null,null,null,null,null,null,null,null,null,null,null,null,null,null,null,null,null,null,null,null,null,null,null,null,null,null,null,null,null,null,null,null,null,null,null,null,null,null,null,null,null,null,null,null,null,null,null,null,null,null,null,null,null,null,null,null,null,null,null,null,null,null,null,null,null,"err",{"$f":"IFERROR(ABS(BP145-BP146)/BP146,0)","v":0},{"$f":"IFERROR(ABS(BQ145-BQ146)/BQ146,0)","v":0},{"$f":"IFERROR(ABS(BR145-BR146)/BR146,0)","v":0},null,null,{"$f":"SUM(BP147:BR147,BU142:BU144)","v":0}]
[]
[]
[null,null,null,null,null,null,null,null,null,null,null,null,null,null,null,null,null,null,null,null,null,null,null,null,null,null,null,null,null,null,null,null,null,null,null,null,null,null,null,null,null,null,null,null,null,null,null,null,null,null,null,null,null,null,{"$f":"IF(BD153<>\"\",AVERAGE(BD150,BD153),BD150)","v":0},{"$f":"SUM(BG140,BK133,BA138)","v":0},{"$f":"SUM(BG137,BH133,BD138)","v":0}]
[null,null,null,null,null,null,null,null,null,null,null,null,null,null,null,null,null,null,null,null,null,null,null,null,null,null,null,null,null,null,null,null,null,null,null,null,null,null,null,null,null,null,null,null,null,null,null,null,null,null,null,null,null,null,"target","$","$",null,"#","#","target"]
[null,null,null,null,null,null,null,null,null,null,null,null,null,null,null,null,null,null,null,null,null,null,null,null,null,null,null,null,null,null,null,null,null,null,null,null,null,null,null,null,null,null,null,null,null,null,null,null,null,null,null,null,null,null,"imbal",{"$f":"IF(BD153<>\"\",BD153-BD150,0)","v":0},{"$f":"IF(BE153<>\"\",BE153-BE150,0)","v":0},null,{"$f":"SUM(BG137:BI137)","v":0},{"$f":"SUM(BG140:BI140)","v":0},{"$f":"IF(BH155<>\"\",AVERAGE(BH152,BH155),BH152)","v":0}]
[]
[]
[]
[null,null,null,null,null,null,null,null,null,null,null,null,null,null,null,null,null,null,null,null,null,null,null,null,null,null,null,null,null,null,null,null,null,null,null,null,null,null,null,null,null,null,null,null,null,null,null,null,null,null,null,null,null,null,{"$f":"IF(BD153<>\"\",AVERAGE(BD156,BD153),BD156)","v":0},{"$f":"SUM(BC168:BE168)","v":0},{"$f":"SUM(BC171:BE171)","v":0},null,{"$f":"IF(BG155<>\"\",BG155-BG158,0)","v":0},{"$f":"IF(BH155<>\"\",BH155-BH158,0)","v":0},"imbal"]
[null,null,null,null,null,null,null,null,null,null,null,null,null,null,null,null,null,null,null,null,null,null,null,null,null,null,null,null,null,null,null,null,null,null,null,null,null,null,null,null,null,null,null,null,null,null,null,null,null,null,null,null,null,null,"target","$","$",null,"#","#","target"]
[null,null,null,null,null,null,null,null,null,null,null,null,null,null,null,null,null,null,null,null,null,null,null,null,null,null,null,null,null,null,null,null,null,null,null,null,null,null,null,null,null,null,null,null,null,null,null,null,null,null,null,null,null,null,null,null,null,null,{"$f":"SUM(BE171,BH175,BH170)","v":0},{"$f":"SUM(BE168,BH178,BK170)","v":0},{"$f":"IF(BH155<>\"\",AVERAGE(BH158,BH155),BH158)","v":0}]
[null,null,null,null,null,null,null,null,null,null,null,null,null,null,null,null,null,null,null,null,null,null,null,null,null,null,null,null,null,null,null,null,null,null,null,null,null,null,null,null,null,null,null,{"$f":"CHOOSE(1,BF173&\":\",\"IX_NAME\",AS159)","v":"1:"},{"$f":"BP172&\" & \"&BE162","v":"Main Ave & Default St"},null,null,null,null,null,null,null,null,null,null,null,null,null,null,null,null,null,null,null,null,null,"Local OD Raw"]
[null,null,null,null,null,null,null,null,null,null,null,null,null,null,null,null,null,null,null,null,null,null,null,null,null,null,null,null,null,null,null,null,null,null,null,null,null,null,null,null,null,null,null,null,"Raw Count Date:",null,null,null,null,null,null,null,null,null,null,null,null,null,null,null,null,null,null,null,null,null,{"$f":"\"local_od_raw_\"&BF173","v":"local_od_raw_1"},1,2,3,"est","tgt","err"]
[null,null,null,null,null,null,null,null,null,null,null,null,null,null,null,null,null,null,null,null,null,null,null,null,null,null,null,null,null,null,null,null,null,null,null,null,null,null,null,null,null,null,null,null,null,null,null,null,null,null,null,null,null,null,null,null,null,null,null,null,null,null,null,null,null,null,1,{"$f":"BG175","v":0},{"$f":"BI175","v":0},{"$f":"BH175","v":0},{"$f":"SUM(BP161:BR161)","v":0},{"$f":"BI190","v":0},{"$f":"IFERROR(ABS(BS161-BT161)/BT161,0)","v":0}]
[null,null,null,null,null,null,null,null,null,null,null,null,null,null,null,null,null,null,null,null,null,null,null,null,null,null,null,null,null,null,null,null,null,null,null,null,null,null,null,null,null,null,null,null,null,null,null,null,null,null,null,null,null,null,null,null,"Default St",null,null,null,null,null,null,null,null,null,2,{"$f":"BH171","v":0},{"$f":"BH172","v":0},{"$f":"BH170","v":0},{"$f":"SUM(BP162:BR162)","v":0},{"$f":"BW170","v":0},{"$f":"IFERROR(ABS(BS162-BT162)/BT162,0)","v":0}]
[null,null,null,null,null,null,null,null,null,null,null,null,null,null,null,null,null,null,null,null,null,null,null,null,null,null,null,null,null,null,null,null,null,null,null,null,null,null,null,null,null,null,null,null,null,null,null,null,null,null,null,null,null,"",null,null,null,null,null,null,null,null,null,null,null,null,3,{"$f":"BC171","v":0},{"$f":"BD171","v":0},{"$f":"BE171","v":0},{"$f":"SUM(BP163:BR163)","v":0},{"$f":"BC156","v":0},0]
[null,null,null,null,null,null,null,null,null,null,null,null,null,null,null,null,null,null,null,null,null,null,null,null,null,null,null,null,null,null,null,null,null,null,null,null,null,null,null,null,null,null,null,null,null,null,null,null,null,null,null,null,null,null,null,null,null,null,null,null,null,null,null,null,null,null,"est",{"$f":"SUM(BP161:BP163)","v":0},{"$f":"SUM(BQ161:BQ163)","v":0},{"$f":"SUM(BR161:BR163)","v":0}]
[null,null,null,null,null,null,null,null,null,null,null,null,null,null,null,null,null,null,null,null,null,null,null,null,null,null,null,null,null,null,null,null,null,null,null,null,null,null,null,null,null,null,null,null,null,null,null,null,null,null,null,null,null,null,null,null,null,null,null,null,null,null,null,null,null,null,"tgt",{"$f":"BC188","v":0},{"$f":"BU176","v":0},{"$f":"BI158","v":0}]
[null,null,null,null,null,null,null,null,null,null,null,null,null,null,null,null,null,null,null,null,null,null,null,null,null,null,null,null,null,null,null,null,null,null,null,null,null,null,null,null,null,null,null,null,null,null,null,null,null,null,null,null,null,"RNSE",{"$f":"RNSE(BC168,BC171)","v":"-"},"-","-",null,null,null,null,null,null,null,null,null,"err",{"$f":"IFERROR(ABS(BP164-BP165)/BP165,0)","v":0},{"$f":"IFERROR(ABS(BQ164-BQ165)/BQ165,0)","v":0},{"$f":"IFERROR(ABS(BR164-BR165)/BR165,0)","v":0},null,null,{"$f":"SUM(BP166:BS166,BV161:BV164)","v":0}]
[null,null,null,null,null,null,null,null,null,null,null,null,null,null,null,null,null,null,null,null,null,null,null,null,null,null,null,null,null,null,null,null,null,null,null,null,null,null,null,null,null,null,null,null,null,null,null,null,null,null,null,null,null,"%",{"$f":"BC168/BD156","v":{"$error":"#DIV/0!"}},{"$f":"BD168/BD156","v":{"$error":"#DIV/0!"}},{"$f":"BE168/BD156","v":{"$error":"#DIV/0!"}}]
[null,null,null,null,null,null,null,null,null,null,null,null,null,null,null,null,null,null,null,null,null,null,null,null,null,null,null,null,null,null,null,null,null,null,null,null,null,null,null,null,null,null,null,null,null,null,null,null,null,null,null,null,null,"bal",{"$f":"BP182","v":0},{"$f":"BQ182","v":0},{"$f":"BR182","v":0}]
[null,null,null,null,null,null,null,null,null,null,null,null,null,null,null,null,null,null,null,null,null,null,null,null,null,null,null,null,null,null,null,null,null,null,null,null,null,null,null,null,null,null,null,null,null,null,null,null,null,null,null,null,null,null,"$",9,"M",null,null,"raw","%",null,"bal","%","RNSE",null,null,""]
[null,null,null,null,null,null,null,null,null,null,null,null,null,null,null,null,null,null,null,null,null,null,null,null,null,null,null,null,null,null,null,null,null,null,null,null,null,null,null,null,null,null,null,null,null,null,null,null,null,null,null,null,null,"%",{"$f":"BC171/BE156","v":{"$error":"#DIV/0!"}},{"$f":"BD171/BE156","v":{"$error":"#DIV/0!"}},{"$f":"BE171/BE156","v":{"$error":"#DIV/0!"}},null,{"$f":"CHOOSE(1,\"<\",\"TURN\",8,BF173,BH170,BK170)","v":"<"},0,{"$f":"BH170/BW172","v":{"$error":"#DIV/0!"}},"<",{"$f":"BR181","v":0},{"$f":"BK170/BW171","v":{"$error":"#DIV/0!"}},{"$f":"RNSE(BK170,BH170)","v":"-"},null,null,null,null,null,null,null,null,"target",{"$f":"IF(BZ171<>\"\",AVERAGE(BW171,BZ171),BW171)","v":0}]
[null,null,null,null,null,null,null,null,null,null,null,null,null,null,null,null,null,null,null,null,null,null,null,null,null,null,null,null,null,null,null,null,null,null,null,null,null,null,null,null,null,null,null,null,null,null,null,null,null,null,null,null,null,"raw",0,0,0,null,{"$f":"CHOOSE(1,\">\",\"TURN\",6,BF173,BH171,BK171)","v":">"},0,{"$f":"BH171/BW172","v":{"$error":"#DIV/0!"}},">",{"$f":"BP181","v":0},{"$f":"BK171/BW171","v":{"$error":"#DIV/0!"}},{"$f":"RNSE(BK171,BH171)","v":"-"},null,null,null,null,null,null,null,null,"!",{"$f":"SUM(BK170:BK172)","v":0}]
[null,null,null,null,null,null,null,null,null,null,null,null,null,null,null,null,null,null,null,null,null,null,null,null,null,null,null,null,null,null,null,null,null,null,null,null,null,null,null,null,null,null,null,null,null,null,null,null,null,null,null,null,null,null,{"$f":"CHOOSE(1,\"$\",\"TURN\",11,BF173,BC171,BC168)","v":"$"},{"$f":"CHOOSE(1,\"9\",\"TURN\",10,BF173,BD171,BD168)","v":"9"},{"$f":"CHOOSE(1,\"M\",\"TURN\",9,BF173,BE171,BE168)","v":"M"},null,{"$f":"CHOOSE(1,\"N\",\"TURN\",5,BF173,BH172,BK172)","v":"N"},0,{"$f":"BH172/BW172","v":{"$error":"#DIV/0!"}},"N",{"$f":"BQ181","v":0},{"$f":"BK172/BW171","v":{"$error":"#DIV/0!"}},"-",null,null,"Main Ave",null,null,null,null,null,"!",{"$f":"SUM(BH170:BH172)","v":0}]
[null,null,null,null,null,null,null,null,null,null,null,null,null,null,null,null,null,null,null,null,null,null,null,null,null,null,null,null,null,null,null,null,null,null,null,null,null,null,null,null,null,null,null,null,null,null,null,null,null,null,null,null,null,null,null,null,null,1]
[null,null,null,null,null,null,null,null,null,null,null,null,null,null,null,null,null,null,null,null,null,null,null,null,null,null,null,null,null,null,null,null,null,null,null,null,null,null,null,null,null,null,null,null,null,null,null,null,null,null,null,null,null,null,null,null,null,null,{"$f":"CHOOSE(1,\"L\",\"TURN\",1,BF173,BG175,BG178)","v":"L"},{"$f":"CHOOSE(1,\"#\",\"TURN\",3,BF173,BH175,BH178)","v":"#"},{"$f":"CHOOSE(1,\";\",\"TURN\",4,BF173,BI175,BI178)","v":";"},null,null,null,null,null,null,null,null,null,null,null,{"$f":"SUM(BH172,BD171,BI175)","v":0},"\"",{"$f":"IF(BX174<>\"\",BX174-BU174,0)","v":0}]
[null,null,null,null,null,null,null,null,null,null,null,null,null,null,null,null,null,null,null,null,null,null,null,null,null,null,null,null,null,null,null,null,null,null,null,null,null,null,null,null,null,null,null,null,null,null,null,null,null,null,null,null,null,null,null,null,null,null,0,0,0,"raw",null,null,null,null,null,null,null,null,null,null,{"$f":"SUM(BK172,BD168,BI178)","v":0},"\"",{"$f":"IF(BX175<>\"\",BX175-BU175,0)","v":0}]
[null,null,null,null,null,null,null,null,null,null,null,null,null,null,null,null,null,null,null,null,null,null,null,null,null,null,null,null,null,null,null,null,null,null,null,null,null,null,null,null,null,null,null,null,null,null,null,null,null,null,null,null,null,null,null,null,null,null,{"$f":"BG175/BG190","v":{"$error":"#DIV/0!"}},{"$f":"BH175/BG190","v":{"$error":"#DIV/0!"}},{"$f":"BI175/BG190","v":{"$error":"#DIV/0!"}},"%",null,null,null,null,null,null,null,null,null,null,{"$f":"IF(BX175<>\"\",AVERAGE(BU175,BX175),BU175)","v":0},"target","imbal"]
[null,null,null,null,null,null,null,null,null,null,null,null,null,null,null,null,null,null,null,null,null,null,null,null,null,null,null,null,null,null,null,null,null,null,null,null,null,null,null,null,null,null,null,null,null,null,null,"",null,null,null,null,null,null,null,null,null,null,"L","#",";"]
[null,null,null,null,null,null,null,null,null,null,null,null,null,null,null,null,null,null,null,null,null,null,null,null,null,null,null,null,null,null,null,null,null,null,null,null,null,null,null,null,null,null,null,null,null,null,null,null,null,null,null,null,null,null,null,null,null,null,{"$f":"BP180","v":0},{"$f":"BR180","v":0},{"$f":"BQ180","v":0},"bal",null,null,null,null,"Local OD Estimated"]
[null,null,null,null,null,null,null,null,null,null,null,null,null,null,null,null,null,null,null,null,null,null,null,null,null,null,null,null,null,null,null,null,null,null,null,null,null,null,null,null,null,null,null,null,null,null,null,null,null,null,null,null,null,null,null,null,null,null,{"$f":"BG178/BH190","v":{"$error":"#DIV/0!"}},{"$f":"BH178/BH190","v":{"$error":"#DIV/0!"}},{"$f":"BI178/BH190","v":{"$error":"#DIV/0!"}},"%",null,null,null,null,{"$f":"\"local_od_est_\"&BF173","v":"local_od_est_1"},1,2,3,"est","tgt","err"]
[null,null,null,null,null,null,null,null,null,null,null,null,null,null,null,null,null,null,null,null,null,null,null,null,null,null,null,null,null,null,null,null,null,null,null,null,null,null,null,null,null,null,null,null,null,null,null,null,null,null,null,null,null,null,null,null,null,null,{"$f":"RNSE(BG178,BG175)","v":"-"},{"$f":"RNSE(BH178,BH175)","v":"-"},{"$f":"RNSE(BI178,BI175)","v":"-"},"RNSE",null,null,null,null,1,{"$f":"BP161","v":0},0,0,{"$f":"SUM(BP180:BR180)","v":0},{"$f":"BT161","v":0},{"$f":"IFERROR(ABS(BS180-BT180)/BT180,0)","v":0}]
[null,null,null,null,null,null,null,null,null,null,null,null,null,null,null,null,null,null,null,null,null,null,null,null,null,null,null,null,null,null,null,null,null,null,null,null,null,null,null,null,null,null,null,null,null,null,null,null,null,null,null,null,null,null,null,null,null,null,null,null,null,null,null,null,null,null,2,0,0,0,{"$f":"SUM(BP181:BR181)","v":0},{"$f":"BT162","v":0},{"$f":"IFERROR(ABS(BS181-BT181)/BT181,0)","v":0}]
[null,null,null,null,null,null,null,null,null,null,null,null,null,null,null,null,null,null,null,null,null,null,null,null,null,null,null,null,null,null,null,null,null,null,null,null,null,null,null,null,null,null,null,null,null,null,null,null,null,null,null,null,null,null,null,null,null,null,null,null,null,null,null,null,null,null,3,0,0,0,{"$f":"SUM(BP182:BR182)","v":0},{"$f":"BT163","v":0},0]
[null,null,null,null,null,null,null,null,null,null,null,null,null,null,null,null,null,null,null,null,null,null,null,null,null,null,null,null,null,null,null,null,null,null,null,null,null,null,null,null,null,null,null,null,null,null,null,null,null,null,null,null,null,null,null,null,null,null,null,null,null,"",null,null,null,null,"est",{"$f":"SUM(BP180:BP182)","v":0},{"$f":"SUM(BQ180:BQ182)","v":0},{"$f":"SUM(BR180:BR182)","v":0}]
[null,null,null,null,null,null,null,null,null,null,null,null,null,null,null,null,null,null,null,null,null,null,null,null,null,null,null,null,null,null,null,null,null,null,null,null,null,null,null,null,null,null,null,null,null,null,null,null,null,null,null,null,null,null,null,null,null,null,null,null,null,null,null,null,null,null,"tgt",{"$f":"BP165","v":0},{"$f":"BQ165","v":0},{"$f":"BR165","v":0}]
[null,null,null,null,null,null,null,null,null,null,null,null,null,null,null,null,null,null,null,null,null,null,null,null,null,null,null,null,null,null,null,null,null,null,null,null,null,null,null,null,null,null,null,null,null,null,null,null,null,null,null,null,null,null,null,null,null,null,null,null,null,null,null,null,null,null,"err",{"$f":"IFERROR(ABS(BP183-BP184)/BP184,0)","v":0},{"$f":"IFERROR(ABS(BQ183-BQ184)/BQ184,0)","v":0},0,null,null,{"$f":"SUM(BP185:BR185,BU180:BU182)","v":0}]
[]
[]
[null,null,null,null,null,null,null,null,null,null,null,null,null,null,null,null,null,null,null,null,null,null,null,null,null,null,null,null,null,null,null,null,null,null,null,null,null,null,null,null,null,null,null,null,null,null,null,null,null,null,null,null,null,null,{"$f":"IF(BD191<>\"\",AVERAGE(BD188,BD191),BD188)","v":0},{"$f":"SUM(BG178,BK171,BC168)","v":0},{"$f":"SUM(BG175,BH171,BC171)","v":0}]
[null,null,null,null,null,null,null,null,null,null,null,null,null,null,null,null,null,null,null,null,null,null,null,null,null,null,null,null,null,null,null,null,null,null,null,null,null,null,null,null,null,null,null,null,null,null,null,null,null,null,null,null,null,null,"target","$","$",null,"#","#","target"]
[null,null,null,null,null,null,null,null,null,null,null,null,null,null,null,null,null,null,null,null,null,null,null,null,null,null,null,null,null,null,null,null,null,null,null,null,null,null,null,null,null,null,null,null,null,null,null,null,null,null,null,null,null,null,"imbal",{"$f":"IF(BD191<>\"\",BD191-BD188,0)","v":0},{"$f":"IF(BE191<>\"\",BE191-BE188,0)","v":0},null,{"$f":"SUM(BG175:BI175)","v":0},{"$f":"SUM(BG178:BI178)","v":0},{"$f":"IF(BH193<>\"\",AVERAGE(BH190,BH193),BH190)","v":0}]

{"sheet":"Driveways","index":2,"n_rows":121,"n_cols":119,"rows_kept":121,"cut":false,"hidden":false,"merged":[]}
[]
[]
[]
[]
[]
[]
[]
[]
[]
[]
[]
[]
[]
[]
[]
[]
[null,null,null,null,null,null,null,null,null,null,null,null,null,null,null,null,null,null,null,null,null,null,null,null,null,null,null,null,null,null,null,null,null,null,null,null,null,null,null,null,null,null,null,null,null,null,null,null,null,null,null,null,null,null,null,null,null,null,null,null,null,null,null,{"$f":"IF(BM14<>\"\",AVERAGE(BM17,BM14),BM17)","v":0},{"$f":"SUM(BK29:BN29)","v":0},{"$f":"SUM(BK32:BN32)","v":0},null,{"$f":"IF(BP16<>\"\",BP16-BP19,0)","v":0},{"$f":"IF(BQ16<>\"\",BQ16-BQ19,0)","v":0},"imbal"]
[null,null,null,null,null,null,null,null,null,null,null,null,null,null,null,null,null,null,null,null,null,null,null,null,null,null,null,null,null,null,null,null,null,null,null,null,null,null,null,null,null,null,null,null,null,null,null,null,null,null,null,null,null,null,null,null,null,null,null,null,null,null,null,"target","$","$",null,"#","#","target"]
[null,null,null,null,null,null,null,null,null,null,null,null,null,null,null,null,null,null,null,null,null,null,null,null,null,null,null,null,null,null,null,null,null,null,null,null,null,null,null,null,null,null,null,null,null,null,null,null,null,null,null,null,null,null,null,null,null,null,null,null,null,null,null,null,null,null,null,{"$f":"SUM(BN32,BM36,BR36,BQ30)","v":0},{"$f":"SUM(BN29,BJ36,BR39,BT30)","v":0},{"$f":"IF(BQ16<>\"\",AVERAGE(BQ19,BQ16),BQ19)","v":0}]
[null,null,null,null,null,null,null,null,null,null,null,null,null,null,null,null,null,null,null,null,null,null,null,null,null,null,null,null,null,null,null,null,null,null,null,null,null,null,null,null,null,null,null,null,null,null,null,null,null,null,null,null,{"$f":"CHOOSE(1,BO34&\":\",\"IX_NAME\",BB20)","v":"1:"},{"$f":"BF35&\" & \"&BN23","v":"Main Ave & Default St"},null,null,null,null,null,null,null,null,null,null,null,null,null,null,null,null,null,null,null,null,null,"Local OD Raw"]
[null,null,null,null,null,null,null,null,null,null,null,null,null,null,null,null,null,null,null,null,null,null,null,null,null,null,null,null,null,null,null,null,null,null,null,null,null,null,null,null,null,null,null,null,null,null,null,null,null,null,null,null,null,"Raw Count Date:",null,null,null,null,null,null,null,null,null,null,null,null,null,null,null,null,null,null,null,null,null,{"$f":"\"local_od_raw_\"&BO34","v":"local_od_raw_1"},1,2,3,4,"est","tgt","err"]
[null,null,null,null,null,null,null,null,null,null,null,null,null,null,null,null,null,null,null,null,null,null,null,null,null,null,null,null,null,null,null,null,null,null,null,null,null,null,null,null,null,null,null,null,null,null,null,null,null,null,null,null,null,null,null,null,null,null,null,null,null,null,null,null,null,null,null,null,null,null,null,null,null,null,null,1,{"$f":"BP36","v":0},{"$f":"BS36","v":0},{"$f":"BR36","v":0},{"$f":"BQ36","v":0},{"$f":"SUM(BY22:CB22)","v":0},{"$f":"BR51","v":0},{"$f":"IFERROR(ABS(CC22-CD22)/CD22,0)","v":0}]
[null,null,null,null,null,null,null,null,null,null,null,null,null,null,null,null,null,null,null,null,null,null,null,null,null,null,null,null,null,null,null,null,null,null,null,null,null,null,null,null,null,null,null,null,null,null,null,null,null,null,null,null,null,null,null,null,null,null,null,null,null,null,null,null,null,"Default St",null,null,null,null,null,null,null,null,null,2,{"$f":"BQ32","v":0},{"$f":"BQ33","v":0},{"$f":"BQ30","v":0},{"$f":"BQ31","v":0},{"$f":"SUM(BY23:CB23)","v":0},{"$f":"CF31","v":0},{"$f":"IFERROR(ABS(CC23-CD23)/CD23,0)","v":0}]
[null,null,null,null,null,null,null,null,null,null,null,null,null,null,null,null,null,null,null,null,null,null,null,null,null,null,null,null,null,null,null,null,null,null,null,null,null,null,null,null,null,null,null,null,null,null,null,null,null,null,null,null,null,null,null,null,null,null,null,null,null,null,"",null,null,null,null,null,null,null,null,null,null,null,null,3,{"$f":"BL32","v":0},{"$f":"BM32","v":0},{"$f":"BN32","v":0},{"$f":"BK32","v":0},{"$f":"SUM(BY24:CB24)","v":0},{"$f":"BL17","v":0},0]
[null,null,null,null,null,null,null,null,null,null,null,null,null,null,null,null,null,null,null,null,null,null,null,null,null,null,null,null,null,null,null,null,null,null,null,null,null,null,null,null,null,null,null,null,null,null,null,null,null,null,null,null,null,null,null,null,null,null,null,null,null,null,null,null,null,null,null,null,null,null,null,null,null,null,null,4,{"$f":"BM38","v":0},{"$f":"BM37","v":0},{"$f":"BM36","v":0},{"$f":"BM35","v":0},{"$f":"SUM(BY25:CB25)","v":0},{"$f":"AX37","v":0},0]
[null,null,null,null,null,null,null,null,null,null,null,null,null,null,null,null,null,null,null,null,null,null,null,null,null,null,null,null,null,null,null,null,null,null,null,null,null,null,null,null,null,null,null,null,null,null,null,null,null,null,null,null,null,null,null,null,null,null,null,null,null,null,null,null,null,null,null,null,null,null,null,null,null,null,null,"est",{"$f":"SUM(BY22:BY25)","v":0},{"$f":"SUM(BZ22:BZ25)","v":0},{"$f":"SUM(CA22:CA25)","v":0},{"$f":"SUM(CB22:CB25)","v":0}]
[null,null,null,null,null,null,null,null,null,null,null,null,null,null,null,null,null,null,null,null,null,null,null,null,null,null,null,null,null,null,null,null,null,null,null,null,null,null,null,null,null,null,null,null,null,null,null,null,null,null,null,null,null,null,null,null,null,null,null,null,null,"RNSE",{"$f":"RNSE(BK29,BK32)","v":"-"},{"$f":"RNSE(BL29,BL32)","v":"-"},"-","-",null,null,null,null,null,null,null,null,null,"tgt",{"$f":"BL49","v":0},{"$f":"CD37","v":0},{"$f":"BR19","v":0},{"$f":"AZ31","v":0}]
[null,null,null,null,null,null,null,null,null,null,null,null,null,null,null,null,null,null,null,null,null,null,null,null,null,null,null,null,null,null,null,null,null,null,null,null,null,null,null,null,null,null,null,null,null,null,null,null,null,null,null,null,null,null,null,null,null,null,null,null,null,"%",{"$f":"BK29/BM17","v":{"$error":"#DIV/0!"}},{"$f":"BL29/BM17","v":{"$error":"#DIV/0!"}},{"$f":"BM29/BM17","v":{"$error":"#DIV/0!"}},{"$f":"BN29/BM17","v":{"$error":"#DIV/0!"}},null,null,null,null,null,null,null,null,null,"err",{"$f":"IFERROR(ABS(BY26-BY27)/BY27,0)","v":0},{"$f":"IFERROR(ABS(BZ26-BZ27)/BZ27,0)","v":0},0,0,null,null,{"$f":"SUM(BY28:CB28,CE22:CE25)","v":0}]
[null,null,null,null,null,null,null,null,null,null,null,null,null,null,null,null,null,null,null,null,null,null,null,null,null,null,null,null,null,null,null,null,null,null,null,null,null,null,null,null,null,null,null,null,null,null,null,null,null,null,null,null,null,null,null,null,null,null,null,null,null,"bal",{"$f":"CB43","v":0},{"$f":"BY43","v":0},{"$f":"BZ43","v":0},{"$f":"CA43","v":0},null,null,"raw","%",null,"bal","%","RNSE"]
[null,null,null,null,null,null,null,null,null,null,null,null,null,null,null,null,null,null,null,null,null,null,null,null,null,null,null,null,null,null,null,null,null,null,null,null,null,null,null,null,null,null,null,null,null,null,null,null,null,null,null,null,null,null,null,null,null,null,null,null,null,null,8,"$",9,"M",null,{"$f":"CHOOSE(1,\"<\",\"TURN\",8,BO34,BQ30,BT30)","v":"<"},0,{"$f":"BQ30/CF33","v":{"$error":"#DIV/0!"}},"<",{"$f":"CA42","v":0},{"$f":"BT30/CF32","v":{"$error":"#DIV/0!"}},{"$f":"RNSE(BT30,BQ30)","v":"-"},null,null,""]
[null,null,null,null,null,null,null,null,null,null,null,null,null,null,null,null,null,null,null,null,null,null,null,null,null,null,null,null,null,null,null,null,null,null,null,null,null,null,null,null,null,null,null,null,null,null,null,null,null,"imbal","target",{"$f":"IF(AW32<>\"\",AVERAGE(AZ32,AW32),AZ32)","v":0},null,null,null,null,null,null,null,null,null,"%",{"$f":"BK32/BN17","v":{"$error":"#DIV/0!"}},{"$f":"BL32/BN17","v":{"$error":"#DIV/0!"}},{"$f":"BM32/BN17","v":{"$error":"#DIV/0!"}},{"$f":"BN32/BN17","v":{"$error":"#DIV/0!"}},null,{"$f":"CHOOSE(1,\"!\",\"TURN\",7,BO34,BQ31,BT31)","v":"!"},0,{"$f":"BQ31/CF33","v":{"$error":"#DIV/0!"}},"!",{"$f":"CB42","v":0},{"$f":"BT31/CF32","v":{"$error":"#DIV/0!"}},{"$f":"RNSE(BT31,BQ31)","v":"-"},null,null,null,null,null,null,null,null,"target",{"$f":"IF(CI32<>\"\",AVERAGE(CF32,CI32),CF32)","v":0}]
[null,null,null,null,null,null,null,null,null,null,null,null,null,null,null,null,null,null,null,null,null,null,null,null,null,null,null,null,null,null,null,null,null,null,null,null,null,null,null,null,null,null,null,null,null,null,null,null,null,{"$f":"IF(AW32<>\"\",AW32-AZ32,0)","v":0},"!",{"$f":"SUM(BJ35,BQ39,BT31,BK29)","v":0},null,null,null,null,null,null,null,null,null,"raw",0,0,0,0,null,{"$f":"CHOOSE(1,\">\",\"TURN\",6,BO34,BQ32,BT32)","v":">"},0,{"$f":"BQ32/CF33","v":{"$error":"#DIV/0!"}},">",{"$f":"BY42","v":0},{"$f":"BT32/CF32","v":{"$error":"#DIV/0!"}},"-",null,null,null,null,null,null,null,null,"!",{"$f":"SUM(BT30:BT33)","v":0}]
[null,null,null,null,null,null,null,null,null,null,null,null,null,null,null,null,null,null,null,null,null,null,null,null,null,null,null,null,null,null,null,null,null,null,null,null,null,null,null,null,null,null,null,null,null,null,null,null,null,{"$f":"IF(AW33<>\"\",AW33-AZ33,0)","v":0},"!",{"$f":"SUM(BM35,BQ36,BQ31,BK32)","v":0},null,null,null,null,null,null,null,null,null,null,{"$f":"CHOOSE(1,8,\"TURN\",12,BO34,BK32,BK29)","v":8},{"$f":"CHOOSE(1,\"$\",\"TURN\",11,BO34,BL32,BL29)","v":"$"},{"$f":"CHOOSE(1,\"9\",\"TURN\",10,BO34,BM32,BM29)","v":"9"},{"$f":"CHOOSE(1,\"M\",\"TURN\",9,BO34,BN32,BN29)","v":"M"},null,{"$f":"CHOOSE(1,\"N\",\"TURN\",5,BO34,BQ33,BT33)","v":"N"},0,{"$f":"BQ33/CF33","v":{"$error":"#DIV/0!"}},"N",{"$f":"BZ42","v":0},{"$f":"BT33/CF32","v":{"$error":"#DIV/0!"}},"-",null,null,null,null,null,null,null,null,"!",{"$f":"SUM(BQ30:BQ33)","v":0}]
[null,null,null,null,null,null,null,null,null,null,null,null,null,null,null,null,null,null,null,null,null,null,null,null,null,null,null,null,null,null,null,null,null,null,null,null,null,null,null,null,null,null,null,null,null,null,null,null,null,null,null,null,null,null,null,null,null,null,null,null,null,null,null,null,null,null,1]
[null,null,null,null,null,null,null,null,null,null,null,null,null,null,null,null,null,null,null,null,null,null,null,null,null,null,null,null,null,null,null,null,null,null,null,null,null,null,null,null,null,null,null,null,null,null,null,null,null,{"$f":"SUM(BM35:BM38)","v":0},"\"",null,null,null,null,null,null,"Main Ave",null,{"$f":"RNSE(BJ35,BM35)","v":"-"},{"$f":"BJ35/AX36","v":{"$error":"#DIV/0!"}},{"$f":"CB44","v":0},"O",{"$f":"BM35/AX35","v":{"$error":"#DIV/0!"}},0,{"$f":"CHOOSE(1,\"O\",\"TURN\",13,BO34,BM35,BJ35)","v":"O"},null,{"$f":"CHOOSE(1,\"L\",\"TURN\",1,BO34,BP36,BP39)","v":"L"},{"$f":"CHOOSE(1,\":\",\"TURN\",2,BO34,BQ36,BQ39)","v":":"},{"$f":"CHOOSE(1,\"#\",\"TURN\",3,BO34,BR36,BR39)","v":"#"},{"$f":"CHOOSE(1,\";\",\"TURN\",4,BO34,BS36,BS39)","v":";"},null,null,null,null,null,null,null,null,null,null,{"$f":"SUM(BQ33,BM32,BM37,BS36)","v":0},"\"",{"$f":"IF(CG35<>\"\",CG35-CD35,0)","v":0}]
[null,null,null,null,null,null,null,null,null,null,null,null,null,null,null,null,null,null,null,null,null,null,null,null,null,null,null,null,null,null,null,null,null,null,null,null,null,null,null,null,null,null,null,null,null,null,null,null,null,{"$f":"SUM(BJ35:BJ38)","v":0},"\"",null,null,null,null,null,null,null,null,"-",{"$f":"BJ36/AX36","v":{"$error":"#DIV/0!"}},{"$f":"CA44","v":0},"=",{"$f":"BM36/AX35","v":{"$error":"#DIV/0!"}},0,{"$f":"CHOOSE(1,\"=\",\"TURN\",14,BO34,BM36,BJ36)","v":"="},null,0,0,0,0,"raw",null,null,null,null,null,null,null,null,null,{"$f":"SUM(BT33,BM29,BJ37,BS39)","v":0},"\"",{"$f":"IF(CG36<>\"\",CG36-CD36,0)","v":0}]
[null,null,null,null,null,null,null,null,null,null,null,null,null,null,null,null,null,null,null,null,null,null,null,null,null,null,null,null,null,null,null,null,null,null,null,null,null,null,null,null,null,null,null,null,null,null,null,null,null,{"$f":"IF(AU36<>\"\",AVERAGE(AX36,AU36),AX36)","v":0},"target",null,null,null,null,null,null,null,null,"-",{"$f":"BJ37/AX36","v":{"$error":"#DIV/0!"}},{"$f":"BZ44","v":0},"\"",{"$f":"BM37/AX35","v":{"$error":"#DIV/0!"}},0,{"$f":"CHOOSE(1,\"\"\"\",\"TURN\",15,BO34,BM37,BJ37)","v":"\""},null,{"$f":"BP36/BP51","v":{"$error":"#DIV/0!"}},{"$f":"BQ36/BP51","v":{"$error":"#DIV/0!"}},{"$f":"BR36/BP51","v":{"$error":"#DIV/0!"}},{"$f":"BS36/BP51","v":{"$error":"#DIV/0!"}},"%",null,null,null,null,null,null,null,null,null,{"$f":"IF(CG36<>\"\",AVERAGE(CD36,CG36),CD36)","v":0},"target","imbal"]
[null,null,null,null,null,null,null,null,null,null,null,null,null,null,null,null,null,null,null,null,null,null,null,null,null,null,null,null,null,null,null,null,null,null,null,null,null,null,null,null,null,null,null,null,null,null,null,null,null,null,null,null,null,null,null,null,"",null,null,"-",{"$f":"BJ38/AX36","v":{"$error":"#DIV/0!"}},{"$f":"BY44","v":0},"?",{"$f":"BM38/AX35","v":{"$error":"#DIV/0!"}},0,{"$f":"CHOOSE(1,\"?\",\"TURN\",16,BO34,BM38,BJ38)","v":"?"},null,"L",":","#",";"]
[null,null,null,null,null,null,null,null,null,null,null,null,null,null,null,null,null,null,null,null,null,null,null,null,null,null,null,null,null,null,null,null,null,null,null,null,null,null,null,null,null,null,null,null,null,null,null,null,null,null,null,null,null,null,null,null,null,null,null,"RNSE","%","bal",null,"%","raw",null,null,{"$f":"BY41","v":0},{"$f":"CB41","v":0},{"$f":"CA41","v":0},{"$f":"BZ41","v":0},"bal",null,null,null,"Local OD Estimated"]
[null,null,null,null,null,null,null,null,null,null,null,null,null,null,null,null,null,null,null,null,null,null,null,null,null,null,null,null,null,null,null,null,null,null,null,null,null,null,null,null,null,null,null,null,null,null,null,null,null,null,null,null,null,null,null,null,null,null,null,null,null,null,null,null,null,null,null,{"$f":"BP39/BQ51","v":{"$error":"#DIV/0!"}},{"$f":"BQ39/BQ51","v":{"$error":"#DIV/0!"}},{"$f":"BR39/BQ51","v":{"$error":"#DIV/0!"}},{"$f":"BS39/BQ51","v":{"$error":"#DIV/0!"}},"%",null,null,null,{"$f":"\"local_od_est_\"&BO34","v":"local_od_est_1"},1,2,3,4,"est","tgt","err"]
[null,null,null,null,null,null,null,null,null,null,null,null,null,null,null,null,null,null,null,null,null,null,null,null,null,null,null,null,null,null,null,null,null,null,null,null,null,null,null,null,null,null,null,null,null,null,null,null,null,null,null,null,null,null,null,null,null,null,null,null,null,null,null,null,null,null,null,{"$f":"RNSE(BP39,BP36)","v":"-"},"-","-","-","RNSE",null,null,null,1,{"$f":"BY22","v":0},0,0,0,{"$f":"SUM(BY41:CB41)","v":0},{"$f":"CD22","v":0},{"$f":"IFERROR(ABS(CC41-CD41)/CD41,0)","v":0}]
[null,null,null,null,null,null,null,null,null,null,null,null,null,null,null,null,null,null,null,null,null,null,null,null,null,null,null,null,null,null,null,null,null,null,null,null,null,null,null,null,null,null,null,null,null,null,null,null,null,null,null,null,null,null,null,null,null,null,null,null,null,null,null,null,null,null,null,null,null,null,null,null,null,null,null,2,0,0,0,0,{"$f":"SUM(BY42:CB42)","v":0},0,{"$f":"IFERROR(ABS(CC42-CD42)/CD42,0)","v":0}]
[null,null,null,null,null,null,null,null,null,null,null,null,null,null,null,null,null,null,null,null,null,null,null,null,null,null,null,null,null,null,null,null,null,null,null,null,null,null,null,null,null,null,null,null,null,null,null,null,null,null,null,null,null,null,null,null,null,null,null,null,null,null,null,null,null,null,null,null,null,null,null,null,null,null,null,3,0,0,0,0,0,0,0]
[null,null,null,null,null,null,null,null,null,null,null,null,null,null,null,null,null,null,null,null,null,null,null,null,null,null,null,null,null,null,null,null,null,null,null,null,null,null,null,null,null,null,null,null,null,null,null,null,null,null,null,null,null,null,null,null,null,null,null,null,null,null,null,null,null,null,null,null,null,null,"",null,null,null,null,4,0,0,0,0,0,0,0]
[null,null,null,null,null,null,null,null,null,null,null,null,null,null,null,null,null,null,null,null,null,null,null,null,null,null,null,null,null,null,null,null,null,null,null,null,null,null,null,null,null,null,null,null,null,null,null,null,null,null,null,null,null,null,null,null,null,null,null,null,null,null,null,null,null,null,null,null,null,null,null,null,null,null,null,"est",{"$f":"SUM(BY41:BY44)","v":0},{"$f":"SUM(BZ41:BZ44)","v":0},0,0]
[null,null,null,null,null,null,null,null,null,null,null,null,null,null,null,null,null,null,null,null,null,null,null,null,null,null,null,null,null,null,null,null,null,null,null,null,null,null,null,null,null,null,null,null,null,null,null,null,null,null,null,null,null,null,null,null,null,null,null,null,null,null,null,null,null,null,null,null,null,null,null,null,null,null,null,"tgt",{"$f":"BY27","v":0},0,0,0]
[null,null,null,null,null,null,null,null,null,null,null,null,null,null,null,null,null,null,null,null,null,null,null,null,null,null,null,null,null,null,null,null,null,null,null,null,null,null,null,null,null,null,null,null,null,null,null,null,null,null,null,null,null,null,null,null,null,null,null,null,null,null,null,null,null,null,null,null,null,null,null,null,null,null,null,"err",{"$f":"IFERROR(ABS(BY45-BY46)/BY46,0)","v":0},{"$f":"IFERROR(ABS(BZ45-BZ46)/BZ46,0)","v":0},0,0,null,null,{"$f":"SUM(BY47:CB47,CE41:CE44)","v":0}]
[]
[null,null,null,null,null,null,null,null,null,null,null,null,null,null,null,null,null,null,null,null,null,null,null,null,null,null,null,null,null,null,null,null,null,null,null,null,null,null,null,null,null,null,null,null,null,null,null,null,null,null,null,null,null,null,null,null,null,null,null,null,null,null,null,{"$f":"IF(BM52<>\"\",AVERAGE(BM49,BM52),BM49)","v":0},{"$f":"SUM(BP39,BT32,BL29,BJ38)","v":0},{"$f":"SUM(BP36,BQ32,BL32,BM38)","v":0}]
[null,null,null,null,null,null,null,null,null,null,null,null,null,null,null,null,null,null,null,null,null,null,null,null,null,null,null,null,null,null,null,null,null,null,null,null,null,null,null,null,null,null,null,null,null,null,null,null,null,null,null,null,null,null,null,null,null,null,null,null,null,null,null,"target","$","$",null,"#","#","target"]
[null,null,null,null,null,null,null,null,null,null,null,null,null,null,null,null,null,null,null,null,null,null,null,null,null,null,null,null,null,null,null,null,null,null,null,null,null,null,null,null,null,null,null,null,null,null,null,null,null,null,null,null,null,null,null,null,null,null,null,null,null,null,null,"imbal",{"$f":"IF(BM52<>\"\",BM52-BM49,0)","v":0},{"$f":"IF(BN52<>\"\",BN52-BN49,0)","v":0},null,{"$f":"SUM(BP36:BS36)","v":0},{"$f":"SUM(BP39:BS39)","v":0},{"$f":"IF(BQ54<>\"\",AVERAGE(BQ51,BQ54),BQ51)","v":0}]
[null,null,null,null,null,null,null,null,null,null,null,null,null,null,null,null,null,null,null,null,null,null,null,null,null,null,null,null,{"$f":"IF(AD49<>\"\",AVERAGE(AD52,AD49),AD52)","v":0},{"$f":"SUM(AB64:AE64)","v":0},{"$f":"SUM(AB67:AE67)","v":0},null,{"$f":"IF(AG51<>\"\",AG51-AG54,0)","v":0},{"$f":"IF(AH51<>\"\",AH51-AH54,0)","v":0},"imbal",null,null,null,null,null,null,null,null,null,null,null,null,null,null,null,null,null,null,null,null,null,null,null,null,null,null,null,null,{"$f":"IF(BM49<>\"\",AVERAGE(BM52,BM49),BM52)","v":0},{"$f":"SUM(BK64:BN64)","v":0},{"$f":"SUM(BK67:BN67)","v":0},null,{"$f":"IF(BP51<>\"\",BP51-BP54,0)","v":0},{"$f":"IF(BQ51<>\"\",BQ51-BQ54,0)","v":0},"imbal",null,{"$f":"CHOOSE(1,\"DRVWY\",BQ52,BT55,BT54,BT53,BR51,BR54,BQ51,BQ54)","v":"DRVWY"},null,null,null,null,null,null,null,null,null,null,null,null,null,null,null,null,null,null,null,null,null,null,null,null,null,null,{"$f":"IF(CV49<>\"\",AVERAGE(CV52,CV49),CV52)","v":0},{"$f":"SUM(CT64:CW64)","v":0},{"$f":"SUM(CT67:CW67)","v":0},null,{"$f":"IF(CY51<>\"\",CY51-CY54,0)","v":0},{"$f":"IF(CZ51<>\"\",CZ51-CZ54,0)","v":0},"imbal"]
[null,null,null,null,null,null,null,null,null,null,null,null,null,null,null,null,null,null,null,null,null,null,null,null,null,null,null,null,"target","$","$",null,"#","#","target",null,null,null,null,null,null,null,null,null,null,null,null,null,null,null,null,null,null,null,null,null,null,null,null,null,null,null,null,"target","$","$",null,"#","#","target",null,0.1,"Driveway Tolerance",null,null,null,null,null,null,null,null,null,null,null,null,null,null,null,null,null,null,null,null,null,null,null,null,null,"target","$","$",null,"#","#","target"]
[null,null,null,null,null,null,null,null,null,null,null,null,null,null,null,null,null,null,null,null,null,null,null,null,null,null,null,null,null,null,null,null,{"$f":"SUM(AE67,AD71,AI71,AH65)","v":0},{"$f":"SUM(AE64,AA71,AI74,AK65)","v":0},{"$f":"IF(AH51<>\"\",AVERAGE(AH54,AH51),AH54)","v":0},null,null,null,null,null,null,null,null,null,null,null,null,null,null,null,null,null,null,null,null,null,null,null,null,null,null,null,null,null,null,null,null,{"$f":"SUM(BN67,BM71,BR71,BQ65)","v":0},{"$f":"SUM(BN64,BJ71,BR74,BT65)","v":0},{"$f":"IF(BQ51<>\"\",AVERAGE(BQ54,BQ51),BQ54)","v":0},null,{"$f":"ABS(BQ52)/AVERAGE(BQ54,BQ51)","v":{"$error":"#DIV/0!"}},"Driveway Imbalance",null,null,null,null,null,null,null,null,null,null,null,null,null,null,null,null,null,null,null,null,null,null,null,null,null,null,null,null,null,{"$f":"SUM(CW67,CV71,DA71,CZ65)","v":0},{"$f":"SUM(CW64,CS71,DA74,DC65)","v":0},{"$f":"IF(CZ51<>\"\",AVERAGE(CZ54,CZ51),CZ54)","v":0}]
[null,null,null,null,null,null,null,null,null,null,null,null,null,null,null,null,null,{"$f":"CHOOSE(1,AF69&\":\",\"IX_NAME\",S55)","v":"1:"},{"$f":"W70&\" & \"&AE58","v":"Main Ave & Default St"},null,null,null,null,null,null,null,null,null,null,null,null,null,null,null,null,null,null,null,null,null,"Local OD Raw",null,null,null,null,null,null,null,null,null,null,null,{"$f":"CHOOSE(1,BO69&\":\",\"IX_NAME\",BB55)","v":"1:"},{"$f":"BF70&\" & \"&BN58","v":"Driveway St & Driveway St"},null,null,null,null,null,null,null,null,null,null,null,null,null,null,null,null,null,{"$f":"IF(BT54<=BT53,0,BQ52)","v":{"$error":"#DIV/0!"}},"Imbalance (adj. for driveway tol.)",null,null,"Local OD Raw",null,null,null,null,null,null,null,null,null,null,null,{"$f":"CHOOSE(1,CX69&\":\",\"IX_NAME\",CK55)","v":"1:"},{"$f":"CO70&\" & \"&CW58","v":"Main Ave & Default St"},null,null,null,null,null,null,null,null,null,null,null,null,null,null,null,null,null,null,null,null,null,"Local OD Raw"]
[null,null,null,null,null,null,null,null,null,null,null,null,null,null,null,null,null,null,"Raw Count Date:",null,null,null,null,null,null,null,null,null,null,null,null,null,null,null,null,null,null,null,null,null,{"$f":"\"local_od_raw_\"&AF69","v":"local_od_raw_1"},1,2,3,4,"est","tgt","err",null,null,null,null,null,"Raw Count Date:",null,null,null,null,null,null,null,null,null,null,null,null,null,null,null,null,null,null,null,null,null,{"$f":"\"local_od_raw_\"&BO69","v":"local_od_raw_1"},1,2,3,4,"est","tgt","err",null,null,null,null,null,"Raw Count Date:",null,null,null,null,null,null,null,null,null,null,null,null,null,null,null,null,null,null,null,null,null,{"$f":"\"local_od_raw_\"&CX69","v":"local_od_raw_1"},1,2,3,4,"est","tgt","err"]
[null,null,null,null,null,null,null,null,null,null,null,null,null,null,null,null,null,null,null,null,null,null,null,null,null,null,null,null,null,null,null,null,null,null,null,null,null,null,null,null,1,{"$f":"AG71","v":0},{"$f":"AJ71","v":0},{"$f":"AI71","v":0},{"$f":"AH71","v":0},{"$f":"SUM(AP57:AS57)","v":0},{"$f":"AI86","v":0},{"$f":"IFERROR(ABS(AT57-AU57)/AU57,0)","v":0},null,null,null,null,null,null,null,null,null,null,null,null,null,null,null,null,null,null,null,null,null,null,null,null,null,null,null,1,{"$f":"BP71","v":0},{"$f":"BS71","v":0},{"$f":"BR71","v":0},{"$f":"BQ71","v":0},{"$f":"SUM(BY57:CB57)","v":0},{"$f":"BR86","v":0},{"$f":"IFERROR(ABS(CC57-CD57)/CD57,0)","v":0},null,null,null,null,null,null,null,null,null,null,null,null,null,null,null,null,null,null,null,null,null,null,null,null,null,null,null,1,{"$f":"CY71","v":0},{"$f":"DB71","v":0},{"$f":"DA71","v":0},{"$f":"CZ71","v":0},{"$f":"SUM(DH57:DK57)","v":0},{"$f":"DA86","v":0},{"$f":"IFERROR(ABS(DL57-DM57)/DM57,0)","v":0}]
[null,null,null,null,null,null,null,null,null,null,null,null,null,null,null,null,null,null,null,null,null,null,null,null,null,null,null,null,null,null,"Default St",null,null,null,null,null,null,null,null,null,2,{"$f":"AH67","v":0},{"$f":"AH68","v":0},{"$f":"AH65","v":0},{"$f":"AH66","v":0},{"$f":"SUM(AP58:AS58)","v":0},{"$f":"AW66","v":0},{"$f":"IFERROR(ABS(AT58-AU58)/AU58,0)","v":0},null,null,null,null,null,null,null,null,null,null,null,null,null,null,null,null,null,"Driveway St",null,null,null,null,null,null,null,null,null,2,{"$f":"BQ67","v":0},{"$f":"BQ68","v":0},{"$f":"BQ65","v":0},{"$f":"BQ66","v":0},{"$f":"SUM(BY58:CB58)","v":0},{"$f":"CF66","v":0},{"$f":"IFERROR(ABS(CC58-CD58)/CD58,0)","v":0},null,null,null,null,null,null,null,null,null,null,null,null,null,null,null,null,null,"Default St",null,null,null,null,null,null,null,null,null,2,{"$f":"CZ67","v":0},{"$f":"CZ68","v":0},{"$f":"CZ65","v":0},{"$f":"CZ66","v":0},{"$f":"SUM(DH58:DK58)","v":0},{"$f":"DO66","v":0},{"$f":"IFERROR(ABS(DL58-DM58)/DM58,0)","v":0}]
[null,null,null,null,null,null,null,null,null,null,null,null,null,null,null,null,null,null,null,null,null,null,null,null,null,null,null,"",null,null,null,null,null,null,null,null,null,null,null,null,3,{"$f":"AC67","v":0},{"$f":"AD67","v":0},{"$f":"AE67","v":0},{"$f":"AB67","v":0},{"$f":"SUM(AP59:AS59)","v":0},{"$f":"AC52","v":0},0,null,null,null,null,null,null,null,null,null,null,null,null,null,null,"",null,null,null,null,null,null,null,null,null,null,null,null,3,{"$f":"BL67","v":0},{"$f":"BM67","v":0},{"$f":"BN67","v":0},{"$f":"BK67","v":0},{"$f":"SUM(BY59:CB59)","v":0},{"$f":"BL52","v":0},0,null,null,null,null,null,null,null,null,null,null,null,null,null,null,"",null,null,null,null,null,null,null,null,null,null,null,null,3,{"$f":"CU67","v":0},{"$f":"CV67","v":0},{"$f":"CW67","v":0},{"$f":"CT67","v":0},{"$f":"SUM(DH59:DK59)","v":0},{"$f":"CU52","v":0},0]
[null,null,null,null,null,null,null,null,null,null,null,null,null,null,null,null,null,null,null,null,null,null,null,null,null,null,null,null,null,null,null,null,null,null,null,null,null,null,null,null,4,{"$f":"AD73","v":0},{"$f":"AD72","v":0},{"$f":"AD71","v":0},{"$f":"AD70","v":0},{"$f":"SUM(AP60:AS60)","v":0},{"$f":"O72","v":0},0,null,null,null,null,null,null,null,null,null,null,null,null,null,null,null,null,null,null,null,null,null,null,null,null,null,null,null,4,{"$f":"BM73","v":0},{"$f":"BM72","v":0},{"$f":"BM71","v":0},{"$f":"BM70","v":0},{"$f":"SUM(BY60:CB60)","v":0},{"$f":"AX72","v":0},0,null,null,null,null,null,null,null,null,null,null,null,null,null,null,null,null,null,null,null,null,null,null,null,null,null,null,null,4,{"$f":"CV73","v":0},{"$f":"CV72","v":0},{"$f":"CV71","v":0},{"$f":"CV70","v":0},{"$f":"SUM(DH60:DK60)","v":0},{"$f":"CG72","v":0},0]
[null,null,null,null,null,null,null,null,null,null,null,null,null,null,null,null,null,null,null,null,null,null,null,null,null,null,null,null,null,null,null,null,null,null,null,null,null,null,null,null,"est",{"$f":"SUM(AP57:AP60)","v":0},{"$f":"SUM(AQ57:AQ60)","v":0},{"$f":"SUM(AR57:AR60)","v":0},{"$f":"SUM(AS57:AS60)","v":0},null,null,null,null,{"$f":"CHOOSE(1,\"DRVWY\",AX67,AX64,AX63,AX62,AW66,AZ66,AW67,AZ67)","v":"DRVWY"},null,null,null,null,null,null,null,null,null,null,null,null,null,null,null,null,null,null,null,null,null,null,null,null,null,"est",{"$f":"SUM(BY57:BY60)","v":0},{"$f":"SUM(BZ57:BZ60)","v":0},{"$f":"SUM(CA57:CA60)","v":0},{"$f":"SUM(CB57:CB60)","v":0},null,null,null,null,{"$f":"CHOOSE(1,\"DRVWY\",CG67,CG64,CG63,CG62,CF66,CI66,CF67,CI67)","v":"DRVWY"},null,null,null,null,null,null,null,null,null,null,null,null,null,null,null,null,null,null,null,null,null,null,null,null,null,"est",{"$f":"SUM(DH57:DH60)","v":0},{"$f":"SUM(DI57:DI60)","v":0},{"$f":"SUM(DJ57:DJ60)","v":0},{"$f":"SUM(DK57:DK60)","v":0}]
[null,null,null,null,null,null,null,null,null,null,null,null,null,null,null,null,null,null,null,null,null,null,null,null,null,null,"RNSE",{"$f":"RNSE(AB64,AB67)","v":"-"},{"$f":"RNSE(AC64,AC67)","v":"-"},"-","-",null,null,null,null,null,null,null,null,null,"tgt",{"$f":"AC84","v":0},{"$f":"AU72","v":0},{"$f":"AI54","v":0},{"$f":"Q66","v":0},null,null,null,null,0.1,"Driveway Tolerance",null,null,null,null,null,null,null,null,null,null,"RNSE",{"$f":"RNSE(BK64,BK67)","v":"-"},{"$f":"RNSE(BL64,BL67)","v":"-"},"-","-",null,null,null,null,null,null,null,null,null,"tgt",{"$f":"BL84","v":0},{"$f":"CD72","v":0},{"$f":"BR54","v":0},{"$f":"AZ66","v":0},null,null,null,null,0.1,"Driveway Tolerance",null,null,null,null,null,null,null,null,null,null,"RNSE",{"$f":"RNSE(CT64,CT67)","v":"-"},{"$f":"RNSE(CU64,CU67)","v":"-"},"-","-",null,null,null,null,null,null,null,null,null,"tgt",{"$f":"CU84","v":0},{"$f":"DM72","v":0},{"$f":"DA54","v":0},{"$f":"CI66","v":0}]
[null,null,null,null,null,null,null,null,null,null,null,null,null,null,null,null,null,null,null,null,null,null,null,null,null,null,"%",{"$f":"AB64/AD52","v":{"$error":"#DIV/0!"}},{"$f":"AC64/AD52","v":{"$error":"#DIV/0!"}},{"$f":"AD64/AD52","v":{"$error":"#DIV/0!"}},{"$f":"AE64/AD52","v":{"$error":"#DIV/0!"}},null,null,null,null,null,null,null,null,null,"err",{"$f":"IFERROR(ABS(AP61-AP62)/AP62,0)","v":0},{"$f":"IFERROR(ABS(AQ61-AQ62)/AQ62,0)","v":0},0,0,null,null,{"$f":"SUM(AP63:AS63,AV57:AV60)","v":0},null,{"$f":"ABS(AX67)/AVERAGE(AZ67,AW67)","v":{"$error":"#DIV/0!"}},"Driveway Imbalance",null,null,null,null,null,null,null,null,null,null,"%",{"$f":"BK64/BM52","v":{"$error":"#DIV/0!"}},{"$f":"BL64/BM52","v":{"$error":"#DIV/0!"}},{"$f":"BM64/BM52","v":{"$error":"#DIV/0!"}},{"$f":"BN64/BM52","v":{"$error":"#DIV/0!"}},null,null,null,null,null,null,null,null,null,"err",{"$f":"IFERROR(ABS(BY61-BY62)/BY62,0)","v":0},{"$f":"IFERROR(ABS(BZ61-BZ62)/BZ62,0)","v":0},0,0,null,null,{"$f":"SUM(BY63:CB63,CE57:CE60)","v":0},null,{"$f":"ABS(CG67)/AVERAGE(CI67,CF67)","v":{"$error":"#DIV/0!"}},"Driveway Imbalance",null,null,null,null,null,null,null,null,null,null,"%",{"$f":"CT64/CV52","v":{"$error":"#DIV/0!"}},{"$f":"CU64/CV52","v":{"$error":"#DIV/0!"}},{"$f":"CV64/CV52","v":{"$error":"#DIV/0!"}},{"$f":"CW64/CV52","v":{"$error":"#DIV/0!"}},null,null,null,null,null,null,null,null,null,"err",{"$f":"IFERROR(ABS(DH61-DH62)/DH62,0)","v":0},{"$f":"IFERROR(ABS(DI61-DI62)/DI62,0)","v":0},0,0,null,null,{"$f":"SUM(DH63:DK63,DN57:DN60)","v":0}]
[null,null,null,null,null,null,null,null,null,null,null,null,null,null,null,null,null,null,null,null,null,null,null,null,null,null,"bal",{"$f":"AS78","v":0},{"$f":"AP78","v":0},{"$f":"AQ78","v":0},{"$f":"AR78","v":0},null,null,"raw","%",null,"bal","%","RNSE",null,null,null,null,null,null,null,null,null,null,{"$f":"IF(AX63<=AX62,0,AX67)","v":{"$error":"#DIV/0!"}},"Imbalance (adj. for driveway tol.)",null,null,null,null,null,null,null,null,null,null,"bal",{"$f":"BZ81","v":0},{"$f":"BW81","v":0},{"$f":"BX81","v":0},{"$f":"BY81","v":0},null,null,"raw","%",null,"bal","%","RNSE",null,null,null,null,null,null,null,null,null,null,{"$f":"IF(CG63<=CG62,0,CG67)","v":{"$error":"#DIV/0!"}},"Imbalance (adj. for driveway tol.)",null,null,null,null,null,null,null,null,null,null,"bal",{"$f":"DK78","v":0},{"$f":"DH78","v":0},{"$f":"DI78","v":0},{"$f":"DJ78","v":0},null,null,"raw","%",null,"bal","%","RNSE"]
[null,null,null,null,null,null,null,null,null,null,null,null,null,null,null,null,null,null,null,null,null,null,null,null,null,null,null,8,"$",9,"M",null,{"$f":"CHOOSE(1,\"<\",\"TURN\",8,AF69,AH65,AK65)","v":"<"},0,{"$f":"AH65/AW68","v":{"$error":"#DIV/0!"}},"<",{"$f":"AR77","v":0},{"$f":"AK65/AW67","v":{"$error":"#DIV/0!"}},{"$f":"RNSE(AK65,AH65)","v":"-"},null,null,"",null,null,null,null,null,null,null,null,null,null,null,null,null,null,null,null,null,null,null,null,8,"$",9,"M",null,{"$f":"CHOOSE(1,\"<\",\"TURN\",8,BO69,BQ65,BT65)","v":"<"},0,{"$f":"BQ65/CF68","v":{"$error":"#DIV/0!"}},"<",{"$f":"BY80","v":0},{"$f":"BT65/CF67","v":{"$error":"#DIV/0!"}},{"$f":"RNSE(BT65,BQ65)","v":"-"},null,null,"",null,null,null,null,null,null,null,null,null,null,null,null,null,null,null,null,null,null,null,null,8,"$",9,"M",null,{"$f":"CHOOSE(1,\"<\",\"TURN\",8,CX69,CZ65,DC65)","v":"<"},0,{"$f":"CZ65/DO68","v":{"$error":"#DIV/0!"}},"<",{"$f":"DJ77","v":0},{"$f":"DC65/DO67","v":{"$error":"#DIV/0!"}},{"$f":"RNSE(DC65,CZ65)","v":"-"},null,null,""]
[null,null,null,null,null,null,null,null,null,null,null,null,null,null,"imbal","target",{"$f":"IF(N67<>\"\",AVERAGE(Q67,N67),Q67)","v":0},null,null,null,null,null,null,null,null,null,"%",{"$f":"AB67/AE52","v":{"$error":"#DIV/0!"}},{"$f":"AC67/AE52","v":{"$error":"#DIV/0!"}},{"$f":"AD67/AE52","v":{"$error":"#DIV/0!"}},{"$f":"AE67/AE52","v":{"$error":"#DIV/0!"}},null,{"$f":"CHOOSE(1,\"!\",\"TURN\",7,AF69,AH66,AK66)","v":"!"},0,{"$f":"AH66/AW68","v":{"$error":"#DIV/0!"}},"!",{"$f":"AS77","v":0},{"$f":"AK66/AW67","v":{"$error":"#DIV/0!"}},{"$f":"RNSE(AK66,AH66)","v":"-"},null,null,null,null,null,null,null,null,"target",{"$f":"IF(AZ67<>\"\",AVERAGE(AW67,AZ67),AW67)","v":0},"imbal","target",{"$f":"IF(AW67<>\"\",AVERAGE(AZ67,AW67),AZ67)","v":0},null,null,null,null,null,null,null,null,null,"%",{"$f":"BK67/BN52","v":{"$error":"#DIV/0!"}},{"$f":"BL67/BN52","v":{"$error":"#DIV/0!"}},{"$f":"BM67/BN52","v":{"$error":"#DIV/0!"}},{"$f":"BN67/BN52","v":{"$error":"#DIV/0!"}},null,{"$f":"CHOOSE(1,\"!\",\"TURN\",7,BO69,BQ66,BT66)","v":"!"},0,{"$f":"BQ66/CF68","v":{"$error":"#DIV/0!"}},"!",{"$f":"BZ80","v":0},{"$f":"BT66/CF67","v":{"$error":"#DIV/0!"}},{"$f":"RNSE(BT66,BQ66)","v":"-"},null,null,null,null,null,null,null,null,"target",{"$f":"IF(CI67<>\"\",AVERAGE(CF67,CI67),CF67)","v":0},"imbal","target",{"$f":"IF(CF67<>\"\",AVERAGE(CI67,CF67),CI67)","v":0},null,null,null,null,null,null,null,null,null,"%",{"$f":"CT67/CW52","v":{"$error":"#DIV/0!"}},{"$f":"CU67/CW52","v":{"$error":"#DIV/0!"}},{"$f":"CV67/CW52","v":{"$error":"#DIV/0!"}},{"$f":"CW67/CW52","v":{"$error":"#DIV/0!"}},null,{"$f":"CHOOSE(1,\"!\",\"TURN\",7,CX69,CZ66,DC66)","v":"!"},0,{"$f":"CZ66/DO68","v":{"$error":"#DIV/0!"}},"!",{"$f":"DK77","v":0},{"$f":"DC66/DO67","v":{"$error":"#DIV/0!"}},{"$f":"RNSE(DC66,CZ66)","v":"-"},null,null,null,null,null,null,null,null,"target",{"$f":"IF(DR67<>\"\",AVERAGE(DO67,DR67),DO67)","v":0}]
[null,null,null,null,null,null,null,null,null,null,null,null,null,null,{"$f":"IF(N67<>\"\",N67-Q67,0)","v":0},"!",{"$f":"SUM(AA70,AH74,AK66,AB64)","v":0},null,null,null,null,null,null,null,null,null,"raw",0,0,0,0,null,{"$f":"CHOOSE(1,\">\",\"TURN\",6,AF69,AH67,AK67)","v":">"},0,{"$f":"AH67/AW68","v":{"$error":"#DIV/0!"}},">",{"$f":"AP77","v":0},{"$f":"AK67/AW67","v":{"$error":"#DIV/0!"}},"-",null,null,null,null,null,null,null,null,"!",{"$f":"SUM(AK65:AK68)","v":0},{"$f":"IF(AW67<>\"\",AW67-AZ67,0)","v":0},"!",{"$f":"SUM(BJ70,BQ74,BT66,BK64)","v":0},null,null,null,null,null,null,null,null,null,"raw",0,0,0,0,null,{"$f":"CHOOSE(1,\">\",\"TURN\",6,BO69,BQ67,BT67)","v":">"},0,{"$f":"BQ67/CF68","v":{"$error":"#DIV/0!"}},">",{"$f":"BW80","v":0},{"$f":"BT67/CF67","v":{"$error":"#DIV/0!"}},"-",null,null,null,null,null,null,null,null,"!",{"$f":"SUM(BT65:BT68)","v":0},{"$f":"IF(CF67<>\"\",CF67-CI67,0)","v":0},"!",{"$f":"SUM(CS70,CZ74,DC66,CT64)","v":0},null,null,null,null,null,null,null,null,null,"raw",0,0,0,0,null,{"$f":"CHOOSE(1,\">\",\"TURN\",6,CX69,CZ67,DC67)","v":">"},0,{"$f":"CZ67/DO68","v":{"$error":"#DIV/0!"}},">",{"$f":"DH77","v":0},{"$f":"DC67/DO67","v":{"$error":"#DIV/0!"}},"-",null,null,null,null,null,null,null,null,"!",{"$f":"SUM(DC65:DC68)","v":0}]
[null,null,null,null,null,null,null,null,null,null,null,null,null,null,{"$f":"IF(N68<>\"\",N68-Q68,0)","v":0},"!",{"$f":"SUM(AD70,AH71,AH66,AB67)","v":0},null,null,null,null,null,null,null,null,null,null,{"$f":"CHOOSE(1,8,\"TURN\",12,AF69,AB67,AB64)","v":8},{"$f":"CHOOSE(1,\"$\",\"TURN\",11,AF69,AC67,AC64)","v":"$"},{"$f":"CHOOSE(1,\"9\",\"TURN\",10,AF69,AD67,AD64)","v":"9"},{"$f":"CHOOSE(1,\"M\",\"TURN\",9,AF69,AE67,AE64)","v":"M"},null,{"$f":"CHOOSE(1,\"N\",\"TURN\",5,AF69,AH68,AK68)","v":"N"},0,{"$f":"AH68/AW68","v":{"$error":"#DIV/0!"}},"N",{"$f":"AQ77","v":0},{"$f":"AK68/AW67","v":{"$error":"#DIV/0!"}},"-",null,null,null,null,null,null,null,null,"!",{"$f":"SUM(AH65:AH68)","v":0},{"$f":"IF(AW68<>\"\",AW68-AZ68,0)","v":0},"!",{"$f":"SUM(BM70,BQ71,BQ66,BK67)","v":0},null,null,null,null,null,null,null,null,null,null,{"$f":"CHOOSE(1,8,\"TURN\",12,BO69,BK67,BK64)","v":8},{"$f":"CHOOSE(1,\"$\",\"TURN\",11,BO69,BL67,BL64)","v":"$"},{"$f":"CHOOSE(1,\"9\",\"TURN\",10,BO69,BM67,BM64)","v":"9"},{"$f":"CHOOSE(1,\"M\",\"TURN\",9,BO69,BN67,BN64)","v":"M"},null,{"$f":"CHOOSE(1,\"N\",\"TURN\",5,BO69,BQ68,BT68)","v":"N"},0,{"$f":"BQ68/CF68","v":{"$error":"#DIV/0!"}},"N",{"$f":"BX80","v":0},{"$f":"BT68/CF67","v":{"$error":"#DIV/0!"}},"-",null,null,null,null,null,null,null,null,"!",{"$f":"SUM(BQ65:BQ68)","v":0},{"$f":"IF(CF68<>\"\",CF68-CI68,0)","v":0},"!",{"$f":"SUM(CV70,CZ71,CZ66,CT67)","v":0},null,null,null,null,null,null,null,null,null,null,{"$f":"CHOOSE(1,8,\"TURN\",12,CX69,CT67,CT64)","v":8},{"$f":"CHOOSE(1,\"$\",\"TURN\",11,CX69,CU67,CU64)","v":"$"},{"$f":"CHOOSE(1,\"9\",\"TURN\",10,CX69,CV67,CV64)","v":"9"},{"$f":"CHOOSE(1,\"M\",\"TURN\",9,CX69,CW67,CW64)","v":"M"},null,{"$f":"CHOOSE(1,\"N\",\"TURN\",5,CX69,CZ68,DC68)","v":"N"},0,{"$f":"CZ68/DO68","v":{"$error":"#DIV/0!"}},"N",{"$f":"DI77","v":0},{"$f":"DC68/DO67","v":{"$error":"#DIV/0!"}},"-",null,null,null,null,null,null,null,null,"!",{"$f":"SUM(CZ65:CZ68)","v":0}]
[null,null,null,null,null,null,null,null,null,null,null,null,null,null,null,null,null,null,null,null,null,null,null,null,null,null,null,null,null,null,null,1,null,null,null,null,null,null,null,null,null,null,null,null,null,null,null,null,null,null,null,null,null,null,null,null,null,null,null,null,null,null,null,null,null,null,1,null,null,null,null,null,null,null,null,null,null,null,null,null,null,null,null,null,null,null,null,null,null,null,null,null,null,null,null,null,null,null,null,null,null,1]
[null,null,null,null,null,null,null,null,null,null,null,null,null,null,{"$f":"SUM(AD70:AD73)","v":0},"\"",null,null,null,null,null,null,"Main Ave",null,{"$f":"RNSE(AA70,AD70)","v":"-"},{"$f":"AA70/O71","v":{"$error":"#DIV/0!"}},{"$f":"AS79","v":0},"O",{"$f":"AD70/O70","v":{"$error":"#DIV/0!"}},0,{"$f":"CHOOSE(1,\"O\",\"TURN\",13,AF69,AD70,AA70)","v":"O"},null,{"$f":"CHOOSE(1,\"L\",\"TURN\",1,AF69,AG71,AG74)","v":"L"},{"$f":"CHOOSE(1,\":\",\"TURN\",2,AF69,AH71,AH74)","v":":"},{"$f":"CHOOSE(1,\"#\",\"TURN\",3,AF69,AI71,AI74)","v":"#"},{"$f":"CHOOSE(1,\";\",\"TURN\",4,AF69,AJ71,AJ74)","v":";"},null,null,null,null,null,null,null,null,null,null,{"$f":"SUM(AH68,AD67,AD72,AJ71)","v":0},"\"",{"$f":"IF(AX70<>\"\",AX70-AU70,0)","v":0},{"$f":"SUM(BM70:BM73)","v":0},"\"",null,null,null,null,null,null,"Driveway St",null,{"$f":"RNSE(BJ70,BM70)","v":"-"},{"$f":"BJ70/AX71","v":{"$error":"#DIV/0!"}},{"$f":"BZ82","v":0},"O",{"$f":"BM70/AX70","v":{"$error":"#DIV/0!"}},0,{"$f":"CHOOSE(1,\"O\",\"TURN\",13,BO69,BM70,BJ70)","v":"O"},null,{"$f":"CHOOSE(1,\"L\",\"TURN\",1,BO69,BP71,BP74)","v":"L"},{"$f":"CHOOSE(1,\":\",\"TURN\",2,BO69,BQ71,BQ74)","v":":"},{"$f":"CHOOSE(1,\"#\",\"TURN\",3,BO69,BR71,BR74)","v":"#"},{"$f":"CHOOSE(1,\";\",\"TURN\",4,BO69,BS71,BS74)","v":";"},null,null,null,null,null,null,null,null,null,null,{"$f":"SUM(BQ68,BM67,BM72,BS71)","v":0},"\"",{"$f":"IF(CG70<>\"\",CG70-CD70,0)","v":0},{"$f":"SUM(CV70:CV73)","v":0},"\"",null,null,null,null,null,null,"Main Ave",null,{"$f":"RNSE(CS70,CV70)","v":"-"},{"$f":"CS70/CG71","v":{"$error":"#DIV/0!"}},{"$f":"DK79","v":0},"O",{"$f":"CV70/CG70","v":{"$error":"#DIV/0!"}},0,{"$f":"CHOOSE(1,\"O\",\"TURN\",13,CX69,CV70,CS70)","v":"O"},null,{"$f":"CHOOSE(1,\"L\",\"TURN\",1,CX69,CY71,CY74)","v":"L"},{"$f":"CHOOSE(1,\":\",\"TURN\",2,CX69,CZ71,CZ74)","v":":"},{"$f":"CHOOSE(1,\"#\",\"TURN\",3,CX69,DA71,DA74)","v":"#"},{"$f":"CHOOSE(1,\";\",\"TURN\",4,CX69,DB71,DB74)","v":";"},null,null,null,null,null,null,null,null,null,null,{"$f":"SUM(CZ68,CV67,CV72,DB71)","v":0},"\"",{"$f":"IF(DP70<>\"\",DP70-DM70,0)","v":0}]
[null,null,null,null,null,null,null,null,null,null,null,null,null,null,{"$f":"SUM(AA70:AA73)","v":0},"\"",null,null,null,null,null,null,null,null,"-",{"$f":"AA71/O71","v":{"$error":"#DIV/0!"}},{"$f":"AR79","v":0},"=",{"$f":"AD71/O70","v":{"$error":"#DIV/0!"}},0,{"$f":"CHOOSE(1,\"=\",\"TURN\",14,AF69,AD71,AA71)","v":"="},null,0,0,0,0,"raw",null,null,null,null,null,null,null,null,null,{"$f":"SUM(AK68,AD64,AA72,AJ74)","v":0},"\"",{"$f":"IF(AX71<>\"\",AX71-AU71,0)","v":0},{"$f":"SUM(BJ70:BJ73)","v":0},"\"",null,null,null,null,null,null,null,null,"-",{"$f":"BJ71/AX71","v":{"$error":"#DIV/0!"}},{"$f":"BY82","v":0},"=",{"$f":"BM71/AX70","v":{"$error":"#DIV/0!"}},0,{"$f":"CHOOSE(1,\"=\",\"TURN\",14,BO69,BM71,BJ71)","v":"="},null,0,0,0,0,"raw",null,null,null,null,null,null,null,null,null,{"$f":"SUM(BT68,BM64,BJ72,BS74)","v":0},"\"",{"$f":"IF(CG71<>\"\",CG71-CD71,0)","v":0},{"$f":"SUM(CS70:CS73)","v":0},"\"",null,null,null,null,null,null,null,null,"-",{"$f":"CS71/CG71","v":{"$error":"#DIV/0!"}},{"$f":"DJ79","v":0},"=",{"$f":"CV71/CG70","v":{"$error":"#DIV/0!"}},0,{"$f":"CHOOSE(1,\"=\",\"TURN\",14,CX69,CV71,CS71)","v":"="},null,0,0,0,0,"raw",null,null,null,null,null,null,null,null,null,{"$f":"SUM(DC68,CV64,CS72,DB74)","v":0},"\"",{"$f":"IF(DP71<>\"\",DP71-DM71,0)","v":0}]
[null,null,null,null,null,null,null,null,null,null,null,null,null,null,{"$f":"IF(L71<>\"\",AVERAGE(O71,L71),O71)","v":0},"target",null,null,null,null,null,null,null,null,"-",{"$f":"AA72/O71","v":{"$error":"#DIV/0!"}},{"$f":"AQ79","v":0},"\"",{"$f":"AD72/O70","v":{"$error":"#DIV/0!"}},0,{"$f":"CHOOSE(1,\"\"\"\",\"TURN\",15,AF69,AD72,AA72)","v":"\""},null,{"$f":"AG71/AG86","v":{"$error":"#DIV/0!"}},{"$f":"AH71/AG86","v":{"$error":"#DIV/0!"}},{"$f":"AI71/AG86","v":{"$error":"#DIV/0!"}},{"$f":"AJ71/AG86","v":{"$error":"#DIV/0!"}},"%",null,null,null,null,null,null,null,null,null,{"$f":"IF(AX71<>\"\",AVERAGE(AU71,AX71),AU71)","v":0},"target","imbal",{"$f":"IF(AU71<>\"\",AVERAGE(AX71,AU71),AX71)","v":0},"target",null,null,null,null,null,null,null,null,"-",{"$f":"BJ72/AX71","v":{"$error":"#DIV/0!"}},{"$f":"BX82","v":0},"\"",{"$f":"BM72/AX70","v":{"$error":"#DIV/0!"}},0,{"$f":"CHOOSE(1,\"\"\"\",\"TURN\",15,BO69,BM72,BJ72)","v":"\""},null,{"$f":"BP71/BP86","v":{"$error":"#DIV/0!"}},{"$f":"BQ71/BP86","v":{"$error":"#DIV/0!"}},{"$f":"BR71/BP86","v":{"$error":"#DIV/0!"}},{"$f":"BS71/BP86","v":{"$error":"#DIV/0!"}},"%",null,null,null,null,null,null,null,null,null,{"$f":"IF(CG71<>\"\",AVERAGE(CD71,CG71),CD71)","v":0},"target","imbal",{"$f":"IF(CD71<>\"\",AVERAGE(CG71,CD71),CG71)","v":0},"target",null,null,null,null,null,null,null,null,"-",{"$f":"CS72/CG71","v":{"$error":"#DIV/0!"}},{"$f":"DI79","v":0},"\"",{"$f":"CV72/CG70","v":{"$error":"#DIV/0!"}},0,{"$f":"CHOOSE(1,\"\"\"\",\"TURN\",15,CX69,CV72,CS72)","v":"\""},null,{"$f":"CY71/CY86","v":{"$error":"#DIV/0!"}},{"$f":"CZ71/CY86","v":{"$error":"#DIV/0!"}},{"$f":"DA71/CY86","v":{"$error":"#DIV/0!"}},{"$f":"DB71/CY86","v":{"$error":"#DIV/0!"}},"%",null,null,null,null,null,null,null,null,null,{"$f":"IF(DP71<>\"\",AVERAGE(DM71,DP71),DM71)","v":0},"target","imbal"]
[null,null,null,null,null,null,null,null,null,null,null,null,null,null,null,null,null,null,null,null,null,"",null,null,"-",{"$f":"AA73/O71","v":{"$error":"#DIV/0!"}},{"$f":"AP79","v":0},"?",{"$f":"AD73/O70","v":{"$error":"#DIV/0!"}},0,{"$f":"CHOOSE(1,\"?\",\"TURN\",16,AF69,AD73,AA73)","v":"?"},null,"L",":","#",";",null,null,null,null,null,null,null,null,null,null,null,null,null,null,null,null,null,null,null,null,"",null,null,"-",{"$f":"BJ73/AX71","v":{"$error":"#DIV/0!"}},{"$f":"BW82","v":0},"?",{"$f":"BM73/AX70","v":{"$error":"#DIV/0!"}},0,{"$f":"CHOOSE(1,\"?\",\"TURN\",16,BO69,BM73,BJ73)","v":"?"},null,"L",":","#",";",null,null,null,null,null,null,null,null,null,null,null,null,null,null,null,null,null,null,null,null,"",null,null,"-",{"$f":"CS73/CG71","v":{"$error":"#DIV/0!"}},{"$f":"DH79","v":0},"?",{"$f":"CV73/CG70","v":{"$error":"#DIV/0!"}},0,{"$f":"CHOOSE(1,\"?\",\"TURN\",16,CX69,CV73,CS73)","v":"?"},null,"L",":","#",";"]
[null,null,null,null,null,null,null,null,null,null,null,null,null,null,null,null,null,null,null,null,null,null,null,null,"RNSE","%","bal",null,"%","raw",null,null,{"$f":"AP76","v":0},{"$f":"AS76","v":0},{"$f":"AR76","v":0},{"$f":"AQ76","v":0},"bal",null,null,null,"Local OD Estimated",null,null,null,null,null,null,null,null,null,null,null,null,null,null,null,null,null,null,"RNSE","%","bal",null,"%","raw",null,null,{"$f":"BW79","v":0},{"$f":"BZ79","v":0},{"$f":"BY79","v":0},{"$f":"BX79","v":0},"bal",null,null,null,null,null,null,null,null,null,null,null,{"$f":"CHOOSE(1,\"DRVWY\",CF71,CF77,CF76,CF75,CG72,CD72,CG71,CD71)","v":"DRVWY"},null,null,null,null,null,null,null,null,null,null,"RNSE","%","bal",null,"%","raw",null,null,{"$f":"DH76","v":0},{"$f":"DK76","v":0},{"$f":"DJ76","v":0},{"$f":"DI76","v":0},"bal",null,null,null,"Local OD Estimated"]
[null,null,null,null,null,null,null,null,null,null,null,null,null,null,null,null,null,null,null,null,null,null,null,null,null,null,null,null,null,null,null,null,{"$f":"AG74/AH86","v":{"$error":"#DIV/0!"}},{"$f":"AH74/AH86","v":{"$error":"#DIV/0!"}},{"$f":"AI74/AH86","v":{"$error":"#DIV/0!"}},{"$f":"AJ74/AH86","v":{"$error":"#DIV/0!"}},"%",null,null,null,{"$f":"\"local_od_est_\"&AF69","v":"local_od_est_1"},1,2,3,4,"est","tgt","err",null,null,null,null,null,null,null,null,null,null,null,null,null,null,null,null,null,null,null,{"$f":"BP74/BQ86","v":{"$error":"#DIV/0!"}},{"$f":"BQ74/BQ86","v":{"$error":"#DIV/0!"}},{"$f":"BR74/BQ86","v":{"$error":"#DIV/0!"}},{"$f":"BS74/BQ86","v":{"$error":"#DIV/0!"}},"%",null,null,null,null,null,null,null,null,null,null,"Driveway Tolerance",0.1,null,null,null,null,null,null,null,null,null,null,null,null,null,null,null,null,null,null,{"$f":"CY74/CZ86","v":{"$error":"#DIV/0!"}},{"$f":"CZ74/CZ86","v":{"$error":"#DIV/0!"}},{"$f":"DA74/CZ86","v":{"$error":"#DIV/0!"}},{"$f":"DB74/CZ86","v":{"$error":"#DIV/0!"}},"%",null,null,null,{"$f":"\"local_od_est_\"&CX69","v":"local_od_est_1"},1,2,3,4,"est","tgt","err"]
[null,null,null,null,null,null,null,null,null,null,null,null,null,null,null,null,null,null,null,null,null,null,null,null,null,null,null,null,null,null,null,null,{"$f":"RNSE(AG74,AG71)","v":"-"},"-","-","-","RNSE",null,null,null,1,{"$f":"AP57","v":0},0,0,0,{"$f":"SUM(AP76:AS76)","v":0},{"$f":"AU57","v":0},{"$f":"IFERROR(ABS(AT76-AU76)/AU76,0)","v":0},null,null,null,null,null,null,null,null,null,null,null,null,null,null,null,null,null,null,null,{"$f":"RNSE(BP74,BP71)","v":"-"},"-","-","-","RNSE",null,null,null,null,null,null,null,null,null,null,"Driveway Imbalance",{"$f":"ABS(CF71)/AVERAGE(CG71,CD71)","v":{"$error":"#DIV/0!"}},null,null,null,null,null,null,null,null,null,null,null,null,null,null,null,null,null,null,{"$f":"RNSE(CY74,CY71)","v":"-"},"-","-","-","RNSE",null,null,null,1,{"$f":"DH57","v":0},0,0,0,{"$f":"SUM(DH76:DK76)","v":0},{"$f":"DM57","v":0},{"$f":"IFERROR(ABS(DL76-DM76)/DM76,0)","v":0}]
[null,null,null,null,null,null,null,null,null,null,null,null,null,null,null,null,null,null,null,null,null,null,null,null,null,null,null,null,null,null,null,null,null,null,null,null,null,null,null,null,2,0,0,0,0,{"$f":"SUM(AP77:AS77)","v":0},0,{"$f":"IFERROR(ABS(AT77-AU77)/AU77,0)","v":0},null,null,null,null,null,null,null,null,null,null,null,null,null,null,null,null,null,null,null,null,null,null,null,null,null,"Local OD Estimated",null,null,null,null,null,null,null,null,"Imbalance (adj. for driveway tol.)",{"$f":"IF(CF76<=CF75,0,CF71)","v":{"$error":"#DIV/0!"}},null,null,null,null,null,null,null,null,null,null,null,null,null,null,null,null,null,null,null,null,null,null,null,null,null,null,2,0,0,0,0,{"$f":"SUM(DH77:DK77)","v":0},0,{"$f":"IFERROR(ABS(DL77-DM77)/DM77,0)","v":0}]
[null,null,null,null,null,null,null,null,null,null,null,null,null,null,null,null,null,null,null,null,null,null,null,null,null,null,null,null,null,null,null,null,null,null,null,null,null,null,null,null,3,0,0,0,0,0,0,0,null,null,null,null,null,null,null,null,null,null,null,null,null,null,null,null,null,null,null,null,null,null,null,null,null,{"$f":"\"local_od_est_\"&BO69","v":"local_od_est_1"},1,2,3,4,"est","tgt","err",null,null,null,null,null,null,null,null,null,null,null,null,null,null,null,null,null,null,null,null,null,null,null,null,null,null,null,null,null,3,0,0,0,0,0,0,0]
[null,null,null,null,null,null,null,null,null,null,null,null,null,null,null,null,null,null,null,null,null,null,null,null,null,null,null,null,null,null,null,null,null,null,null,"",null,null,null,null,4,0,0,0,0,0,0,0,null,null,null,null,null,null,null,null,null,null,null,null,null,null,null,null,null,null,null,null,null,null,"",null,null,1,{"$f":"BY57","v":0},0,0,0,{"$f":"SUM(BW79:BZ79)","v":0},{"$f":"CD57","v":0},{"$f":"IFERROR(ABS(CA79-CB79)/CB79,0)","v":0},null,null,null,null,null,null,null,null,null,null,null,null,null,null,null,null,null,null,null,null,null,null,null,null,"",null,null,null,null,4,0,0,0,0,0,0,0]
[null,null,null,null,null,null,null,null,null,null,null,null,null,null,null,null,null,null,null,null,null,null,null,null,null,null,null,null,null,null,null,null,null,null,null,null,null,null,null,null,"est",{"$f":"SUM(AP76:AP79)","v":0},{"$f":"SUM(AQ76:AQ79)","v":0},0,0,null,null,null,null,null,null,null,null,null,null,null,null,null,null,null,null,null,null,null,null,null,null,null,null,null,null,null,null,2,0,0,0,0,{"$f":"SUM(BW80:BZ80)","v":0},{"$f":"CD58","v":0},{"$f":"IFERROR(ABS(CA80-CB80)/CB80,0)","v":0},null,null,null,null,null,null,null,null,null,null,null,null,null,null,null,null,null,null,null,null,null,null,null,null,null,null,null,null,null,"est",{"$f":"SUM(DH76:DH79)","v":0},{"$f":"SUM(DI76:DI79)","v":0},0,0]
[null,null,null,null,null,null,null,null,null,null,null,null,null,null,null,null,null,null,null,null,null,null,null,null,null,null,null,null,null,null,null,null,null,null,null,null,null,null,null,null,"tgt",{"$f":"AP62","v":0},0,0,0,null,null,null,null,null,null,null,null,null,null,null,null,null,null,null,null,null,null,null,null,null,null,null,null,null,null,null,null,3,0,0,0,0,0,{"$f":"CD59","v":0},0,null,null,null,null,null,null,null,null,null,null,null,null,null,null,null,null,null,null,null,null,null,null,null,null,null,null,null,null,null,"tgt",{"$f":"DH62","v":0},0,0,0]
[null,null,null,null,null,null,null,null,null,null,null,null,null,null,null,null,null,null,null,null,null,null,null,null,null,null,null,null,null,null,null,null,null,null,null,null,null,null,null,null,"err",{"$f":"IFERROR(ABS(AP80-AP81)/AP81,0)","v":0},{"$f":"IFERROR(ABS(AQ80-AQ81)/AQ81,0)","v":0},0,0,null,null,{"$f":"SUM(AP82:AS82,AV76:AV79)","v":0},null,null,null,null,null,null,null,null,null,null,null,null,null,null,null,null,null,null,null,null,null,null,null,null,null,4,0,0,0,0,0,{"$f":"CD60","v":0},0,null,null,null,null,null,null,null,null,null,null,null,null,null,null,null,null,null,null,null,null,null,null,null,null,null,null,null,null,null,"err",{"$f":"IFERROR(ABS(DH80-DH81)/DH81,0)","v":0},{"$f":"IFERROR(ABS(DI80-DI81)/DI81,0)","v":0},0,0,null,null,{"$f":"SUM(DH82:DK82,DN76:DN79)","v":0}]
[null,null,null,null,null,null,null,null,null,null,null,null,null,null,null,null,null,null,null,null,null,null,null,null,null,null,null,null,null,null,null,null,null,null,null,null,null,null,null,null,null,null,null,null,null,null,null,null,null,null,null,null,null,null,null,null,null,null,null,null,"Driveway Tolerance",0.1,null,null,null,null,null,null,null,null,null,null,null,"est",{"$f":"SUM(BW79:BW82)","v":0},{"$f":"SUM(BX79:BX82)","v":0},0,0]
[null,null,null,null,null,null,null,null,null,null,null,null,null,null,null,null,null,null,null,null,null,null,null,null,null,null,null,null,{"$f":"IF(AD87<>\"\",AVERAGE(AD84,AD87),AD84)","v":0},{"$f":"SUM(AG74,AK67,AC64,AA73)","v":0},{"$f":"SUM(AG71,AH67,AC67,AD73)","v":0},null,null,null,null,null,null,null,null,null,null,null,null,null,null,null,null,null,null,null,null,null,null,null,null,null,null,null,null,null,"Driveway Imbalance",{"$f":"ABS(BM86)/AVERAGE(BM87,BM84)","v":{"$error":"#DIV/0!"}},null,{"$f":"IF(BM87<>\"\",AVERAGE(BM84,BM87),BM84)","v":0},{"$f":"SUM(BP74,BT67,BL64,BJ73)","v":0},{"$f":"SUM(BP71,BQ67,BL67,BM73)","v":0},null,null,null,null,null,null,null,"tgt",{"$f":"BY62","v":0},{"$f":"BZ62","v":0},{"$f":"CA62","v":0},{"$f":"CB62","v":0},null,null,null,null,null,null,null,null,null,null,null,null,null,null,null,null,null,null,null,null,{"$f":"IF(CV87<>\"\",AVERAGE(CV84,CV87),CV84)","v":0},{"$f":"SUM(CY74,DC67,CU64,CS73)","v":0},{"$f":"SUM(CY71,CZ67,CU67,CV73)","v":0}]
[null,null,null,null,null,null,null,null,null,null,null,null,null,null,null,null,null,null,null,null,null,null,null,null,null,null,null,null,"target","$","$",null,"#","#","target",null,null,null,null,null,null,null,null,null,null,null,null,null,null,null,null,null,null,null,null,null,null,null,null,null,"Imbalance (adj. for driveway tol.)",{"$f":"IF(BJ84<=BJ83,0,BM86)","v":{"$error":"#DIV/0!"}},null,"target","$","$",null,"#","#","target",null,null,null,"err",{"$f":"IFERROR(ABS(BW83-BW84)/BW84,0)","v":0},{"$f":"IFERROR(ABS(BX83-BX84)/BX84,0)","v":0},0,0,null,null,{"$f":"SUM(BW85:BZ85,CC79:CC82)","v":0},null,null,null,null,null,null,null,null,null,null,null,null,null,null,null,null,null,"target","$","$",null,"#","#","target"]
[null,null,null,null,null,null,null,null,null,null,null,null,null,null,null,null,null,null,null,null,null,null,null,null,null,null,null,null,"imbal",{"$f":"IF(AD87<>\"\",AD87-AD84,0)","v":0},{"$f":"IF(AE87<>\"\",AE87-AE84,0)","v":0},null,{"$f":"SUM(AG71:AJ71)","v":0},{"$f":"SUM(AG74:AJ74)","v":0},{"$f":"IF(AH89<>\"\",AVERAGE(AH86,AH89),AH86)","v":0},null,null,null,null,null,null,null,null,null,null,null,null,null,null,null,null,null,null,null,null,null,null,null,null,null,null,{"$f":"CHOOSE(1,\"DRVWY\",BM86,BJ85,BJ84,BJ83,BL87,BL84,BM87,BM84)","v":"DRVWY"},null,"imbal",{"$f":"IF(BM87<>\"\",BM87-BM84,0)","v":0},{"$f":"IF(BN87<>\"\",BN87-BN84,0)","v":0},null,{"$f":"SUM(BP71:BS71)","v":0},{"$f":"SUM(BP74:BS74)","v":0},{"$f":"IF(BQ89<>\"\",AVERAGE(BQ86,BQ89),BQ86)","v":0},null,null,null,null,null,null,null,null,null,null,null,null,null,null,null,null,null,null,null,null,null,null,null,null,null,null,null,null,"imbal",{"$f":"IF(CV87<>\"\",CV87-CV84,0)","v":0},{"$f":"IF(CW87<>\"\",CW87-CW84,0)","v":0},null,{"$f":"SUM(CY71:DB71)","v":0},{"$f":"SUM(CY74:DB74)","v":0},{"$f":"IF(CZ89<>\"\",AVERAGE(CZ86,CZ89),CZ86)","v":0}]
[null,null,null,null,null,null,null,null,null,null,null,null,null,null,null,null,null,null,null,null,null,null,null,null,null,null,null,null,null,null,null,null,null,null,null,null,null,null,null,null,null,null,null,null,null,null,null,null,null,null,null,null,null,null,null,null,null,null,null,null,null,null,null,{"$f":"IF(BM84<>\"\",AVERAGE(BM87,BM84),BM87)","v":0},{"$f":"SUM(BK99:BN99)","v":0},{"$f":"SUM(BK102:BN102)","v":0},null,{"$f":"IF(BP86<>\"\",BP86-BP89,0)","v":0},{"$f":"IF(BQ86<>\"\",BQ86-BQ89,0)","v":0},"imbal"]
[null,null,null,null,null,null,null,null,null,null,null,null,null,null,null,null,null,null,null,null,null,null,null,null,null,null,null,null,null,null,null,null,null,null,null,null,null,null,null,null,null,null,null,null,null,null,null,null,null,null,null,null,null,null,null,null,null,null,null,null,null,null,null,"target","$","$",null,"#","#","target"]
[null,null,null,null,null,null,null,null,null,null,null,null,null,null,null,null,null,null,null,null,null,null,null,null,null,null,null,null,null,null,null,null,null,null,null,null,null,null,null,null,null,null,null,null,null,null,null,null,null,null,null,null,null,null,null,null,null,null,null,null,null,null,null,null,null,null,null,{"$f":"SUM(BN102,BM106,BR106,BQ100)","v":0},{"$f":"SUM(BN99,BJ106,BR109,BT100)","v":0},{"$f":"IF(BQ86<>\"\",AVERAGE(BQ89,BQ86),BQ89)","v":0}]
[null,null,null,null,null,null,null,null,null,null,null,null,null,null,null,null,null,null,null,null,null,null,null,null,null,null,null,null,null,null,null,null,null,null,null,null,null,null,null,null,null,null,null,null,null,null,null,null,null,null,null,null,{"$f":"CHOOSE(1,BO104&\":\",\"IX_NAME\",BB90)","v":"1:"},{"$f":"BF105&\" & \"&BN93","v":"Main Ave & Default St"},null,null,null,null,null,null,null,null,null,null,null,null,null,null,null,null,null,null,null,null,null,"Local OD Raw"]
[null,null,null,null,null,null,null,null,null,null,null,null,null,null,null,null,null,null,null,null,null,null,null,null,null,null,null,null,null,null,null,null,null,null,null,null,null,null,null,null,null,null,null,null,null,null,null,null,null,null,null,null,null,"Raw Count Date:",null,null,null,null,null,null,null,null,null,null,null,null,null,null,null,null,null,null,null,null,null,{"$f":"\"local_od_raw_\"&BO104","v":"local_od_raw_1"},1,2,3,4,"est","tgt","err"]
[null,null,null,null,null,null,null,null,null,null,null,null,null,null,null,null,null,null,null,null,null,null,null,null,null,null,null,null,null,null,null,null,null,null,null,null,null,null,null,null,null,null,null,null,null,null,null,null,null,null,null,null,null,null,null,null,null,null,null,null,null,null,null,null,null,null,null,null,null,null,null,null,null,null,null,1,{"$f":"BP106","v":0},{"$f":"BS106","v":0},{"$f":"BR106","v":0},{"$f":"BQ106","v":0},{"$f":"SUM(BY92:CB92)","v":0},{"$f":"BR121","v":0},{"$f":"IFERROR(ABS(CC92-CD92)/CD92,0)","v":0}]
[null,null,null,null,null,null,null,null,null,null,null,null,null,null,null,null,null,null,null,null,null,null,null,null,null,null,null,null,null,null,null,null,null,null,null,null,null,null,null,null,null,null,null,null,null,null,null,null,null,null,null,null,null,null,null,null,null,null,null,null,null,null,null,null,null,"Default St",null,null,null,null,null,null,null,null,null,2,{"$f":"BQ102","v":0},{"$f":"BQ103","v":0},{"$f":"BQ100","v":0},{"$f":"BQ101","v":0},{"$f":"SUM(BY93:CB93)","v":0},{"$f":"CF101","v":0},{"$f":"IFERROR(ABS(CC93-CD93)/CD93,0)","v":0}]
[null,null,null,null,null,null,null,null,null,null,null,null,null,null,null,null,null,null,null,null,null,null,null,null,null,null,null,null,null,null,null,null,null,null,null,null,null,null,null,null,null,null,null,null,null,null,null,null,null,null,null,null,null,null,null,null,null,null,null,null,null,null,"",null,null,null,null,null,null,null,null,null,null,null,null,3,{"$f":"BL102","v":0},{"$f":"BM102","v":0},{"$f":"BN102","v":0},{"$f":"BK102","v":0},{"$f":"SUM(BY94:CB94)","v":0},{"$f":"BL87","v":0},0]
[null,null,null,null,null,null,null,null,null,null,null,null,null,null,null,null,null,null,null,null,null,null,null,null,null,null,null,null,null,null,null,null,null,null,null,null,null,null,null,null,null,null,null,null,null,null,null,null,null,null,null,null,null,null,null,null,null,null,null,null,null,null,null,null,null,null,null,null,null,null,null,null,null,null,null,4,{"$f":"BM108","v":0},{"$f":"BM107","v":0},{"$f":"BM106","v":0},{"$f":"BM105","v":0},{"$f":"SUM(BY95:CB95)","v":0},{"$f":"AX107","v":0},0]
[null,null,null,null,null,null,null,null,null,null,null,null,null,null,null,null,null,null,null,null,null,null,null,null,null,null,null,null,null,null,null,null,null,null,null,null,null,null,null,null,null,null,null,null,null,null,null,null,null,null,null,null,null,null,null,null,null,null,null,null,null,null,null,null,null,null,null,null,null,null,null,null,null,null,null,"est",{"$f":"SUM(BY92:BY95)","v":0},{"$f":"SUM(BZ92:BZ95)","v":0},{"$f":"SUM(CA92:CA95)","v":0},{"$f":"SUM(CB92:CB95)","v":0}]
[null,null,null,null,null,null,null,null,null,null,null,null,null,null,null,null,null,null,null,null,null,null,null,null,null,null,null,null,null,null,null,null,null,null,null,null,null,null,null,null,null,null,null,null,null,null,null,null,null,null,null,null,null,null,null,null,null,null,null,null,null,"RNSE",{"$f":"RNSE(BK99,BK102)","v":"-"},{"$f":"RNSE(BL99,BL102)","v":"-"},"-","-",null,null,null,null,null,null,null,null,null,"tgt",{"$f":"BL119","v":0},{"$f":"CD107","v":0},{"$f":"BR89","v":0},{"$f":"AZ101","v":0}]
[null,null,null,null,null,null,null,null,null,null,null,null,null,null,null,null,null,null,null,null,null,null,null,null,null,null,null,null,null,null,null,null,null,null,null,null,null,null,null,null,null,null,null,null,null,null,null,null,null,null,null,null,null,null,null,null,null,null,null,null,null,"%",{"$f":"BK99/BM87","v":{"$error":"#DIV/0!"}},{"$f":"BL99/BM87","v":{"$error":"#DIV/0!"}},{"$f":"BM99/BM87","v":{"$error":"#DIV/0!"}},{"$f":"BN99/BM87","v":{"$error":"#DIV/0!"}},null,null,null,null,null,null,null,null,null,"err",{"$f":"IFERROR(ABS(BY96-BY97)/BY97,0)","v":0},{"$f":"IFERROR(ABS(BZ96-BZ97)/BZ97,0)","v":0},0,0,null,null,{"$f":"SUM(BY98:CB98,CE92:CE95)","v":0}]
[null,null,null,null,null,null,null,null,null,null,null,null,null,null,null,null,null,null,null,null,null,null,null,null,null,null,null,null,null,null,null,null,null,null,null,null,null,null,null,null,null,null,null,null,null,null,null,null,null,null,null,null,null,null,null,null,null,null,null,null,null,"bal",{"$f":"CB113","v":0},{"$f":"BY113","v":0},{"$f":"BZ113","v":0},{"$f":"CA113","v":0},null,null,"raw","%",null,"bal","%","RNSE"]
[null,null,null,null,null,null,null,null,null,null,null,null,null,null,null,null,null,null,null,null,null,null,null,null,null,null,null,null,null,null,null,null,null,null,null,null,null,null,null,null,null,null,null,null,null,null,null,null,null,null,null,null,null,null,null,null,null,null,null,null,null,null,8,"$",9,"M",null,{"$f":"CHOOSE(1,\"<\",\"TURN\",8,BO104,BQ100,BT100)","v":"<"},0,{"$f":"BQ100/CF103","v":{"$error":"#DIV/0!"}},"<",{"$f":"CA112","v":0},{"$f":"BT100/CF102","v":{"$error":"#DIV/0!"}},{"$f":"RNSE(BT100,BQ100)","v":"-"},null,null,""]
[null,null,null,null,null,null,null,null,null,null,null,null,null,null,null,null,null,null,null,null,null,null,null,null,null,null,null,null,null,null,null,null,null,null,null,null,null,null,null,null,null,null,null,null,null,null,null,null,null,"imbal","target",{"$f":"IF(AW102<>\"\",AVERAGE(AZ102,AW102),AZ102)","v":0},null,null,null,null,null,null,null,null,null,"%",{"$f":"BK102/BN87","v":{"$error":"#DIV/0!"}},{"$f":"BL102/BN87","v":{"$error":"#DIV/0!"}},{"$f":"BM102/BN87","v":{"$error":"#DIV/0!"}},{"$f":"BN102/BN87","v":{"$error":"#DIV/0!"}},null,{"$f":"CHOOSE(1,\"!\",\"TURN\",7,BO104,BQ101,BT101)","v":"!"},0,{"$f":"BQ101/CF103","v":{"$error":"#DIV/0!"}},"!",{"$f":"CB112","v":0},{"$f":"BT101/CF102","v":{"$error":"#DIV/0!"}},{"$f":"RNSE(BT101,BQ101)","v":"-"},null,null,null,null,null,null,null,null,"target",{"$f":"IF(CI102<>\"\",AVERAGE(CF102,CI102),CF102)","v":0}]
[null,null,null,null,null,null,null,null,null,null,null,null,null,null,null,null,null,null,null,null,null,null,null,null,null,null,null,null,null,null,null,null,null,null,null,null,null,null,null,null,null,null,null,null,null,null,null,null,null,{"$f":"IF(AW102<>\"\",AW102-AZ102,0)","v":0},"!",{"$f":"SUM(BJ105,BQ109,BT101,BK99)","v":0},null,null,null,null,null,null,null,null,null,"raw",0,0,0,0,null,{"$f":"CHOOSE(1,\">\",\"TURN\",6,BO104,BQ102,BT102)","v":">"},0,{"$f":"BQ102/CF103","v":{"$error":"#DIV/0!"}},">",{"$f":"BY112","v":0},{"$f":"BT102/CF102","v":{"$error":"#DIV/0!"}},"-",null,null,null,null,null,null,null,null,"!",{"$f":"SUM(BT100:BT103)","v":0}]
[null,null,null,null,null,null,null,null,null,null,null,null,null,null,null,null,null,null,null,null,null,null,null,null,null,null,null,null,null,null,null,null,null,null,null,null,null,null,null,null,null,null,null,null,null,null,null,null,null,{"$f":"IF(AW103<>\"\",AW103-AZ103,0)","v":0},"!",{"$f":"SUM(BM105,BQ106,BQ101,BK102)","v":0},null,null,null,null,null,null,null,null,null,null,{"$f":"CHOOSE(1,8,\"TURN\",12,BO104,BK102,BK99)","v":8},{"$f":"CHOOSE(1,\"$\",\"TURN\",11,BO104,BL102,BL99)","v":"$"},{"$f":"CHOOSE(1,\"9\",\"TURN\",10,BO104,BM102,BM99)","v":"9"},{"$f":"CHOOSE(1,\"M\",\"TURN\",9,BO104,BN102,BN99)","v":"M"},null,{"$f":"CHOOSE(1,\"N\",\"TURN\",5,BO104,BQ103,BT103)","v":"N"},0,{"$f":"BQ103/CF103","v":{"$error":"#DIV/0!"}},"N",{"$f":"BZ112","v":0},{"$f":"BT103/CF102","v":{"$error":"#DIV/0!"}},"-",null,null,null,null,null,null,null,null,"!",{"$f":"SUM(BQ100:BQ103)","v":0}]
[null,null,null,null,null,null,null,null,null,null,null,null,null,null,null,null,null,null,null,null,null,null,null,null,null,null,null,null,null,null,null,null,null,null,null,null,null,null,null,null,null,null,null,null,null,null,null,null,null,null,null,null,null,null,null,null,null,null,null,null,null,null,null,null,null,null,1]
[null,null,null,null,null,null,null,null,null,null,null,null,null,null,null,null,null,null,null,null,null,null,null,null,null,null,null,null,null,null,null,null,null,null,null,null,null,null,null,null,null,null,null,null,null,null,null,null,null,{"$f":"SUM(BM105:BM108)","v":0},"\"",null,null,null,null,null,null,"Main Ave",null,{"$f":"RNSE(BJ105,BM105)","v":"-"},{"$f":"BJ105/AX106","v":{"$error":"#DIV/0!"}},{"$f":"CB114","v":0},"O",{"$f":"BM105/AX105","v":{"$error":"#DIV/0!"}},0,{"$f":"CHOOSE(1,\"O\",\"TURN\",13,BO104,BM105,BJ105)","v":"O"},null,{"$f":"CHOOSE(1,\"L\",\"TURN\",1,BO104,BP106,BP109)","v":"L"},{"$f":"CHOOSE(1,\":\",\"TURN\",2,BO104,BQ106,BQ109)","v":":"},{"$f":"CHOOSE(1,\"#\",\"TURN\",3,BO104,BR106,BR109)","v":"#"},{"$f":"CHOOSE(1,\";\",\"TURN\",4,BO104,BS106,BS109)","v":";"},null,null,null,null,null,null,null,null,null,null,{"$f":"SUM(BQ103,BM102,BM107,BS106)","v":0},"\"",{"$f":"IF(CG105<>\"\",CG105-CD105,0)","v":0}]
[null,null,null,null,null,null,null,null,null,null,null,null,null,null,null,null,null,null,null,null,null,null,null,null,null,null,null,null,null,null,null,null,null,null,null,null,null,null,null,null,null,null,null,null,null,null,null,null,null,{"$f":"SUM(BJ105:BJ108)","v":0},"\"",null,null,null,null,null,null,null,null,"-",{"$f":"BJ106/AX106","v":{"$error":"#DIV/0!"}},{"$f":"CA114","v":0},"=",{"$f":"BM106/AX105","v":{"$error":"#DIV/0!"}},0,{"$f":"CHOOSE(1,\"=\",\"TURN\",14,BO104,BM106,BJ106)","v":"="},null,0,0,0,0,"raw",null,null,null,null,null,null,null,null,null,{"$f":"SUM(BT103,BM99,BJ107,BS109)","v":0},"\"",{"$f":"IF(CG106<>\"\",CG106-CD106,0)","v":0}]
[null,null,null,null,null,null,null,null,null,null,null,null,null,null,null,null,null,null,null,null,null,null,null,null,null,null,null,null,null,null,null,null,null,null,null,null,null,null,null,null,null,null,null,null,null,null,null,null,null,{"$f":"IF(AU106<>\"\",AVERAGE(AX106,AU106),AX106)","v":0},"target",null,null,null,null,null,null,null,null,"-",{"$f":"BJ107/AX106","v":{"$error":"#DIV/0!"}},{"$f":"BZ114","v":0},"\"",{"$f":"BM107/AX105","v":{"$error":"#DIV/0!"}},0,{"$f":"CHOOSE(1,\"\"\"\",\"TURN\",15,BO104,BM107,BJ107)","v":"\""},null,{"$f":"BP106/BP121","v":{"$error":"#DIV/0!"}},{"$f":"BQ106/BP121","v":{"$error":"#DIV/0!"}},{"$f":"BR106/BP121","v":{"$error":"#DIV/0!"}},{"$f":"BS106/BP121","v":{"$error":"#DIV/0!"}},"%",null,null,null,null,null,null,null,null,null,{"$f":"IF(CG106<>\"\",AVERAGE(CD106,CG106),CD106)","v":0},"target","imbal"]
[null,null,null,null,null,null,null,null,null,null,null,null,null,null,null,null,null,null,null,null,null,null,null,null,null,null,null,null,null,null,null,null,null,null,null,null,null,null,null,null,null,null,null,null,null,null,null,null,null,null,null,null,null,null,null,null,"",null,null,"-",{"$f":"BJ108/AX106","v":{"$error":"#DIV/0!"}},{"$f":"BY114","v":0},"?",{"$f":"BM108/AX105","v":{"$error":"#DIV/0!"}},0,{"$f":"CHOOSE(1,\"?\",\"TURN\",16,BO104,BM108,BJ108)","v":"?"},null,"L",":","#",";"]
[null,null,null,null,null,null,null,null,null,null,null,null,null,null,null,null,null,null,null,null,null,null,null,null,null,null,null,null,null,null,null,null,null,null,null,null,null,null,null,null,null,null,null,null,null,null,null,null,null,null,null,null,null,null,null,null,null,null,null,"RNSE","%","bal",null,"%","raw",null,null,{"$f":"BY111","v":0},{"$f":"CB111","v":0},{"$f":"CA111","v":0},{"$f":"BZ111","v":0},"bal",null,null,null,"Local OD Estimated"]
[null,null,null,null,null,null,null,null,null,null,null,null,null,null,null,null,null,null,null,null,null,null,null,null,null,null,null,null,null,null,null,null,null,null,null,null,null,null,null,null,null,null,null,null,null,null,null,null,null,null,null,null,null,null,null,null,null,null,null,null,null,null,null,null,null,null,null,{"$f":"BP109/BQ121","v":{"$error":"#DIV/0!"}},{"$f":"BQ109/BQ121","v":{"$error":"#DIV/0!"}},{"$f":"BR109/BQ121","v":{"$error":"#DIV/0!"}},{"$f":"BS109/BQ121","v":{"$error":"#DIV/0!"}},"%",null,null,null,{"$f":"\"local_od_est_\"&BO104","v":"local_od_est_1"},1,2,3,4,"est","tgt","err"]
[null,null,null,null,null,null,null,null,null,null,null,null,null,null,null,null,null,null,null,null,null,null,null,null,null,null,null,null,null,null,null,null,null,null,null,null,null,null,null,null,null,null,null,null,null,null,null,null,null,null,null,null,null,null,null,null,null,null,null,null,null,null,null,null,null,null,null,{"$f":"RNSE(BP109,BP106)","v":"-"},"-","-","-","RNSE",null,null,null,1,{"$f":"BY92","v":0},0,0,0,{"$f":"SUM(BY111:CB111)","v":0},{"$f":"CD92","v":0},{"$f":"IFERROR(ABS(CC111-CD111)/CD111,0)","v":0}]
[null,null,null,null,null,null,null,null,null,null,null,null,null,null,null,null,null,null,null,null,null,null,null,null,null,null,null,null,null,null,null,null,null,null,null,null,null,null,null,null,null,null,null,null,null,null,null,null,null,null,null,null,null,null,null,null,null,null,null,null,null,null,null,null,null,null,null,null,null,null,null,null,null,null,null,2,0,0,0,0,{"$f":"SUM(BY112:CB112)","v":0},0,{"$f":"IFERROR(ABS(CC112-CD112)/CD112,0)","v":0}]
[null,null,null,null,null,null,null,null,null,null,null,null,null,null,null,null,null,null,null,null,null,null,null,null,null,null,null,null,null,null,null,null,null,null,null,null,null,null,null,null,null,null,null,null,null,null,null,null,null,null,null,null,null,null,null,null,null,null,null,null,null,null,null,null,null,null,null,null,null,null,null,null,null,null,null,3,0,0,0,0,0,0,0]
[null,null,null,null,null,null,null,null,null,null,null,null,null,null,null,null,null,null,null,null,null,null,null,null,null,null,null,null,null,null,null,null,null,null,null,null,null,null,null,null,null,null,null,null,null,null,null,null,null,null,null,null,null,null,null,null,null,null,null,null,null,null,null,null,null,null,null,null,null,null,"",null,null,null,null,4,0,0,0,0,0,0,0]
[null,null,null,null,null,null,null,null,null,null,null,null,null,null,null,null,null,null,null,null,null,null,null,null,null,null,null,null,null,null,null,null,null,null,null,null,null,null,null,null,null,null,null,null,null,null,null,null,null,null,null,null,null,null,null,null,null,null,null,null,null,null,null,null,null,null,null,null,null,null,null,null,null,null,null,"est",{"$f":"SUM(BY111:BY114)","v":0},{"$f":"SUM(BZ111:BZ114)","v":0},0,0]
[null,null,null,null,null,null,null,null,null,null,null,null,null,null,null,null,null,null,null,null,null,null,null,null,null,null,null,null,null,null,null,null,null,null,null,null,null,null,null,null,null,null,null,null,null,null,null,null,null,null,null,null,null,null,null,null,null,null,null,null,null,null,null,null,null,null,null,null,null,null,null,null,null,null,null,"tgt",{"$f":"BY97","v":0},0,0,0]
[null,null,null,null,null,null,null,null,null,null,null,null,null,null,null,null,null,null,null,null,null,null,null,null,null,null,null,null,null,null,null,null,null,null,null,null,null,null,null,null,null,null,null,null,null,null,null,null,null,null,null,null,null,null,null,null,null,null,null,null,null,null,null,null,null,null,null,null,null,null,null,null,null,null,null,"err",{"$f":"IFERROR(ABS(BY115-BY116)/BY116,0)","v":0},{"$f":"IFERROR(ABS(BZ115-BZ116)/BZ116,0)","v":0},0,0,null,null,{"$f":"SUM(BY117:CB117,CE111:CE114)","v":0}]
[]
[null,null,null,null,null,null,null,null,null,null,null,null,null,null,null,null,null,null,null,null,null,null,null,null,null,null,null,null,null,null,null,null,null,null,null,null,null,null,null,null,null,null,null,null,null,null,null,null,null,null,null,null,null,null,null,null,null,null,null,null,null,null,null,{"$f":"IF(BM122<>\"\",AVERAGE(BM119,BM122),BM119)","v":0},{"$f":"SUM(BP109,BT102,BL99,BJ108)","v":0},{"$f":"SUM(BP106,BQ102,BL102,BM108)","v":0}]
[null,null,null,null,null,null,null,null,null,null,null,null,null,null,null,null,null,null,null,null,null,null,null,null,null,null,null,null,null,null,null,null,null,null,null,null,null,null,null,null,null,null,null,null,null,null,null,null,null,null,null,null,null,null,null,null,null,null,null,null,null,null,null,"target","$","$",null,"#","#","target"]
[null,null,null,null,null,null,null,null,null,null,null,null,null,null,null,null,null,null,null,null,null,null,null,null,null,null,null,null,null,null,null,null,null,null,null,null,null,null,null,null,null,null,null,null,null,null,null,null,null,null,null,null,null,null,null,null,null,null,null,null,null,null,null,"imbal",{"$f":"IF(BM122<>\"\",BM122-BM119,0)","v":0},{"$f":"IF(BN122<>\"\",BN122-BN119,0)","v":0},null,{"$f":"SUM(BP106:BS106)","v":0},{"$f":"SUM(BP109:BS109)","v":0},{"$f":"IF(BQ124<>\"\",AVERAGE(BQ121,BQ124),BQ121)","v":0}]

{"sheet":"DIAMOND N-S","index":3,"n_rows":326,"n_cols":121,"rows_kept":326,"cut":false,"hidden":false,"merged":[]}
[]
[]
[]
[]
[]
[]
[]
[]
[]
[]
[]
[]
[]
[]
[]
[]
[]
[]
[]
[]
[]
[]
[]
[]
[]
[]
[]
[]
[]
[]
[]
[]
[]
[]
[]
[]
[]
[]
[]
[]
[]
[]
[]
[]
[]
[null,null,null,null,null,null,null,null,null,null,null,null,null,null,null,null,null,null,null,null,null,null,null,null,null,null,null,null,null,null,null,null,null,null,null,null,null,null,null,null,null,null,null,null,null,null,null,null,null,null,null,null,null,null,null,null,null,null,null,null,null,null,null,null,null,null,null,null,null,null,null,null,null,null,null,null,null,null,null,null,null,null,null,null,null,null,null,null,null,null,null,null,null,null,null,null,null,null,null,null,null,null,null,{"$f":"CHOOSE(1,\"#\",\"LINK\",DA46,CZ47)","v":"#"},"LINK_ID"]
[]
[]
[]
[]
[]
[null,null,null,null,null,null,null,null,null,null,null,null,null,null,null,null,null,null,null,null,null,null,null,null,null,null,null,null,null,{"$f":"CHOOSE(1,AK77&\":\",\"IX_NAME\",AE52)","v":"1:"},"Default St & SB I-999 Ramps",null,null,null,null,null,null,null,null,null,null,null,null,null,null,null,null,null,null,null,null,null,null,null,null,null,null,{"$f":"CHOOSE(1,BF77&\":\",\"IX_NAME\",BG52)","v":"2:"},"Default St & NB I-999 Ramps",null,null,null,null,null,null,null,null,null,null,null,null,null,null,null,null,null,null,null,null,null,null,{"$f":"CHOOSE(1,CK77&\":\",\"IX_NAME\",CE52)","v":"1:"},"Default St & SB I-999 Ramps",null,null,null,null,null,null,null,null,null,null,null,null,null,null,null,null,null,null,null,null,null,null,null,null,null,null,{"$f":"CHOOSE(1,DF77&\":\",\"IX_NAME\",DG52)","v":"2:"},"Default St & NB I-999 Ramps"]
[null,null,null,null,null,null,null,null,null,null,null,null,null,null,null,null,null,null,null,null,null,null,null,null,null,null,null,null,null,null,"Raw Count Date:",null,null,null,null,null,null,null,null,null,null,null,null,null,null,null,null,null,null,null,null,null,null,null,null,null,null,null,"Raw Count Date:",null,null,null,null,null,null,null,null,null,null,null,null,null,null,null,null,null,null,null,null,null,null,null,"Raw Count Date:",null,null,null,null,null,null,null,null,null,null,null,null,null,null,null,null,null,null,null,null,null,null,null,null,null,null,null,"Raw Count Date:"]
[null,null,null,null,null,null,null,null,null,null,null,null,null,null,null,null,null,null,null,null,null,null,null,null,null,"Local OD Raw",null,null,null,null,null,null,null,null,null,null,null,null,null,null,null,null,null,null,null,null,null,null,null,null,null,null,null,null,null,null,null,null,null,null,null,"Local OD Raw",null,null,null,null,null,null,null,null,null,null,null,null,null,null,null,"Local OD Raw",null,null,null,null,null,null,null,null,null,null,null,null,null,null,null,null,null,null,null,null,null,null,null,null,null,null,null,null,null,null,null,null,null,null,null,"Local OD Raw"]
[null,null,null,null,null,null,null,null,null,null,null,null,null,null,null,null,null,null,null,null,null,null,null,null,null,{"$f":"\"local_od_raw_\"&AK77","v":"local_od_raw_1"},1,2,3,4,"est","tgt","err",null,null,null,null,null,null,null,null,null,null,null,null,null,null,null,null,null,null,null,null,null,null,null,null,null,null,null,null,{"$f":"\"local_od_raw_\"&BF77","v":"local_od_raw_2"},1,2,3,4,"est","tgt","err",null,null,null,null,null,null,null,null,{"$f":"\"local_od_raw_\"&CK77","v":"local_od_raw_1"},1,2,3,4,"est","tgt","err",null,null,null,null,null,null,null,null,null,null,null,null,null,null,null,null,null,null,null,null,null,null,null,null,null,null,null,null,{"$f":"\"local_od_raw_\"&DF77","v":"local_od_raw_2"},1,2,3,4,"est","tgt","err"]
[null,null,null,null,null,null,null,null,null,null,null,null,null,null,null,null,null,null,null,null,null,null,null,null,null,1,0,0,0,0,{"$f":"SUM(AA56:AD56)","v":0},0,{"$f":"IFERROR(ABS(AE56-AF56)/AF56,0)","v":0},null,null,null,null,null,null,null,null,null,null,null,null,null,null,null,null,null,null,null,null,null,null,null,null,null,null,null,null,1,0,{"$f":"BI79","v":0},{"$f":"BH79","v":0},{"$f":"BG79","v":0},{"$f":"SUM(BK56:BN56)","v":0},{"$f":"BI88","v":0},{"$f":"IFERROR(ABS(BO56-BP56)/BP56,0)","v":0},null,null,null,null,null,null,null,null,1,0,0,0,0,{"$f":"SUM(CA56:CD56)","v":0},0,{"$f":"IFERROR(ABS(CE56-CF56)/CF56,0)","v":0},null,null,null,null,null,null,null,null,null,null,null,null,null,null,null,null,null,null,null,null,null,null,null,null,null,null,null,null,1,0,{"$f":"DI79","v":0},{"$f":"DH79","v":0},{"$f":"DG79","v":0},{"$f":"SUM(DK56:DN56)","v":0},{"$f":"DI88","v":0},{"$f":"IFERROR(ABS(DO56-DP56)/DP56,0)","v":0}]
[null,null,null,null,null,null,null,null,null,null,null,null,null,null,null,null,null,null,null,null,null,null,null,null,null,2,{"$f":"AM75","v":0},{"$f":"AM76","v":0},0,{"$f":"AM74","v":0},{"$f":"SUM(AA57:AD57)","v":0},{"$f":"AU74","v":0},{"$f":"IFERROR(ABS(AE57-AF57)/AF57,0)","v":0},null,null,null,null,null,null,null,null,null,null,null,null,null,null,null,null,null,null,null,null,null,null,null,null,null,null,null,null,2,0,{"$f":"BH76","v":0},{"$f":"BH74","v":0},{"$f":"BH75","v":0},{"$f":"SUM(BK57:BN57)","v":0},{"$f":"BQ74","v":0},{"$f":"IFERROR(ABS(BO57-BP57)/BP57,0)","v":0},null,null,null,null,null,null,null,null,2,0,{"$f":"CM76","v":0},0,{"$f":"CM75","v":0},{"$f":"SUM(CA57:CD57)","v":0},{"$f":"CU74","v":0},{"$f":"IFERROR(ABS(CE57-CF57)/CF57,0)","v":0},null,null,null,null,null,null,null,null,null,null,null,null,null,null,null,null,null,null,null,null,null,null,null,null,null,null,null,null,2,0,{"$f":"DH76","v":0},{"$f":"DH74","v":0},{"$f":"DH75","v":0},{"$f":"SUM(DK57:DN57)","v":0},{"$f":"DQ74","v":0},{"$f":"IFERROR(ABS(DO57-DP57)/DP57,0)","v":0}]
[null,null,null,null,null,null,null,null,null,null,null,null,null,null,null,null,null,null,null,null,null,null,null,null,null,3,{"$f":"AI75","v":0},{"$f":"AJ75","v":0},0,{"$f":"AH75","v":0},{"$f":"SUM(AA58:AD58)","v":0},{"$f":"AH66","v":0},0,null,null,null,null,null,null,null,null,null,null,null,null,null,null,null,null,null,null,null,null,null,null,null,null,null,null,null,null,3,0,0,0,0,{"$f":"SUM(BK58:BN58)","v":0},0,0,null,null,null,null,null,null,null,null,3,{"$f":"CI75","v":0},{"$f":"CJ75","v":0},0,{"$f":"CH75","v":0},{"$f":"SUM(CA58:CD58)","v":0},{"$f":"CH66","v":0},0,null,null,null,null,null,null,null,null,null,null,null,null,null,null,null,null,null,null,null,null,null,null,null,null,null,null,null,null,3,0,0,0,0,{"$f":"SUM(DK58:DN58)","v":0},0,0]
[null,null,null,null,null,null,null,null,null,null,null,null,null,null,null,null,null,null,null,null,null,null,null,null,null,4,{"$f":"AI80","v":0},{"$f":"AI79","v":0},0,{"$f":"AI78","v":0},{"$f":"SUM(AA59:AD59)","v":0},{"$f":"Z80","v":0},0,null,null,null,null,null,null,null,null,null,null,null,null,null,null,null,null,null,null,null,null,null,null,null,null,null,null,null,null,4,0,{"$f":"BD80","v":0},{"$f":"BD79","v":0},{"$f":"BD78","v":0},{"$f":"SUM(BK59:BN59)","v":0},{"$f":"AV80","v":0},0,null,null,null,null,null,null,null,null,4,{"$f":"CI80","v":0},{"$f":"CI79","v":0},0,{"$f":"CI78","v":0},{"$f":"SUM(CA59:CD59)","v":0},{"$f":"BZ80","v":0},0,null,null,null,null,null,null,null,null,null,null,null,null,null,null,null,null,null,null,null,null,null,null,null,null,null,null,null,null,4,0,{"$f":"DD79","v":0},0,{"$f":"DD78","v":0},{"$f":"SUM(DK59:DN59)","v":0},{"$f":"CV80","v":0},0]
[null,null,null,null,null,null,null,null,null,null,null,null,null,null,null,null,null,null,null,null,null,null,null,null,null,"est",{"$f":"SUM(AA56:AA59)","v":0},{"$f":"SUM(AB56:AB59)","v":0},{"$f":"SUM(AC56:AC59)","v":0},{"$f":"SUM(AD56:AD59)","v":0},null,null,null,null,null,null,null,null,null,null,null,null,null,null,null,null,null,null,null,null,null,null,null,null,null,null,null,null,null,null,null,"est",{"$f":"SUM(BK56:BK59)","v":0},{"$f":"SUM(BL56:BL59)","v":0},{"$f":"SUM(BM56:BM59)","v":0},{"$f":"SUM(BN56:BN59)","v":0},null,null,null,null,null,null,null,null,null,null,null,"est",{"$f":"SUM(CA56:CA59)","v":0},{"$f":"SUM(CB56:CB59)","v":0},{"$f":"SUM(CC56:CC59)","v":0},{"$f":"SUM(CD56:CD59)","v":0},null,null,null,null,null,null,null,null,null,null,null,null,null,null,null,null,null,null,null,null,null,null,null,null,null,null,null,null,null,null,null,"est",{"$f":"SUM(DK56:DK59)","v":0},{"$f":"SUM(DL56:DL59)","v":0},{"$f":"SUM(DM56:DM59)","v":0},{"$f":"SUM(DN56:DN59)","v":0}]
[null,null,null,null,null,null,null,null,null,null,null,null,null,null,null,null,null,null,null,null,null,null,null,null,null,"tgt",{"$f":"AH88","v":0},{"$f":"AS80","v":0},0,{"$f":"AB74","v":0},null,null,null,null,null,null,null,null,null,null,null,null,null,null,null,null,null,null,null,null,null,null,null,null,null,null,null,null,null,null,null,"tgt",0,{"$f":"BO80","v":0},{"$f":"BH67","v":0},{"$f":"AX74","v":0},null,null,null,null,null,null,null,null,null,null,null,"tgt",{"$f":"CJ90","v":0},{"$f":"CS80","v":0},0,{"$f":"CB74","v":0},null,null,null,null,null,null,null,null,null,null,null,null,null,null,null,null,null,null,null,null,null,null,null,null,null,null,null,null,null,null,null,"tgt",0,{"$f":"DO80","v":0},{"$f":"DG64","v":0},{"$f":"CX74","v":0}]
[null,null,null,null,null,null,null,null,null,null,null,null,null,null,null,null,null,null,null,null,null,null,null,null,null,"err",{"$f":"IFERROR(ABS(AA60-AA61)/AA61,0)","v":0},{"$f":"IFERROR(ABS(AB60-AB61)/AB61,0)","v":0},0,0,null,null,{"$f":"SUM(AA62:AD62,AG56:AG59)","v":0},null,null,null,null,null,null,null,null,null,null,null,null,null,null,null,null,null,null,null,null,null,null,null,null,null,null,null,null,"err",{"$f":"IFERROR(ABS(BK60-BK61)/BK61,0)","v":0},{"$f":"IFERROR(ABS(BL60-BL61)/BL61,0)","v":0},0,0,null,null,{"$f":"SUM(BK62:BN62,BQ56:BQ59)","v":0},null,null,null,null,null,null,null,null,"err",{"$f":"IFERROR(ABS(CA60-CA61)/CA61,0)","v":0},{"$f":"IFERROR(ABS(CB60-CB61)/CB61,0)","v":0},0,0,null,null,{"$f":"SUM(CA62:CD62,CG56:CG59)","v":0},null,null,null,null,null,null,null,null,null,null,null,null,null,null,null,null,null,null,null,null,null,null,null,null,null,null,null,null,"err",{"$f":"IFERROR(ABS(DK60-DK61)/DK61,0)","v":0},{"$f":"IFERROR(ABS(DL60-DL61)/DL61,0)","v":0},0,0,null,null,{"$f":"SUM(DK62:DN62,DQ56:DQ59)","v":0}]
[null,null,null,null,null,null,null,null,null,null,null,null,null,null,null,null,null,null,null,null,null,null,null,null,null,null,null,null,null,null,null,null,null,"LINK_ID",null,null,null,null,null,null,null,null,null,null,null,null,null,null,null,null,null,null,null,null,null,null,null,null,{"$f":"CHOOSE(1,\"#\",\"LINK\",BH63,BG64)","v":"#"},"LINK_ID",null,null,null,null,null,null,null,null,null,null,null,null,null,null,null,null,null,null,null,null,null,null,null,null,null,"LINK_ID",null,null,null,null,null,null,null,null,"LINK_ID",null,null,null,null,null,null,null,null,null,null,null,null,null,null,null,"target"]
[null,null,null,null,null,null,null,null,null,null,null,null,null,null,null,null,null,null,null,null,null,null,null,null,null,null,null,null,null,null,null,null,null,null,{"$f":"CHOOSE(1,\"$\",\"LINK\",AH63,AI63)","v":"$"},null,null,null,null,null,null,null,null,null,null,null,null,null,null,null,null,null,null,null,null,null,null,null,null,null,null,null,null,null,null,null,null,null,null,null,null,null,null,null,null,null,null,null,null,null,null,null,null,null,null,null,{"$f":"CHOOSE(1,\"$\",\"LINK\",CH63,CI63)","v":"$"},null,null,null,null,null,null,null,null,{"$f":"CHOOSE(1,\"$\",\"LINK\",CQ63,CR63)","v":"$"},null,null,null,null,null,null,null,null,null,null,null,null,null,null,{"$f":"IF(AND(CZ47<>\"\",CR63<>\"\"),CZ47+CR63,DG67)","v":0}]
[null,null,null,null,null,null,null,null,null,null,null,null,null,null,null,null,null,null,null,null,null,null,null,null,null,null,null,null,null,null,null,null,null,"imbal",{"$f":"IF(AI63<>\"\",AI66-AI63,0)","v":0},{"$f":"IF(AI63<>\"\",AJ66-AI63,0)","v":0},null,null,null,null,null,null,null,null,null,null,null,null,null,null,null,null,null,null,null,null,null,{"$f":"IF(BG64<>\"\",BG64-BF67,0)","v":0},{"$f":"IF(BG64<>\"\",BG64-BG67,0)","v":0},"imbal",null,null,null,null,null,null,null,null,null,null,null,null,null,null,null,null,null,null,null,null,null,null,null,null,null,"imbal",{"$f":"IF(CI63<>\"\",CI66-CI63,0)","v":0},{"$f":"IF(CI63<>\"\",CJ66-CI63,0)","v":0},null,null,null,null,null,null,null,null,null,null,null,null,null,null,null,null,null,null,null,null,null,{"$f":"IF(AND(DG64<>\"\",CR63<>\"\"),CZ47-DF67,0)","v":0},{"$f":"IF(AND(CZ47<>\"\",CR63<>\"\"),DG64-DG67,0)","v":0},"imbal"]
[null,null,null,null,null,null,null,null,null,null,null,null,null,null,null,null,null,null,null,null,null,null,null,null,null,null,null,null,null,null,null,null,null,{"$f":"IF(AI63<>\"\",AI63,AI66)","v":0},{"$f":"SUM(AH72:AJ72)","v":0},{"$f":"SUM(AH75:AJ75)","v":0},null,null,null,null,null,null,null,null,null,null,null,null,null,null,null,null,null,null,null,null,null,"#","#","target",null,null,null,null,null,null,null,null,null,null,null,null,null,null,null,null,null,null,null,null,null,null,null,null,null,{"$f":"IF(CI63<>\"\",CI63,CI66)","v":0},{"$f":"SUM(CH72:CJ72)","v":0},{"$f":"SUM(CH75:CJ75)","v":0},null,null,null,null,null,null,null,null,null,null,null,null,null,null,null,null,null,null,null,null,null,"#","#"]
[null,null,null,null,null,null,null,null,null,null,null,null,null,null,null,null,null,null,null,null,null,null,null,null,null,null,null,null,null,null,null,null,null,"target","$","$",null,null,null,null,null,null,null,null,null,null,null,null,null,null,null,null,null,null,null,null,null,{"$f":"SUM(BD79,BH79,BH74)","v":0},{"$f":"SUM(BA79,BH82,BK74)","v":0},{"$f":"IF(BG64<>\"\",BG64,BG67)","v":0},null,null,null,null,null,null,null,null,null,null,null,null,null,null,null,null,null,null,null,null,null,null,null,null,null,"target","$","$",null,null,null,null,null,null,null,null,null,null,null,null,null,null,null,null,null,null,null,null,null,{"$f":"SUM(DH79,DH74)","v":0},{"$f":"SUM(DH82,DK74)","v":0}]
[]
[]
[null,null,null,null,null,null,null,null,null,null,null,null,null,null,null,null,null,null,null,null,null,null,null,null,null,null,null,null,null,null,null,null,"RNSE",{"$f":"RNSE(AH72,AH75)","v":"-"},{"$f":"RNSE(AI72,AI75)","v":"-"},"-",null,null,null,null,null,null,null,null,null,null,null,null,null,null,null,null,null,null,null,null,null,null,null,null,null,null,null,null,null,null,null,null,null,null,null,null,null,null,null,null,null,null,null,null,null,null,null,null,"RNSE",{"$f":"RNSE(CH72,CH75)","v":"-"},{"$f":"RNSE(CI72,CI75)","v":"-"},"-"]
[null,null,null,null,null,null,null,null,null,null,null,null,null,null,null,null,null,null,null,null,null,null,null,null,null,null,null,null,null,null,null,null,"%",{"$f":"AH72/AI66","v":{"$error":"#DIV/0!"}},{"$f":"AI72/AI66","v":{"$error":"#DIV/0!"}},{"$f":"AJ72/AI66","v":{"$error":"#DIV/0!"}},null,null,null,null,null,null,null,null,null,null,null,null,null,null,null,null,null,null,null,null,null,null,null,null,null,null,null,null,null,null,null,null,null,null,null,null,null,null,null,null,null,null,null,null,null,null,null,null,"%",{"$f":"CH72/CI66","v":{"$error":"#DIV/0!"}},{"$f":"CI72/CI66","v":{"$error":"#DIV/0!"}},{"$f":"CJ72/CI66","v":{"$error":"#DIV/0!"}}]
[null,null,null,null,null,null,null,null,null,null,null,null,null,null,null,null,null,null,null,null,null,null,null,null,null,null,null,null,null,null,null,null,"bal",{"$f":"AD97","v":0},{"$f":"AA97","v":0},{"$f":"AB97","v":0},null,null,null,null,null,null,null,null,null,null,null,null,null,null,null,null,null,null,null,null,null,null,null,null,null,null,null,null,null,null,null,null,null,null,null,null,null,null,null,null,null,null,null,null,null,null,null,null,"bal",{"$f":"CD97","v":0},{"$f":"CA97","v":0},{"$f":"CB97","v":0}]
[null,null,null,null,null,null,null,null,null,null,null,null,null,null,null,null,null,null,null,null,null,null,null,null,null,null,null,null,null,null,null,null,null,8,"$",9,null,null,"raw","%",null,"bal","%","RNSE",null,null,null,null,null,null,null,null,null,null,null,null,null,null,null,"raw","%",null,"bal","%","RNSE",null,null,null,null,null,null,null,null,null,null,null,null,null,null,null,null,null,null,null,null,8,"$",9,null,null,null,null,null,null,null,null,null,null,null,null,null,null,null,null,null,null,null,null,null,null,null,"raw","%",null,"bal","%","RNSE"]
[null,null,null,null,null,null,null,null,null,null,null,null,null,null,null,null,null,null,null,null,null,null,null,null,null,"imbal","target",{"$f":"IF(Y75<>\"\",AVERAGE(AB75,Y75),AB75)","v":0},null,null,null,null,"%",{"$f":"AH75/AJ66","v":{"$error":"#DIV/0!"}},{"$f":"AI75/AJ66","v":{"$error":"#DIV/0!"}},{"$f":"AJ75/AJ66","v":{"$error":"#DIV/0!"}},null,{"$f":"CHOOSE(1,\"!\",\"TURN\",7,AK77,AM74,AP74)","v":"!"},0,{"$f":"AM74/AU76","v":{"$error":"#DIV/0!"}},"!",{"$f":"AD96","v":0},{"$f":"AP74/AU75","v":{"$error":"#DIV/0!"}},{"$f":"RNSE(AP74,AM74)","v":"-"},null,"target",{"$f":"IF(AX75<>\"\",AVERAGE(AU75,AX75),AU75)","v":0},"imbal","target",{"$f":"IF(AU75<>\"\",AVERAGE(AX75,AU75),AX75)","v":0},null,null,null,null,null,null,null,null,{"$f":"CHOOSE(1,\"<\",\"TURN\",8,BF77,BH74,BK74)","v":"<"},0,{"$f":"BH74/BQ76","v":{"$error":"#DIV/0!"}},"<",{"$f":"BM96","v":0},{"$f":"BK74/BQ75","v":{"$error":"#DIV/0!"}},{"$f":"RNSE(BK74,BH74)","v":"-"},null,null,"target",{"$f":"IF(BT75<>\"\",AVERAGE(BQ75,BT75),BQ75)","v":0},null,null,null,null,null,null,null,null,"imbal","target",{"$f":"IF(BY75<>\"\",AVERAGE(CB75,BY75),CB75)","v":0},null,null,null,null,"%",{"$f":"CH75/CJ66","v":{"$error":"#DIV/0!"}},{"$f":"CI75/CJ66","v":{"$error":"#DIV/0!"}},{"$f":"CJ75/CJ66","v":{"$error":"#DIV/0!"}},null,null,"raw","%",null,"bal","%","RNSE",null,"target",{"$f":"IF(CX75<>\"\",AVERAGE(CU75,CX75),CU75)","v":0},"imbal","target",{"$f":"IF(CU75<>\"\",AVERAGE(CX75,CU75),CX75)","v":0},null,null,null,null,null,null,null,null,{"$f":"CHOOSE(1,\"<\",\"TURN\",8,DF77,DH74,DK74)","v":"<"},0,{"$f":"DH74/DQ76","v":{"$error":"#DIV/0!"}},"<",{"$f":"DM96","v":0},{"$f":"DK74/DQ75","v":{"$error":"#DIV/0!"}},{"$f":"RNSE(DK74,DH74)","v":"-"},null,null,"target",{"$f":"IF(DT75<>\"\",AVERAGE(DQ75,DT75),DQ75)","v":0}]
[null,null,null,null,null,null,null,null,null,null,null,null,null,null,null,null,null,null,null,null,null,null,null,null,null,{"$f":"IF(Y75<>\"\",Y75-AB75,0)","v":0},"!",{"$f":"SUM(AH72,AF78,AP74)","v":0},null,null,null,null,"raw",0,0,0,null,{"$f":"CHOOSE(1,\">\",\"TURN\",6,AK77,AM75,AP75)","v":">"},0,{"$f":"AM75/AU76","v":{"$error":"#DIV/0!"}},">",{"$f":"AA96","v":0},{"$f":"AP75/AU75","v":{"$error":"#DIV/0!"}},"-",null,"!",{"$f":"SUM(AP74:AP76)","v":0},{"$f":"IF(AU75<>\"\",AU75-AX75,0)","v":0},"!",{"$f":"SUM(BG82,BK75,BA78)","v":0},null,null,null,null,null,null,null,null,{"$f":"CHOOSE(1,\"!\",\"TURN\",7,BF77,BH75,BK75)","v":"!"},0,{"$f":"BH75/BQ76","v":{"$error":"#DIV/0!"}},"!",{"$f":"BN96","v":0},{"$f":"BK75/BQ75","v":{"$error":"#DIV/0!"}},{"$f":"RNSE(BK75,BH75)","v":"-"},null,null,"!",{"$f":"SUM(BK74:BK76)","v":0},null,null,null,null,null,null,null,null,{"$f":"IF(BY75<>\"\",BY75-CB75,0)","v":0},"!",{"$f":"SUM(CH72,CF78,CP75)","v":0},null,null,null,null,"raw",0,0,0,null,{"$f":"CHOOSE(1,\"!\",\"TURN\",7,CK77,CM75,CP75)","v":"!"},0,{"$f":"CM75/CU76","v":{"$error":"#DIV/0!"}},"!",{"$f":"CD96","v":0},{"$f":"CP75/CU75","v":{"$error":"#DIV/0!"}},{"$f":"RNSE(CP75,CM75)","v":"-"},null,"!",{"$f":"SUM(CP75:CP76)","v":0},{"$f":"IF(CU75<>\"\",CU75-CX75,0)","v":0},"!",{"$f":"SUM(DG82,DK75,DA78)","v":0},null,null,null,null,null,null,null,null,{"$f":"CHOOSE(1,\"!\",\"TURN\",7,DF77,DH75,DK75)","v":"!"},0,{"$f":"DH75/DQ76","v":{"$error":"#DIV/0!"}},"!",{"$f":"DN96","v":0},{"$f":"DK75/DQ75","v":{"$error":"#DIV/0!"}},{"$f":"RNSE(DK75,DH75)","v":"-"},null,null,"!",{"$f":"SUM(DK74:DK76)","v":0}]
[null,null,null,null,null,null,null,null,null,null,null,null,null,null,null,null,null,null,null,null,null,null,null,null,null,{"$f":"IF(Y76<>\"\",Y76-AB76,0)","v":0},"!",{"$f":"SUM(AH75,AI78,AM74)","v":0},null,null,null,"Default St",null,{"$f":"CHOOSE(1,8,\"TURN\",12,AK77,AH75,AH72)","v":8},{"$f":"CHOOSE(1,\"$\",\"TURN\",11,AK77,AI75,AI72)","v":"$"},{"$f":"CHOOSE(1,\"9\",\"TURN\",10,AK77,AJ75,AJ72)","v":"9"},null,{"$f":"CHOOSE(1,\"N\",\"TURN\",5,AK77,AM76,AP76)","v":"N"},0,{"$f":"AM76/AU76","v":{"$error":"#DIV/0!"}},"N",{"$f":"AB96","v":0},{"$f":"AP76/AU75","v":{"$error":"#DIV/0!"}},"-",null,"!",{"$f":"SUM(AM74:AM76)","v":0},{"$f":"IF(AU76<>\"\",AU76-AX76,0)","v":0},"!",{"$f":"SUM(BG79,BH75,BD78)","v":0},null,null,null,null,null,"Default St",null,null,{"$f":"CHOOSE(1,\"N\",\"TURN\",5,BF77,BH76,BK76)","v":"N"},0,{"$f":"BH76/BQ76","v":{"$error":"#DIV/0!"}},"N",{"$f":"BL96","v":0},{"$f":"BK76/BQ75","v":{"$error":"#DIV/0!"}},{"$f":"RNSE(BK76,BH76)","v":"-"},null,null,"!",{"$f":"SUM(BH74:BH76)","v":0},null,null,null,null,null,null,null,null,{"$f":"IF(BY76<>\"\",BY76-CB76,0)","v":0},"!",{"$f":"SUM(CH75,CI78,CM75)","v":0},null,null,null,"Default St",null,{"$f":"CHOOSE(1,8,\"TURN\",12,CK77,CH75,CH72)","v":8},{"$f":"CHOOSE(1,\"$\",\"TURN\",11,CK77,CI75,CI72)","v":"$"},{"$f":"CHOOSE(1,\"9\",\"TURN\",10,CK77,CJ75,CJ72)","v":"9"},null,{"$f":"CHOOSE(1,\"N\",\"TURN\",5,CK77,CM76,CP76)","v":"N"},0,{"$f":"CM76/CU76","v":{"$error":"#DIV/0!"}},"N",{"$f":"CB96","v":0},{"$f":"CP76/CU75","v":{"$error":"#DIV/0!"}},{"$f":"RNSE(CP76,CM76)","v":"-"},null,"!",{"$f":"SUM(CM75:CM76)","v":0},{"$f":"IF(CU76<>\"\",CU76-CX76,0)","v":0},"!",{"$f":"SUM(DG79,DH75,DD78)","v":0},null,null,null,null,null,"Default St",null,null,{"$f":"CHOOSE(1,\"N\",\"TURN\",5,DF77,DH76,DK76)","v":"N"},0,{"$f":"DH76/DQ76","v":{"$error":"#DIV/0!"}},"N",{"$f":"DL96","v":0},{"$f":"DK76/DQ75","v":{"$error":"#DIV/0!"}},{"$f":"RNSE(DK76,DH76)","v":"-"},null,null,"!",{"$f":"SUM(DH74:DH76)","v":0}]
[null,null,null,null,null,null,null,null,null,null,null,null,null,null,null,null,null,null,null,null,null,null,null,null,null,null,null,null,null,null,null,null,null,null,null,null,1,null,null,null,null,null,null,null,null,null,null,null,null,null,null,null,null,null,null,null,null,2,null,null,null,null,null,null,null,null,null,null,null,null,null,null,null,null,null,null,null,null,null,null,null,null,null,null,null,null,null,null,1,null,null,null,null,null,null,null,null,null,null,null,null,null,null,null,null,null,null,null,null,2]
[null,null,null,null,null,null,null,null,null,null,null,null,null,null,null,null,null,null,null,null,null,null,null,null,null,{"$f":"SUM(AI78:AI80)","v":0},"\"",null,null,{"$f":"RNSE(AF78,AI78)","v":"-"},{"$f":"AF78/Z79","v":{"$error":"#DIV/0!"}},{"$f":"AD98","v":0},"O",{"$f":"AI78/Z78","v":{"$error":"#DIV/0!"}},0,{"$f":"CHOOSE(1,\"O\",\"TURN\",13,AK77,AI78,AF78)","v":"O"},null,null,null,null,null,null,null,null,{"$f":"SUM(AM76,AJ75,AI79)","v":0},"\"",{"$f":"IF(AV78<>\"\",AV78-AS78,0)","v":0},{"$f":"SUM(BD78:BD80)","v":0},"\"",null,{"$f":"RNSE(BA78,BD78)","v":"-"},{"$f":"BA78/AV79","v":{"$error":"#DIV/0!"}},{"$f":"BN98","v":0},"O",{"$f":"BD78/AV78","v":{"$error":"#DIV/0!"}},0,{"$f":"CHOOSE(1,\"O\",\"TURN\",13,BF77,BD78,BA78)","v":"O"},null,{"$f":"CHOOSE(1,\":\",\"TURN\",2,BF77,BG79,BG82)","v":":"},{"$f":"CHOOSE(1,\"#\",\"TURN\",3,BF77,BH79,BH82)","v":"#"},{"$f":"CHOOSE(1,\";\",\"TURN\",4,BF77,BI79,BI82)","v":";"},null,null,null,null,null,{"$f":"SUM(BH76,BD80,BI79)","v":0},"\"",{"$f":"IF(BR78<>\"\",BR78-BO78,0)","v":0},null,null,null,null,null,null,null,null,{"$f":"SUM(CI78:CI80)","v":0},"\"",null,null,{"$f":"RNSE(CF78,CI78)","v":"-"},{"$f":"CF78/BZ79","v":{"$error":"#DIV/0!"}},{"$f":"CD98","v":0},"O",{"$f":"CI78/BZ78","v":{"$error":"#DIV/0!"}},0,{"$f":"CHOOSE(1,\"O\",\"TURN\",13,CK77,CI78,CF78)","v":"O"},null,null,null,null,null,null,null,null,{"$f":"SUM(CM76,CJ75,CI79)","v":0},"\"",{"$f":"IF(CV78<>\"\",CV78-CS78,0)","v":0},{"$f":"SUM(DD78:DD79)","v":0},"\"",null,{"$f":"RNSE(DA78,DD78)","v":"-"},{"$f":"DA78/CV79","v":{"$error":"#DIV/0!"}},{"$f":"DN98","v":0},"O",{"$f":"DD78/CV78","v":{"$error":"#DIV/0!"}},0,{"$f":"CHOOSE(1,\"O\",\"TURN\",13,DF77,DD78,DA78)","v":"O"},null,{"$f":"CHOOSE(1,\":\",\"TURN\",2,DF77,DG79,DG82)","v":":"},{"$f":"CHOOSE(1,\"#\",\"TURN\",3,DF77,DH79,DH82)","v":"#"},{"$f":"CHOOSE(1,\";\",\"TURN\",4,DF77,DI79,DI82)","v":";"},null,null,null,null,null,{"$f":"SUM(DH76,DD79,DI79)","v":0},"\"",{"$f":"IF(DR78<>\"\",DR78-DO78,0)","v":0}]
[null,null,null,null,null,null,null,null,null,null,null,null,null,null,null,null,null,null,null,null,null,null,null,null,null,{"$f":"SUM(AF78:AF80)","v":0},"\"",null,null,{"$f":"RNSE(AF79,AI79)","v":"-"},{"$f":"AF79/Z79","v":{"$error":"#DIV/0!"}},{"$f":"AB98","v":0},"\"",{"$f":"AI79/Z78","v":{"$error":"#DIV/0!"}},0,{"$f":"CHOOSE(1,\"\"\"\",\"TURN\",15,AK77,AI79,AF79)","v":"\""},null,null,null,null,null,null,null,null,{"$f":"SUM(AP76,AJ72,AF79)","v":0},"\"",{"$f":"IF(AV79<>\"\",AV79-AS79,0)","v":0},{"$f":"SUM(BA78:BA80)","v":0},"\"",null,"-",{"$f":"BA79/AV79","v":{"$error":"#DIV/0!"}},{"$f":"BM98","v":0},"=",{"$f":"BD79/AV78","v":{"$error":"#DIV/0!"}},0,{"$f":"CHOOSE(1,\"=\",\"TURN\",14,BF77,BD79,BA79)","v":"="},null,0,0,0,"raw",null,null,null,null,{"$f":"SUM(BK76,BA80,BI82)","v":0},"\"",{"$f":"IF(BR79<>\"\",BR79-BO79,0)","v":0},null,null,null,null,null,null,null,null,{"$f":"SUM(CF78:CF80)","v":0},"\"",null,null,{"$f":"RNSE(CF79,CI79)","v":"-"},{"$f":"CF79/BZ79","v":{"$error":"#DIV/0!"}},{"$f":"CB98","v":0},"\"",{"$f":"CI79/BZ78","v":{"$error":"#DIV/0!"}},0,{"$f":"CHOOSE(1,\"\"\"\",\"TURN\",15,CK77,CI79,CF79)","v":"\""},null,null,null,null,null,null,null,null,{"$f":"SUM(CP76,CJ72,CF79)","v":0},"\"",{"$f":"IF(CV79<>\"\",CV79-CS79,0)","v":0},{"$f":"SUM(DA78:DA79)","v":0},"\"",null,{"$f":"RNSE(DA79,DD79)","v":"-"},{"$f":"DA79/CV79","v":{"$error":"#DIV/0!"}},{"$f":"DL98","v":0},"\"",{"$f":"DD79/CV78","v":{"$error":"#DIV/0!"}},0,{"$f":"CHOOSE(1,\"\"\"\",\"TURN\",15,DF77,DD79,DA79)","v":"\""},null,0,0,0,"raw",null,null,null,null,{"$f":"SUM(DK76,DA79,DI82)","v":0},"\"",{"$f":"IF(DR79<>\"\",DR79-DO79,0)","v":0}]
[null,null,null,null,null,null,null,null,null,null,null,null,null,null,null,null,null,null,null,null,null,null,null,null,null,{"$f":"IF(W79<>\"\",AVERAGE(Z79,W79),Z79)","v":0},"target",null,null,{"$f":"RNSE(AF80,AI80)","v":"-"},{"$f":"AF80/Z79","v":{"$error":"#DIV/0!"}},{"$f":"AA98","v":0},"?",{"$f":"AI80/Z78","v":{"$error":"#DIV/0!"}},0,{"$f":"CHOOSE(1,\"?\",\"TURN\",16,AK77,AI80,AF80)","v":"?"},null,null,null,null,null,null,null,null,{"$f":"IF(AV79<>\"\",AVERAGE(AS79,AV79),AS79)","v":0},"target","imbal",{"$f":"IF(AS79<>\"\",AVERAGE(AV79,AS79),AV79)","v":0},"target",null,"-",{"$f":"BA80/AV79","v":{"$error":"#DIV/0!"}},{"$f":"BL98","v":0},"\"",{"$f":"BD80/AV78","v":{"$error":"#DIV/0!"}},0,{"$f":"CHOOSE(1,\"\"\"\",\"TURN\",15,BF77,BD80,BA80)","v":"\""},null,{"$f":"BG79/BG88","v":{"$error":"#DIV/0!"}},{"$f":"BH79/BG88","v":{"$error":"#DIV/0!"}},{"$f":"BI79/BG88","v":{"$error":"#DIV/0!"}},"%",null,null,null,null,{"$f":"IF(BR79<>\"\",AVERAGE(BO79,BR79),BO79)","v":0},"target","imbal",null,null,null,null,null,null,null,null,{"$f":"IF(BW79<>\"\",AVERAGE(BZ79,BW79),BZ79)","v":0},"target",null,null,{"$f":"RNSE(CF80,CI80)","v":"-"},{"$f":"CF80/BZ79","v":{"$error":"#DIV/0!"}},{"$f":"CA98","v":0},"?",{"$f":"CI80/BZ78","v":{"$error":"#DIV/0!"}},0,{"$f":"CHOOSE(1,\"?\",\"TURN\",16,CK77,CI80,CF80)","v":"?"},null,null,null,null,null,null,null,null,{"$f":"IF(CV79<>\"\",AVERAGE(CS79,CV79),CS79)","v":0},"target","imbal",{"$f":"IF(CS79<>\"\",AVERAGE(CV79,CS79),CV79)","v":0},"target",null,"RNSE","%","bal",null,"%","raw",null,null,{"$f":"DG79/DG88","v":{"$error":"#DIV/0!"}},{"$f":"DH79/DG88","v":{"$error":"#DIV/0!"}},{"$f":"DI79/DG88","v":{"$error":"#DIV/0!"}},"%",null,null,null,null,{"$f":"IF(DR79<>\"\",AVERAGE(DO79,DR79),DO79)","v":0},"target","imbal"]
[null,null,null,null,null,null,null,null,null,null,null,null,null,null,null,null,null,null,null,null,null,null,null,null,null,null,null,null,null,"RNSE","%","bal",null,"%","raw",null,null,null,null,null,null,null,null,null,null,null,null,null,null,null,"RNSE","%","bal",null,"%","raw",null,null,":","#",";",null,null,null,null,null,null,null,null,null,null,null,null,null,null,null,null,null,null,null,null,"RNSE","%","bal",null,"%","raw",null,null,null,null,null,null,null,null,null,null,null,null,null,null,null,null,null,null,null,null,null,null,null,":","#",";"]
[null,null,null,null,null,null,null,null,null,null,null,null,null,null,null,null,null,null,null,null,null,null,null,null,null,null,null,null,null,null,null,null,null,null,null,null,null,null,null,null,null,null,null,null,null,null,null,null,null,null,null,null,null,null,null,null,null,null,{"$f":"BN95","v":0},{"$f":"BM95","v":0},{"$f":"BL95","v":0},"bal",null,null,null,null,null,null,null,null,null,null,null,null,null,null,null,null,null,null,null,null,null,null,null,null,null,null,null,null,null,null,null,null,null,null,null,null,null,null,null,null,null,null,null,null,null,null,null,null,{"$f":"DN95","v":0},{"$f":"DM95","v":0},{"$f":"DL95","v":0},"bal"]
[null,null,null,null,null,null,null,null,null,null,null,null,null,null,null,null,null,null,null,null,null,null,null,null,null,null,null,null,null,null,null,null,null,null,null,null,null,null,null,null,null,null,null,null,null,null,null,null,null,null,null,null,null,null,null,null,null,null,{"$f":"BG82/BH88","v":{"$error":"#DIV/0!"}},{"$f":"BH82/BH88","v":{"$error":"#DIV/0!"}},{"$f":"BI82/BH88","v":{"$error":"#DIV/0!"}},"%",null,null,null,null,null,null,null,null,null,null,null,null,null,null,null,null,null,null,null,null,null,null,null,null,null,null,null,null,null,null,null,null,null,null,null,null,null,null,null,null,null,null,null,null,null,null,null,null,{"$f":"DG82/DH88","v":{"$error":"#DIV/0!"}},{"$f":"DH82/DH88","v":{"$error":"#DIV/0!"}},{"$f":"DI82/DH88","v":{"$error":"#DIV/0!"}},"%"]
[null,null,null,null,null,null,null,null,null,null,null,null,null,null,null,null,null,null,null,null,null,null,null,null,null,null,null,null,null,null,null,null,null,null,null,null,null,null,null,null,null,null,null,null,null,null,null,null,null,null,null,null,null,null,null,null,null,null,{"$f":"RNSE(BG82,BG79)","v":"-"},{"$f":"RNSE(BH82,BH79)","v":"-"},{"$f":"RNSE(BI82,BI79)","v":"-"},"RNSE",null,null,null,null,null,null,null,null,null,null,null,null,null,null,null,null,null,null,null,null,null,null,null,null,null,null,null,null,null,null,null,null,null,null,null,null,null,null,null,null,null,null,null,null,null,null,null,null,{"$f":"RNSE(DG82,DG79)","v":"-"},{"$f":"RNSE(DH82,DH79)","v":"-"},{"$f":"RNSE(DI82,DI79)","v":"-"},"RNSE"]
[]
[]
[null,null,null,null,null,null,null,null,null,null,null,null,null,null,null,null,null,null,null,null,null,null,null,null,null,null,null,null,null,null,null,null,null,null,null,null,null,null,null,null,null,null,null,null,null,null,null,null,null,null,null,null,null,null,null,null,null,null,"#","#","target",null,null,null,null,null,null,null,null,null,null,null,null,null,null,null,null,null,null,null,null,null,null,null,null,null,null,{"$f":"SUM(CF80,CI72)","v":0},{"$f":"SUM(CI80,CI75)","v":0},null,null,null,null,null,null,null,null,null,null,null,null,null,null,null,null,null,null,null,null,null,"#","#","target"]
[null,null,null,null,null,null,null,null,null,null,null,null,null,null,null,null,null,null,null,null,null,null,null,null,null,null,null,null,null,null,null,null,null,{"$f":"IF(AI91<>\"\",AI91,AI88)","v":0},{"$f":"SUM(AF80,AI72,AP75)","v":0},{"$f":"SUM(AI80,AI75,AM75)","v":0},null,null,null,null,null,null,null,null,null,null,null,null,null,null,null,null,null,null,null,null,null,null,{"$f":"SUM(BG79:BI79)","v":0},{"$f":"SUM(BG82:BI82)","v":0},{"$f":"IF(BH91<>\"\",BH91,BH88)","v":0},null,null,null,null,null,null,null,null,null,null,null,null,null,null,null,null,null,null,null,null,null,null,null,null,null,null,"$","$",null,null,null,null,null,null,null,null,null,null,null,null,null,null,null,null,null,null,null,null,null,{"$f":"SUM(DG79:DI79)","v":0},{"$f":"SUM(DG82:DI82)","v":0},{"$f":"IF(DH91<>\"\",DH91,DH88)","v":0}]
[null,null,null,null,null,null,null,null,null,null,null,null,null,null,null,null,null,null,null,null,null,null,null,null,null,null,null,null,null,null,null,null,null,"target","$","$",null,null,null,null,null,null,null,null,null,null,null,null,null,null,null,null,null,null,null,null,null,null,{"$f":"IF(BH91<>\"\",BG88-BH91,0)","v":0},{"$f":"IF(BH91<>\"\",BH88-BH91,0)","v":0},"imbal",null,null,null,null,null,null,null,null,null,null,null,null,null,null,null,null,null,null,null,null,null,null,null,null,null,"imbal",{"$f":"IF(AND(CP105<>\"\",CY91<>\"\"),CJ90-CJ87,0)","v":0},{"$f":"IF(AND(CP105<>\"\",CY91<>\"\"),CJ90-CK87,0)","v":0},null,null,null,null,null,null,null,null,null,null,null,null,null,null,null,null,null,null,null,null,null,{"$f":"IF(DH91<>\"\",DG88-DH91,0)","v":0},{"$f":"IF(DH91<>\"\",DH88-DH91,0)","v":0},"imbal"]
[null,null,null,null,null,null,null,null,null,null,null,null,null,null,null,null,null,null,null,null,null,null,null,null,null,null,null,null,null,null,null,null,null,"imbal",{"$f":"IF(AI91<>\"\",AI91-AI88,0)","v":0},{"$f":"IF(AI91<>\"\",AI91-AJ88,0)","v":0},null,null,null,null,null,null,null,null,null,null,null,null,null,null,null,null,null,null,null,null,null,null,null,{"$f":"CHOOSE(1,\"#\",\"LINK\",BI91,BH91)","v":"#"},null,null,null,null,null,null,null,null,null,null,null,null,null,null,null,null,null,null,null,null,null,null,null,null,null,null,null,{"$f":"IF(AND(CP105<>\"\",CY91<>\"\"),CP105+CY91,CJ87)","v":0},null,null,null,null,null,null,null,null,null,null,null,null,null,null,{"$f":"CHOOSE(1,\"#\",\"LINK\",CZ91,CY91)","v":"#"},null,null,null,null,null,null,null,null,{"$f":"CHOOSE(1,\"#\",\"LINK\",DI91,DH91)","v":"#"}]
[null,null,null,null,null,null,null,null,null,null,null,null,null,null,null,null,null,null,null,null,null,null,null,null,null,null,null,null,null,null,null,null,null,null,null,null,null,null,null,null,null,null,null,null,null,null,null,null,null,null,null,null,null,null,null,null,null,null,null,null,"LINK_ID",null,null,null,null,null,null,null,null,null,null,null,null,null,null,null,null,null,null,null,null,null,null,null,null,null,null,"target",null,null,null,null,null,null,null,null,null,null,null,null,null,null,null,"LINK_ID",null,null,null,null,null,null,null,null,"LINK_ID"]
[null,null,null,null,null,null,null,null,null,null,null,null,null,null,null,null,null,null,null,null,null,null,null,null,null,null,null,null,null,null,null,null,null,"LINK_ID",{"$f":"CHOOSE(1,\"$\",\"LINK\",AH92,AI91)","v":"$"}]
[null,null,null,null,null,null,null,null,null,null,null,null,null,null,null,null,null,null,null,null,null,null,null,null,null,"Local OD Estimated",null,null,null,null,null,null,null,null,null,null,null,null,null,null,null,null,null,null,null,null,null,null,null,null,null,null,null,null,null,null,null,null,null,null,null,"Local OD Estimated",null,null,null,null,null,null,null,null,null,null,null,null,null,null,null,"Local OD Estimated",null,null,null,null,null,null,null,null,null,null,null,null,null,null,null,null,null,null,null,null,null,null,null,null,null,null,null,null,null,null,null,null,null,null,null,"Local OD Estimated"]
[null,null,null,null,null,null,null,null,null,null,null,null,null,null,null,null,null,null,null,null,null,null,null,null,null,{"$f":"\"local_od_est_\"&AK77","v":"local_od_est_1"},1,2,3,4,"est","tgt","err",null,null,null,null,null,null,null,null,null,null,null,null,null,null,null,null,null,null,null,null,null,null,null,null,null,null,null,null,{"$f":"\"local_od_est_\"&BF77","v":"local_od_est_2"},1,2,3,4,"est","tgt","err",null,null,null,null,null,null,null,null,{"$f":"\"local_od_est_\"&CK77","v":"local_od_est_1"},1,2,3,4,"est","tgt","err",null,null,null,null,null,null,null,null,null,null,null,null,null,null,null,null,null,null,null,null,null,null,null,null,null,null,null,null,{"$f":"\"local_od_est_\"&DF77","v":"local_od_est_2"},1,2,3,4,"est","tgt","err"]
[null,null,null,null,null,null,null,null,null,null,null,null,null,null,null,null,null,null,null,null,null,null,null,null,null,1,{"$f":"AA56","v":0},0,0,0,{"$f":"SUM(AA95:AD95)","v":0},{"$f":"AF56","v":0},{"$f":"IFERROR(ABS(AE95-AF95)/AF95,0)","v":0},null,null,null,null,null,null,null,null,null,null,null,null,null,null,null,null,null,null,null,null,null,null,null,null,null,null,null,null,1,{"$f":"BK56","v":0},0,0,0,{"$f":"SUM(BK95:BN95)","v":0},{"$f":"BP56","v":0},{"$f":"IFERROR(ABS(BO95-BP95)/BP95,0)","v":0},null,null,null,null,null,null,null,null,1,{"$f":"CA56","v":0},0,0,0,{"$f":"SUM(CA95:CD95)","v":0},{"$f":"CF56","v":0},{"$f":"IFERROR(ABS(CE95-CF95)/CF95,0)","v":0},null,null,null,null,null,null,null,null,null,null,null,null,null,null,null,null,null,null,null,null,null,null,null,null,null,null,null,null,1,{"$f":"DK56","v":0},0,0,0,{"$f":"SUM(DK95:DN95)","v":0},{"$f":"DP56","v":0},{"$f":"IFERROR(ABS(DO95-DP95)/DP95,0)","v":0}]
[null,null,null,null,null,null,null,null,null,null,null,null,null,null,null,null,null,null,null,null,null,null,null,null,null,2,0,0,0,0,{"$f":"SUM(AA96:AD96)","v":0},{"$f":"AF57","v":0},{"$f":"IFERROR(ABS(AE96-AF96)/AF96,0)","v":0},null,null,null,null,null,null,null,null,null,null,null,null,null,null,null,null,null,null,null,null,null,null,null,null,null,null,null,null,2,0,0,0,0,{"$f":"SUM(BK96:BN96)","v":0},{"$f":"BP57","v":0},{"$f":"IFERROR(ABS(BO96-BP96)/BP96,0)","v":0},null,null,null,null,null,null,null,null,2,0,0,0,0,{"$f":"SUM(CA96:CD96)","v":0},{"$f":"CF57","v":0},{"$f":"IFERROR(ABS(CE96-CF96)/CF96,0)","v":0},null,null,null,null,null,null,null,null,null,null,null,null,null,null,null,null,null,null,null,null,null,null,null,null,null,null,null,null,2,0,0,0,0,{"$f":"SUM(DK96:DN96)","v":0},{"$f":"DP57","v":0},{"$f":"IFERROR(ABS(DO96-DP96)/DP96,0)","v":0}]
[null,null,null,null,null,null,null,null,null,null,null,null,null,null,null,null,null,null,null,null,null,null,null,null,null,3,0,0,0,0,0,{"$f":"AF58","v":0},0,null,null,null,null,null,null,null,null,null,null,null,null,null,null,null,null,null,null,null,null,null,null,null,null,null,null,null,null,3,0,0,0,0,0,{"$f":"BP58","v":0},0,null,null,null,null,null,null,null,null,3,0,0,0,0,0,{"$f":"CF58","v":0},0,null,null,null,null,null,null,null,null,null,null,null,null,null,null,null,null,null,null,null,null,null,null,null,null,null,null,null,null,3,0,0,0,0,0,{"$f":"DP58","v":0},0]
[null,null,null,null,null,null,null,null,null,null,null,null,null,null,null,null,null,null,null,null,null,null,null,null,null,4,0,0,0,0,0,{"$f":"AF59","v":0},0,null,null,null,null,null,null,null,null,null,null,null,null,null,null,null,null,null,null,null,null,null,null,null,null,null,null,null,null,4,0,0,0,0,0,{"$f":"BP59","v":0},0,null,null,null,null,null,null,null,null,4,0,0,0,0,0,{"$f":"CF59","v":0},0,null,null,null,null,null,null,null,null,null,null,null,null,null,null,null,null,null,null,null,null,null,null,null,null,null,null,null,null,4,0,0,0,0,0,{"$f":"DP59","v":0},0]
[null,null,null,null,null,null,null,null,null,null,null,null,null,null,null,null,null,null,null,null,null,null,null,null,null,"est",{"$f":"SUM(AA95:AA98)","v":0},{"$f":"SUM(AB95:AB98)","v":0},0,0,null,null,null,null,null,null,null,null,null,null,null,null,null,null,null,null,null,null,null,null,null,null,null,null,null,null,null,null,null,null,null,"est",{"$f":"SUM(BK95:BK98)","v":0},{"$f":"SUM(BL95:BL98)","v":0},0,0,null,null,null,null,null,null,null,null,null,null,null,"est",{"$f":"SUM(CA95:CA98)","v":0},{"$f":"SUM(CB95:CB98)","v":0},0,0,null,null,null,null,null,null,null,null,null,null,null,null,null,null,null,null,null,null,null,null,null,null,null,null,null,null,null,null,null,null,null,"est",{"$f":"SUM(DK95:DK98)","v":0},{"$f":"SUM(DL95:DL98)","v":0},0,0]
[null,null,null,null,null,null,null,null,null,null,null,null,null,null,null,null,null,null,null,null,null,null,null,null,null,"tgt",{"$f":"AA61","v":0},{"$f":"AB61","v":0},{"$f":"AC61","v":0},{"$f":"AD61","v":0},null,null,null,null,null,null,null,null,null,null,null,null,null,null,null,null,null,null,null,null,null,null,null,null,null,null,null,null,null,null,null,"tgt",{"$f":"BK61","v":0},{"$f":"BL61","v":0},{"$f":"BM61","v":0},{"$f":"BN61","v":0},null,null,null,null,null,null,null,null,null,null,null,"tgt",{"$f":"CA61","v":0},{"$f":"CB61","v":0},{"$f":"CC61","v":0},{"$f":"CD61","v":0},null,null,null,null,null,null,null,null,null,null,null,null,null,null,null,null,null,null,null,null,null,null,null,null,null,null,null,null,null,null,null,"tgt",{"$f":"DK61","v":0},{"$f":"DL61","v":0},{"$f":"DM61","v":0},{"$f":"DN61","v":0}]
[null,null,null,null,null,null,null,null,null,null,null,null,null,null,null,null,null,null,null,null,null,null,null,null,null,"err",{"$f":"IFERROR(ABS(AA99-AA100)/AA100,0)","v":0},{"$f":"IFERROR(ABS(AB99-AB100)/AB100,0)","v":0},0,0,null,null,{"$f":"SUM(AA101:AD101,AG95:AG98)","v":0},null,null,null,null,null,null,null,null,null,null,null,null,null,null,null,null,null,null,null,null,null,null,null,null,null,null,null,null,"err",{"$f":"IFERROR(ABS(BK99-BK100)/BK100,0)","v":0},{"$f":"IFERROR(ABS(BL99-BL100)/BL100,0)","v":0},0,0,null,null,{"$f":"SUM(BK101:BN101,BQ95:BQ98)","v":0},null,null,null,null,null,null,null,null,"err",{"$f":"IFERROR(ABS(CA99-CA100)/CA100,0)","v":0},{"$f":"IFERROR(ABS(CB99-CB100)/CB100,0)","v":0},0,0,null,null,{"$f":"SUM(CA101:CD101,CG95:CG98)","v":0},null,null,null,null,null,null,null,null,null,null,null,null,null,null,null,null,null,null,null,null,null,null,null,null,null,null,null,null,"err",{"$f":"IFERROR(ABS(DK99-DK100)/DK100,0)","v":0},{"$f":"IFERROR(ABS(DL99-DL100)/DL100,0)","v":0},0,0,null,null,{"$f":"SUM(DK101:DN101,DQ95:DQ98)","v":0}]
[]
[]
[]
[]
[null,null,null,null,null,null,null,null,null,null,null,null,null,null,null,null,null,null,null,null,null,null,null,null,null,null,null,null,null,null,null,null,null,null,null,null,null,null,null,null,null,null,null,null,null,null,null,null,null,null,null,null,null,null,null,null,null,null,null,null,null,null,null,null,null,null,null,null,null,null,null,null,null,null,null,null,null,null,null,null,null,null,null,null,null,null,null,null,null,null,null,null,"LINK_ID",{"$f":"CHOOSE(1,\"$\",\"LINK\",CO106,CP105)","v":"$"}]
[]
[]
[]
[]
[]
[]
[]
[]
[]
[]
[]
[]
[]
[]
[]
[]
[]
[]
[]
[]
[]
[]
[]
[]
[]
[]
[]
[]
[]
[]
[]
[]
[]
[]
[]
[]
[]
[]
[]
[]
[]
[]
[]
[]
[]
[]
[]
[]
[]
[]
[]
[]
[]
[]
[]
[]
[]
[]
[null,null,null,null,null,null,null,null,null,null,null,null,null,null,null,null,null,null,null,null,null,null,null,null,null,null,null,null,null,{"$f":"CHOOSE(1,AK190&\":\",\"IX_NAME\",AE165)","v":"1:"},"Default St & SB I-999 Off-Ramp",null,null,null,null,null,null,null,null,null,null,null,null,null,null,null,null,null,null,null,null,null,null,null,null,null,null,{"$f":"CHOOSE(1,BF190&\":\",\"IX_NAME\",BG165)","v":"2:"},"Default St & NB I-999 On-Ramp"]
[null,null,null,null,null,null,null,null,null,null,null,null,null,null,null,null,null,null,null,null,null,null,null,null,null,null,null,null,null,null,"Raw Count Date:",null,null,null,null,null,null,null,null,null,null,null,null,null,null,null,null,null,null,null,null,null,null,null,null,null,null,null,"Raw Count Date:"]
[null,null,null,null,null,null,null,null,null,null,null,null,null,null,null,null,null,null,null,null,null,null,null,null,null,"Local OD Raw",null,null,null,null,null,null,null,null,null,null,null,null,null,null,null,null,null,null,null,null,null,null,null,null,null,null,null,null,null,null,null,null,null,null,null,"Local OD Raw"]
[null,null,null,null,null,null,null,null,null,null,null,null,null,null,null,null,null,null,null,null,null,null,null,null,null,{"$f":"\"local_od_raw_\"&AK190","v":"local_od_raw_1"},2,3,4,"est","tgt","err",null,null,null,null,null,null,null,null,null,null,null,null,null,null,null,null,null,null,null,null,null,null,null,null,null,null,null,null,null,{"$f":"\"local_od_raw_\"&BF190","v":"local_od_raw_2"},2,3,4,"est","tgt","err"]
[null,null,null,null,null,null,null,null,null,null,null,null,null,null,null,null,null,null,null,null,null,null,null,null,null,2,{"$f":"AM189","v":0},0,{"$f":"AM188","v":0},{"$f":"SUM(AA169:AC169)","v":0},{"$f":"AU187","v":0},{"$f":"IFERROR(ABS(AD169-AE169)/AE169,0)","v":0},null,null,null,null,null,null,null,null,null,null,null,null,null,null,null,null,null,null,null,null,null,null,null,null,null,null,null,null,null,2,{"$f":"BH189","v":0},{"$f":"BH187","v":0},{"$f":"BH188","v":0},{"$f":"SUM(BK169:BM169)","v":0},{"$f":"BQ187","v":0},{"$f":"IFERROR(ABS(BN169-BO169)/BO169,0)","v":0}]
[null,null,null,null,null,null,null,null,null,null,null,null,null,null,null,null,null,null,null,null,null,null,null,null,null,3,{"$f":"AJ188","v":0},0,{"$f":"AI188","v":0},{"$f":"SUM(AA170:AC170)","v":0},{"$f":"AH179","v":0},0,null,null,null,null,null,null,null,null,null,null,null,null,null,null,null,null,null,null,null,null,null,null,null,null,null,null,null,null,null,3,0,0,0,{"$f":"SUM(BK170:BM170)","v":0},0,0]
[null,null,null,null,null,null,null,null,null,null,null,null,null,null,null,null,null,null,null,null,null,null,null,null,null,4,{"$f":"AI192","v":0},0,{"$f":"AI191","v":0},{"$f":"SUM(AA171:AC171)","v":0},{"$f":"Z193","v":0},0,null,null,null,null,null,null,null,null,null,null,null,null,null,null,null,null,null,null,null,null,null,null,null,null,null,null,null,null,null,4,{"$f":"BD193","v":0},{"$f":"BD192","v":0},{"$f":"BD191","v":0},{"$f":"SUM(BK171:BM171)","v":0},{"$f":"AV193","v":0},0]
[null,null,null,null,null,null,null,null,null,null,null,null,null,null,null,null,null,null,null,null,null,null,null,null,null,"est",{"$f":"SUM(AA169:AA171)","v":0},{"$f":"SUM(AB169:AB171)","v":0},{"$f":"SUM(AC169:AC171)","v":0},null,null,null,null,null,null,null,null,null,null,null,null,null,null,null,null,null,null,null,null,null,null,null,null,null,null,null,null,null,null,null,null,"est",{"$f":"SUM(BK169:BK171)","v":0},{"$f":"SUM(BL169:BL171)","v":0},{"$f":"SUM(BM169:BM171)","v":0}]
[null,null,null,null,null,null,null,null,null,null,null,null,null,null,null,null,null,null,null,null,null,null,null,null,null,"tgt",{"$f":"AS193","v":0},0,{"$f":"AB187","v":0},null,null,null,null,null,null,null,null,null,null,null,null,null,null,null,null,null,null,null,null,null,null,null,null,null,null,null,null,null,null,null,null,"tgt",{"$f":"BO193","v":0},{"$f":"BH180","v":0},{"$f":"AX187","v":0}]
[null,null,null,null,null,null,null,null,null,null,null,null,null,null,null,null,null,null,null,null,null,null,null,null,null,"err",{"$f":"IFERROR(ABS(AA172-AA173)/AA173,0)","v":0},0,0,null,null,{"$f":"SUM(AA174:AC174,AF169:AF171)","v":0},null,null,null,null,null,null,null,null,null,null,null,null,null,null,null,null,null,null,null,null,null,null,null,null,null,null,null,null,null,"err",{"$f":"IFERROR(ABS(BK172-BK173)/BK173,0)","v":0},0,0,null,null,{"$f":"SUM(BK174:BM174,BP169:BP171)","v":0}]
[]
[null,null,null,null,null,null,null,null,null,null,null,null,null,null,null,null,null,null,null,null,null,null,null,null,null,null,null,null,null,null,null,null,null,"LINK_ID",null,null,null,null,null,null,null,null,null,null,null,null,null,null,null,null,null,null,null,null,null,null,null,null,{"$f":"CHOOSE(1,\"#\",\"LINK\",BH176,BG177)","v":"#"},"LINK_ID"]
[null,null,null,null,null,null,null,null,null,null,null,null,null,null,null,null,null,null,null,null,null,null,null,null,null,null,null,null,null,null,null,null,null,null,{"$f":"CHOOSE(1,\"$\",\"LINK\",AH176,AI176)","v":"$"}]
[null,null,null,null,null,null,null,null,null,null,null,null,null,null,null,null,null,null,null,null,null,null,null,null,null,null,null,null,null,null,null,null,null,"imbal",{"$f":"IF(AI176<>\"\",AI179-AI176,0)","v":0},{"$f":"IF(AI176<>\"\",AJ179-AI176,0)","v":0},null,null,null,null,null,null,null,null,null,null,null,null,null,null,null,null,null,null,null,null,null,{"$f":"IF(BG177<>\"\",BG177-BF180,0)","v":0},{"$f":"IF(BG177<>\"\",BG177-BG180,0)","v":0},"imbal"]
[null,null,null,null,null,null,null,null,null,null,null,null,null,null,null,null,null,null,null,null,null,null,null,null,null,null,null,null,null,null,null,null,null,{"$f":"IF(AI176<>\"\",AI176,AI179)","v":0},{"$f":"SUM(AI185:AJ185)","v":0},{"$f":"SUM(AI188:AJ188)","v":0},null,null,null,null,null,null,null,null,null,null,null,null,null,null,null,null,null,null,null,null,null,"#","#","target"]
[null,null,null,null,null,null,null,null,null,null,null,null,null,null,null,null,null,null,null,null,null,null,null,null,null,null,null,null,null,null,null,null,null,"target","$","$",null,null,null,null,null,null,null,null,null,null,null,null,null,null,null,null,null,null,null,null,null,{"$f":"SUM(BD192,BH187)","v":0},{"$f":"SUM(BA192,BK187)","v":0},{"$f":"IF(BG177<>\"\",BG177,BG180)","v":0}]
[]
[]
[null,null,null,null,null,null,null,null,null,null,null,null,null,null,null,null,null,null,null,null,null,null,null,null,null,null,null,null,null,null,null,null,null,"RNSE",{"$f":"RNSE(AI185,AI188)","v":"-"},{"$f":"RNSE(AJ185,AJ188)","v":"-"}]
[null,null,null,null,null,null,null,null,null,null,null,null,null,null,null,null,null,null,null,null,null,null,null,null,null,null,null,null,null,null,null,null,null,"%",{"$f":"AI185/AI179","v":{"$error":"#DIV/0!"}},{"$f":"AJ185/AI179","v":{"$error":"#DIV/0!"}}]
[null,null,null,null,null,null,null,null,null,null,null,null,null,null,null,null,null,null,null,null,null,null,null,null,null,null,null,null,null,null,null,null,null,"bal",{"$f":"AC200","v":0},{"$f":"AA200","v":0}]
[null,null,null,null,null,null,null,null,null,null,null,null,null,null,null,null,null,null,null,null,null,null,null,null,null,null,null,null,null,null,null,null,null,null,8,9,null,null,null,null,null,null,null,null,null,null,null,null,null,null,null,null,null,null,null,null,null,null,null,"raw","%",null,"bal","%","RNSE"]
[null,null,null,null,null,null,null,null,null,null,null,null,null,null,null,null,null,null,null,null,null,null,null,null,null,"imbal","target",{"$f":"IF(Y188<>\"\",AVERAGE(AB188,Y188),AB188)","v":0},null,null,null,null,null,"%",{"$f":"AI188/AJ179","v":{"$error":"#DIV/0!"}},{"$f":"AJ188/AJ179","v":{"$error":"#DIV/0!"}},null,null,"raw","%",null,"bal","%","RNSE",null,"target",{"$f":"IF(AX188<>\"\",AVERAGE(AU188,AX188),AU188)","v":0},"imbal","target",{"$f":"IF(AU188<>\"\",AVERAGE(AX188,AU188),AX188)","v":0},null,null,null,null,null,null,null,null,{"$f":"CHOOSE(1,\"<\",\"TURN\",8,BF190,BH187,BK187)","v":"<"},0,{"$f":"BH187/BQ189","v":{"$error":"#DIV/0!"}},"<",{"$f":"BL199","v":0},{"$f":"BK187/BQ188","v":{"$error":"#DIV/0!"}},{"$f":"RNSE(BK187,BH187)","v":"-"},null,null,"target",{"$f":"IF(BT188<>\"\",AVERAGE(BQ188,BT188),BQ188)","v":0}]
[null,null,null,null,null,null,null,null,null,null,null,null,null,null,null,null,null,null,null,null,null,null,null,null,null,{"$f":"IF(Y188<>\"\",Y188-AB188,0)","v":0},"!",{"$f":"SUM(AI185,AF191,AP188)","v":0},null,null,null,null,null,"raw",0,0,null,{"$f":"CHOOSE(1,\"!\",\"TURN\",7,AK190,AM188,AP188)","v":"!"},0,{"$f":"AM188/AU189","v":{"$error":"#DIV/0!"}},"!",{"$f":"AC199","v":0},{"$f":"AP188/AU188","v":{"$error":"#DIV/0!"}},{"$f":"RNSE(AP188,AM188)","v":"-"},null,"!",{"$f":"SUM(AP188:AP189)","v":0},{"$f":"IF(AU188<>\"\",AU188-AX188,0)","v":0},"!",{"$f":"SUM(BK188,BA191)","v":0},null,null,null,null,null,null,null,null,{"$f":"CHOOSE(1,\"!\",\"TURN\",7,BF190,BH188,BK188)","v":"!"},0,{"$f":"BH188/BQ189","v":{"$error":"#DIV/0!"}},"!",{"$f":"BM199","v":0},{"$f":"BK188/BQ188","v":{"$error":"#DIV/0!"}},{"$f":"RNSE(BK188,BH188)","v":"-"},null,null,"!",{"$f":"SUM(BK187:BK189)","v":0}]
[null,null,null,null,null,null,null,null,null,null,null,null,null,null,null,null,null,null,null,null,null,null,null,null,null,{"$f":"IF(Y189<>\"\",Y189-AB189,0)","v":0},"!",{"$f":"SUM(AI188,AI191,AM188)","v":0},null,null,null,"Default St",null,null,{"$f":"CHOOSE(1,8,\"TURN\",12,AK190,AI188,AI185)","v":8},{"$f":"CHOOSE(1,\"9\",\"TURN\",10,AK190,AJ188,AJ185)","v":"9"},null,{"$f":"CHOOSE(1,\"N\",\"TURN\",5,AK190,AM189,AP189)","v":"N"},0,{"$f":"AM189/AU189","v":{"$error":"#DIV/0!"}},"N",{"$f":"AA199","v":0},{"$f":"AP189/AU188","v":{"$error":"#DIV/0!"}},{"$f":"RNSE(AP189,AM189)","v":"-"},null,"!",{"$f":"SUM(AM188:AM189)","v":0},{"$f":"IF(AU189<>\"\",AU189-AX189,0)","v":0},"!",{"$f":"SUM(BH188,BD191)","v":0},null,null,null,null,null,"Default St",null,null,{"$f":"CHOOSE(1,\"N\",\"TURN\",5,BF190,BH189,BK189)","v":"N"},0,{"$f":"BH189/BQ189","v":{"$error":"#DIV/0!"}},"N",{"$f":"BK199","v":0},{"$f":"BK189/BQ188","v":{"$error":"#DIV/0!"}},{"$f":"RNSE(BK189,BH189)","v":"-"},null,null,"!",{"$f":"SUM(BH187:BH189)","v":0}]
[null,null,null,null,null,null,null,null,null,null,null,null,null,null,null,null,null,null,null,null,null,null,null,null,null,null,null,null,null,null,null,null,null,null,null,null,1,null,null,null,null,null,null,null,null,null,null,null,null,null,null,null,null,null,null,null,null,2]
[null,null,null,null,null,null,null,null,null,null,null,null,null,null,null,null,null,null,null,null,null,null,null,null,null,{"$f":"SUM(AI191:AI192)","v":0},"\"",null,null,{"$f":"RNSE(AF191,AI191)","v":"-"},{"$f":"AF191/Z192","v":{"$error":"#DIV/0!"}},{"$f":"AC201","v":0},"O",{"$f":"AI191/Z191","v":{"$error":"#DIV/0!"}},0,{"$f":"CHOOSE(1,\"O\",\"TURN\",13,AK190,AI191,AF191)","v":"O"},null,null,null,null,null,null,null,null,{"$f":"SUM(AM189,AJ188,AI192)","v":0},"\"",{"$f":"IF(AV191<>\"\",AV191-AS191,0)","v":0},{"$f":"SUM(BD191:BD193)","v":0},"\"",null,{"$f":"RNSE(BA191,BD191)","v":"-"},{"$f":"BA191/AV192","v":{"$error":"#DIV/0!"}},{"$f":"BM201","v":0},"O",{"$f":"BD191/AV191","v":{"$error":"#DIV/0!"}},0,{"$f":"CHOOSE(1,\"O\",\"TURN\",13,BF190,BD191,BA191)","v":"O"},null,null,null,null,null,null,null,null,null,{"$f":"SUM(BH189,BD193)","v":0},"\"",{"$f":"IF(BR191<>\"\",BR191-BO191,0)","v":0}]
[null,null,null,null,null,null,null,null,null,null,null,null,null,null,null,null,null,null,null,null,null,null,null,null,null,{"$f":"SUM(AF191:AF192)","v":0},"\"",null,null,{"$f":"RNSE(AF192,AI192)","v":"-"},{"$f":"AF192/Z192","v":{"$error":"#DIV/0!"}},{"$f":"AA201","v":0},"\"",{"$f":"AI192/Z191","v":{"$error":"#DIV/0!"}},0,{"$f":"CHOOSE(1,\"\"\"\",\"TURN\",15,AK190,AI192,AF192)","v":"\""},null,null,null,null,null,null,null,null,{"$f":"SUM(AP189,AJ185,AF192)","v":0},"\"",{"$f":"IF(AV192<>\"\",AV192-AS192,0)","v":0},{"$f":"SUM(BA191:BA193)","v":0},"\"",null,"-",{"$f":"BA192/AV192","v":{"$error":"#DIV/0!"}},{"$f":"BL201","v":0},"=",{"$f":"BD192/AV191","v":{"$error":"#DIV/0!"}},0,{"$f":"CHOOSE(1,\"=\",\"TURN\",14,BF190,BD192,BA192)","v":"="},null,null,null,null,null,null,null,null,null,{"$f":"SUM(BK189,BA193)","v":0},"\"",{"$f":"IF(BR192<>\"\",BR192-BO192,0)","v":0}]
[null,null,null,null,null,null,null,null,null,null,null,null,null,null,null,null,null,null,null,null,null,null,null,null,null,{"$f":"IF(W192<>\"\",AVERAGE(Z192,W192),Z192)","v":0},"target",null,null,"RNSE","%","bal",null,"%","raw",null,null,null,null,null,null,null,null,null,{"$f":"IF(AV192<>\"\",AVERAGE(AS192,AV192),AS192)","v":0},"target","imbal",{"$f":"IF(AS192<>\"\",AVERAGE(AV192,AS192),AV192)","v":0},"target",null,"-",{"$f":"BA193/AV192","v":{"$error":"#DIV/0!"}},{"$f":"BK201","v":0},"\"",{"$f":"BD193/AV191","v":{"$error":"#DIV/0!"}},0,{"$f":"CHOOSE(1,\"\"\"\",\"TURN\",15,BF190,BD193,BA193)","v":"\""},null,null,null,null,null,null,null,null,null,{"$f":"IF(BR192<>\"\",AVERAGE(BO192,BR192),BO192)","v":0},"target","imbal"]
[null,null,null,null,null,null,null,null,null,null,null,null,null,null,null,null,null,null,null,null,null,null,null,null,null,null,null,null,null,null,null,null,null,null,null,null,null,null,null,null,null,null,null,null,null,null,null,null,null,null,"RNSE","%","bal",null,"%","raw"]
[]
[]
[null,null,null,null,null,null,null,null,null,null,null,null,null,null,null,null,null,null,null,null,null,null,null,null,null,"Local OD Estimated",null,null,null,null,null,null,null,null,null,null,null,null,null,null,null,null,null,null,null,null,null,null,null,null,null,null,null,null,null,null,null,null,null,null,null,"Local OD Estimated"]
[null,null,null,null,null,null,null,null,null,null,null,null,null,null,null,null,null,null,null,null,null,null,null,null,null,{"$f":"\"local_od_est_\"&AK190","v":"local_od_est_1"},2,3,4,"est","tgt","err",null,null,null,null,null,null,null,null,null,null,null,null,null,null,null,null,null,null,null,null,null,null,null,null,null,null,null,null,null,{"$f":"\"local_od_est_\"&BF190","v":"local_od_est_2"},2,3,4,"est","tgt","err"]
[null,null,null,null,null,null,null,null,null,null,null,null,null,null,null,null,null,null,null,null,null,null,null,null,null,2,{"$f":"AA169","v":0},0,0,{"$f":"SUM(AA199:AC199)","v":0},{"$f":"AE169","v":0},{"$f":"IFERROR(ABS(AD199-AE199)/AE199,0)","v":0},null,null,null,null,null,null,null,null,null,null,null,null,null,null,null,null,null,null,null,null,null,null,null,null,null,null,null,null,null,2,{"$f":"BK169","v":0},0,0,{"$f":"SUM(BK199:BM199)","v":0},{"$f":"BO169","v":0},{"$f":"IFERROR(ABS(BN199-BO199)/BO199,0)","v":0}]
[null,null,null,null,null,null,null,null,null,null,null,null,null,null,null,null,null,null,null,null,null,null,null,null,null,3,0,0,0,{"$f":"SUM(AA200:AC200)","v":0},{"$f":"AE170","v":0},0,null,null,null,null,null,null,null,null,null,null,null,null,null,null,null,null,null,null,null,null,null,null,null,null,null,null,null,null,null,3,0,0,0,{"$f":"SUM(BK200:BM200)","v":0},{"$f":"BO170","v":0},0]
[null,null,null,null,null,null,null,null,null,null,null,null,null,null,null,null,null,null,null,null,null,null,null,null,null,4,0,0,0,{"$f":"SUM(AA201:AC201)","v":0},{"$f":"AE171","v":0},0,null,null,null,null,null,null,null,null,null,null,null,null,null,null,null,null,null,null,null,null,null,null,null,null,null,null,null,null,null,4,0,0,0,{"$f":"SUM(BK201:BM201)","v":0},{"$f":"BO171","v":0},0]
[null,null,null,null,null,null,null,null,null,null,null,null,null,null,null,null,null,null,null,null,null,null,null,null,null,"est",{"$f":"SUM(AA199:AA201)","v":0},{"$f":"SUM(AB199:AB201)","v":0},{"$f":"SUM(AC199:AC201)","v":0},null,null,null,null,null,null,null,null,null,null,null,null,null,null,null,null,null,null,null,null,null,null,null,null,null,null,null,null,null,null,null,null,"est",{"$f":"SUM(BK199:BK201)","v":0},{"$f":"SUM(BL199:BL201)","v":0},{"$f":"SUM(BM199:BM201)","v":0}]
[null,null,null,null,null,null,null,null,null,null,null,null,null,null,null,null,null,null,null,null,null,null,null,null,null,"tgt",{"$f":"AA173","v":0},{"$f":"AB173","v":0},{"$f":"AC173","v":0},null,null,null,null,null,null,null,null,null,null,null,null,null,null,null,null,null,null,null,null,null,null,null,null,null,null,null,null,null,null,null,null,"tgt",{"$f":"BK173","v":0},{"$f":"BL173","v":0},{"$f":"BM173","v":0}]
[null,null,null,null,null,null,null,null,null,null,null,null,null,null,null,null,null,null,null,null,null,null,null,null,null,"err",{"$f":"IFERROR(ABS(AA202-AA203)/AA203,0)","v":0},0,0,null,null,{"$f":"SUM(AA204:AC204,AF199:AF201)","v":0},null,null,null,null,null,null,null,null,null,null,null,null,null,null,null,null,null,null,null,null,null,null,null,null,null,null,null,null,null,"err",{"$f":"IFERROR(ABS(BK202-BK203)/BK203,0)","v":0},0,0,null,null,{"$f":"SUM(BK204:BM204,BP199:BP201)","v":0}]
[]
[]
[]
[]
[]
[]
[]
[]
[]
[]
[]
[]
[]
[]
[]
[]
[]
[]
[]
[]
[]
[]
[]
[]
[]
[]
[]
[]
[]
[]
[]
[]
[]
[]
[]
[]
[]
[]
[]
[]
[]
[]
[]
[]
[]
[]
[]
[]
[]
[]
[]
[]
[]
[]
[]
[]
[]
[]
[]
[]
[]
[]
[]
[]
[]
[]
[]
[]
[]
[]
[]
[]
[]
[null,null,null,null,null,null,null,null,null,null,null,null,null,null,null,null,null,null,null,null,null,null,null,null,null,null,null,null,null,{"$f":"CHOOSE(1,AK303&\":\",\"IX_NAME\",AE278)","v":"1:"},"Default St & SB I-999 On-Ramp",null,null,null,null,null,null,null,null,null,null,null,null,null,null,null,null,null,null,null,null,null,null,null,null,null,null,{"$f":"CHOOSE(1,BF303&\":\",\"IX_NAME\",BG278)","v":"2:"},"Default St & NB I-999 Off-Ramp"]
[null,null,null,null,null,null,null,null,null,null,null,null,null,null,null,null,null,null,null,null,null,null,null,null,null,null,null,null,null,null,"Raw Count Date:",null,null,null,null,null,null,null,null,null,null,null,null,null,null,null,null,null,null,null,null,null,null,null,null,null,null,null,"Raw Count Date:"]
[null,null,null,null,null,null,null,null,null,null,null,null,null,null,null,null,null,null,null,null,null,null,null,null,null,"Local OD Raw",null,null,null,null,null,null,null,null,null,null,null,null,null,null,null,null,null,null,null,null,null,null,null,null,null,null,null,null,null,null,null,null,null,null,null,"Local OD Raw"]
[null,null,null,null,null,null,null,null,null,null,null,null,null,null,null,null,null,null,null,null,null,null,null,null,null,{"$f":"\"local_od_raw_\"&AK303","v":"local_od_raw_1"},1,2,4,"est","tgt","err",null,null,null,null,null,null,null,null,null,null,null,null,null,null,null,null,null,null,null,null,null,null,null,null,null,null,null,null,null,{"$f":"\"local_od_raw_\"&BF303","v":"local_od_raw_2"},1,2,4,"est","tgt","err"]
[null,null,null,null,null,null,null,null,null,null,null,null,null,null,null,null,null,null,null,null,null,null,null,null,null,1,0,0,0,{"$f":"SUM(AA282:AC282)","v":0},0,{"$f":"IFERROR(ABS(AD282-AE282)/AE282,0)","v":0},null,null,null,null,null,null,null,null,null,null,null,null,null,null,null,null,null,null,null,null,null,null,null,null,null,null,null,null,null,1,0,{"$f":"BH305","v":0},{"$f":"BG305","v":0},{"$f":"SUM(BK282:BM282)","v":0},{"$f":"BI314","v":0},{"$f":"IFERROR(ABS(BN282-BO282)/BO282,0)","v":0}]
[null,null,null,null,null,null,null,null,null,null,null,null,null,null,null,null,null,null,null,null,null,null,null,null,null,2,{"$f":"AM301","v":0},{"$f":"AM302","v":0},{"$f":"AM300","v":0},{"$f":"SUM(AA283:AC283)","v":0},{"$f":"AU300","v":0},{"$f":"IFERROR(ABS(AD283-AE283)/AE283,0)","v":0},null,null,null,null,null,null,null,null,null,null,null,null,null,null,null,null,null,null,null,null,null,null,null,null,null,null,null,null,null,2,0,{"$f":"BH302","v":0},{"$f":"BH301","v":0},{"$f":"SUM(BK283:BM283)","v":0},{"$f":"BQ300","v":0},{"$f":"IFERROR(ABS(BN283-BO283)/BO283,0)","v":0}]
[null,null,null,null,null,null,null,null,null,null,null,null,null,null,null,null,null,null,null,null,null,null,null,null,null,4,{"$f":"AI306","v":0},{"$f":"AI305","v":0},{"$f":"AI304","v":0},{"$f":"SUM(AA284:AC284)","v":0},{"$f":"Z306","v":0},{"$f":"IFERROR(ABS(AD284-AE284)/AE284,0)","v":0},null,null,null,null,null,null,null,null,null,null,null,null,null,null,null,null,null,null,null,null,null,null,null,null,null,null,null,null,null,4,0,{"$f":"BD305","v":0},{"$f":"BD304","v":0},{"$f":"SUM(BK284:BM284)","v":0},{"$f":"AV306","v":0},{"$f":"IFERROR(ABS(BN284-BO284)/BO284,0)","v":0}]
[null,null,null,null,null,null,null,null,null,null,null,null,null,null,null,null,null,null,null,null,null,null,null,null,null,"est",{"$f":"SUM(AA282:AA284)","v":0},{"$f":"SUM(AB282:AB284)","v":0},{"$f":"SUM(AC282:AC284)","v":0},null,null,null,null,null,null,null,null,null,null,null,null,null,null,null,null,null,null,null,null,null,null,null,null,null,null,null,null,null,null,null,null,"est",{"$f":"SUM(BK282:BK284)","v":0},{"$f":"SUM(BL282:BL284)","v":0},{"$f":"SUM(BM282:BM284)","v":0}]
[null,null,null,null,null,null,null,null,null,null,null,null,null,null,null,null,null,null,null,null,null,null,null,null,null,"tgt",{"$f":"AH314","v":0},{"$f":"AS306","v":0},{"$f":"AB300","v":0},null,null,null,null,null,null,null,null,null,null,null,null,null,null,null,null,null,null,null,null,null,null,null,null,null,null,null,null,null,null,null,null,"tgt",0,{"$f":"BO306","v":0},{"$f":"AX300","v":0}]
[null,null,null,null,null,null,null,null,null,null,null,null,null,null,null,null,null,null,null,null,null,null,null,null,null,"err",{"$f":"IFERROR(ABS(AA285-AA286)/AA286,0)","v":0},{"$f":"IFERROR(ABS(AB285-AB286)/AB286,0)","v":0},{"$f":"IFERROR(ABS(AC285-AC286)/AC286,0)","v":0},null,null,{"$f":"SUM(AA287:AC287,AF282:AF284)","v":0},null,null,null,null,null,null,null,null,null,null,null,null,null,null,null,null,null,null,null,null,null,null,null,null,null,null,null,null,null,"err",{"$f":"IFERROR(ABS(BK285-BK286)/BK286,0)","v":0},{"$f":"IFERROR(ABS(BL285-BL286)/BL286,0)","v":0},{"$f":"IFERROR(ABS(BM285-BM286)/BM286,0)","v":0},null,null,{"$f":"SUM(BK287:BM287,BP282:BP284)","v":0}]
[]
[]
[]
[]
[]
[]
[]
[]
[]
[]
[]
[null,null,null,null,null,null,null,null,null,null,null,null,null,null,null,null,null,null,null,null,null,null,null,null,null,null,null,null,null,null,null,null,null,null,null,null,null,null,"raw","%",null,"bal","%","RNSE"]
[null,null,null,null,null,null,null,null,null,null,null,null,null,null,null,null,null,null,null,null,null,null,null,null,null,"imbal","target",{"$f":"IF(Y301<>\"\",AVERAGE(AB301,Y301),AB301)","v":0},null,null,null,null,null,null,null,null,null,{"$f":"CHOOSE(1,\"!\",\"TURN\",7,AK303,AM300,AP300)","v":"!"},0,{"$f":"AM300/AU302","v":{"$error":"#DIV/0!"}},"!",{"$f":"AC322","v":0},{"$f":"AP300/AU301","v":{"$error":"#DIV/0!"}},{"$f":"RNSE(AP300,AM300)","v":"-"},null,"target",{"$f":"IF(AX301<>\"\",AVERAGE(AU301,AX301),AU301)","v":0},"imbal","target",{"$f":"IF(AU301<>\"\",AVERAGE(AX301,AU301),AX301)","v":0},null,null,null,null,null,null,null,null,null,"raw","%",null,"bal","%","RNSE",null,null,"target",{"$f":"IF(BT301<>\"\",AVERAGE(BQ301,BT301),BQ301)","v":0}]
[null,null,null,null,null,null,null,null,null,null,null,null,null,null,null,null,null,null,null,null,null,null,null,null,null,{"$f":"IF(Y301<>\"\",Y301-AB301,0)","v":0},"!",{"$f":"SUM(AF304,AP300)","v":0},null,null,null,null,null,null,null,null,null,{"$f":"CHOOSE(1,\">\",\"TURN\",6,AK303,AM301,AP301)","v":">"},0,{"$f":"AM301/AU302","v":{"$error":"#DIV/0!"}},">",{"$f":"AA322","v":0},{"$f":"AP301/AU301","v":{"$error":"#DIV/0!"}},"-",null,"!",{"$f":"SUM(AP300:AP302)","v":0},{"$f":"IF(AU301<>\"\",AU301-AX301,0)","v":0},"!",{"$f":"SUM(BG308,BK301,BA304)","v":0},null,null,null,null,null,null,null,null,{"$f":"CHOOSE(1,\"!\",\"TURN\",7,BF303,BH301,BK301)","v":"!"},0,{"$f":"BH301/BQ302","v":{"$error":"#DIV/0!"}},"!",{"$f":"BM322","v":0},{"$f":"BK301/BQ301","v":{"$error":"#DIV/0!"}},{"$f":"RNSE(BK301,BH301)","v":"-"},null,null,"!",{"$f":"SUM(BK301:BK302)","v":0}]
[null,null,null,null,null,null,null,null,null,null,null,null,null,null,null,null,null,null,null,null,null,null,null,null,null,{"$f":"IF(Y302<>\"\",Y302-AB302,0)","v":0},"!",{"$f":"SUM(AI304,AM300)","v":0},null,null,null,"Default St",null,null,null,null,null,{"$f":"CHOOSE(1,\"N\",\"TURN\",5,AK303,AM302,AP302)","v":"N"},0,{"$f":"AM302/AU302","v":{"$error":"#DIV/0!"}},"N",{"$f":"AB322","v":0},{"$f":"AP302/AU301","v":{"$error":"#DIV/0!"}},"-",null,"!",{"$f":"SUM(AM300:AM302)","v":0},{"$f":"IF(AU302<>\"\",AU302-AX302,0)","v":0},"!",{"$f":"SUM(BG305,BH301,BD304)","v":0},null,null,null,null,null,"Default St",null,null,{"$f":"CHOOSE(1,\"N\",\"TURN\",5,BF303,BH302,BK302)","v":"N"},0,{"$f":"BH302/BQ302","v":{"$error":"#DIV/0!"}},"N",{"$f":"BL322","v":0},{"$f":"BK302/BQ301","v":{"$error":"#DIV/0!"}},{"$f":"RNSE(BK302,BH302)","v":"-"},null,null,"!",{"$f":"SUM(BH301:BH302)","v":0}]
[null,null,null,null,null,null,null,null,null,null,null,null,null,null,null,null,null,null,null,null,null,null,null,null,null,null,null,null,null,null,null,null,null,null,null,null,1,null,null,null,null,null,null,null,null,null,null,null,null,null,null,null,null,null,null,null,null,2]
[null,null,null,null,null,null,null,null,null,null,null,null,null,null,null,null,null,null,null,null,null,null,null,null,null,{"$f":"SUM(AI304:AI306)","v":0},"\"",null,null,{"$f":"RNSE(AF304,AI304)","v":"-"},{"$f":"AF304/Z305","v":{"$error":"#DIV/0!"}},{"$f":"AC323","v":0},"O",{"$f":"AI304/Z304","v":{"$error":"#DIV/0!"}},0,{"$f":"CHOOSE(1,\"O\",\"TURN\",13,AK303,AI304,AF304)","v":"O"},null,null,null,null,null,null,null,null,{"$f":"SUM(AM302,AI305)","v":0},"\"",{"$f":"IF(AV304<>\"\",AV304-AS304,0)","v":0},{"$f":"SUM(BD304:BD305)","v":0},"\"",null,{"$f":"RNSE(BA304,BD304)","v":"-"},{"$f":"BA304/AV305","v":{"$error":"#DIV/0!"}},{"$f":"BM323","v":0},"O",{"$f":"BD304/AV304","v":{"$error":"#DIV/0!"}},0,{"$f":"CHOOSE(1,\"O\",\"TURN\",13,BF303,BD304,BA304)","v":"O"},null,{"$f":"CHOOSE(1,\":\",\"TURN\",2,BF303,BG305,BG308)","v":":"},{"$f":"CHOOSE(1,\";\",\"TURN\",4,BF303,BH305,BH308)","v":";"},null,null,null,null,null,null,{"$f":"SUM(BH302,BD305,BH305)","v":0},"\"",{"$f":"IF(BR304<>\"\",BR304-BO304,0)","v":0}]
[null,null,null,null,null,null,null,null,null,null,null,null,null,null,null,null,null,null,null,null,null,null,null,null,null,{"$f":"SUM(AF304:AF306)","v":0},"\"",null,null,{"$f":"RNSE(AF305,AI305)","v":"-"},{"$f":"AF305/Z305","v":{"$error":"#DIV/0!"}},{"$f":"AB323","v":0},"\"",{"$f":"AI305/Z304","v":{"$error":"#DIV/0!"}},0,{"$f":"CHOOSE(1,\"\"\"\",\"TURN\",15,AK303,AI305,AF305)","v":"\""},null,null,null,null,null,null,null,null,{"$f":"SUM(AP302,AF305)","v":0},"\"",{"$f":"IF(AV305<>\"\",AV305-AS305,0)","v":0},{"$f":"SUM(BA304:BA305)","v":0},"\"",null,{"$f":"RNSE(BA305,BD305)","v":"-"},{"$f":"BA305/AV305","v":{"$error":"#DIV/0!"}},{"$f":"BL323","v":0},"\"",{"$f":"BD305/AV304","v":{"$error":"#DIV/0!"}},0,{"$f":"CHOOSE(1,\"\"\"\",\"TURN\",15,BF303,BD305,BA305)","v":"\""},null,0,0,"raw",null,null,null,null,null,{"$f":"SUM(BK302,BA305,BH308)","v":0},"\"",{"$f":"IF(BR305<>\"\",BR305-BO305,0)","v":0}]
[null,null,null,null,null,null,null,null,null,null,null,null,null,null,null,null,null,null,null,null,null,null,null,null,null,{"$f":"IF(W305<>\"\",AVERAGE(Z305,W305),Z305)","v":0},"target",null,null,{"$f":"RNSE(AF306,AI306)","v":"-"},{"$f":"AF306/Z305","v":{"$error":"#DIV/0!"}},{"$f":"AA323","v":0},"?",{"$f":"AI306/Z304","v":{"$error":"#DIV/0!"}},0,{"$f":"CHOOSE(1,\"?\",\"TURN\",16,AK303,AI306,AF306)","v":"?"},null,null,null,null,null,null,null,null,{"$f":"IF(AV305<>\"\",AVERAGE(AS305,AV305),AS305)","v":0},"target","imbal",{"$f":"IF(AS305<>\"\",AVERAGE(AV305,AS305),AV305)","v":0},"target",null,"RNSE","%","bal",null,"%","raw",null,null,{"$f":"BG305/BG314","v":{"$error":"#DIV/0!"}},{"$f":"BH305/BG314","v":{"$error":"#DIV/0!"}},"%",null,null,null,null,null,{"$f":"IF(BR305<>\"\",AVERAGE(BO305,BR305),BO305)","v":0},"target","imbal"]
[null,null,null,null,null,null,null,null,null,null,null,null,null,null,null,null,null,null,null,null,null,null,null,null,null,null,null,null,null,"RNSE","%","bal",null,"%","raw",null,null,null,null,null,null,null,null,null,null,null,null,null,null,null,null,null,null,null,null,null,null,null,":",";"]
[null,null,null,null,null,null,null,null,null,null,null,null,null,null,null,null,null,null,null,null,null,null,null,null,null,null,null,null,null,null,null,null,null,null,null,null,null,null,null,null,null,null,null,null,null,null,null,null,null,null,null,null,null,null,null,null,null,null,{"$f":"BM321","v":0},{"$f":"BL321","v":0},"bal"]
[null,null,null,null,null,null,null,null,null,null,null,null,null,null,null,null,null,null,null,null,null,null,null,null,null,null,null,null,null,null,null,null,null,null,null,null,null,null,null,null,null,null,null,null,null,null,null,null,null,null,null,null,null,null,null,null,null,null,{"$f":"BG308/BH314","v":{"$error":"#DIV/0!"}},{"$f":"BH308/BH314","v":{"$error":"#DIV/0!"}},"%"]
[null,null,null,null,null,null,null,null,null,null,null,null,null,null,null,null,null,null,null,null,null,null,null,null,null,null,null,null,null,null,null,null,null,null,null,null,null,null,null,null,null,null,null,null,null,null,null,null,null,null,null,null,null,null,null,null,null,null,{"$f":"RNSE(BG308,BG305)","v":"-"},{"$f":"RNSE(BH308,BH305)","v":"-"},"RNSE"]
[]
[]
[null,null,null,null,null,null,null,null,null,null,null,null,null,null,null,null,null,null,null,null,null,null,null,null,null,null,null,null,null,null,null,null,null,null,null,null,null,null,null,null,null,null,null,null,null,null,null,null,null,null,null,null,null,null,null,null,null,null,"#","#","target"]
[null,null,null,null,null,null,null,null,null,null,null,null,null,null,null,null,null,null,null,null,null,null,null,null,null,null,null,null,null,null,null,null,null,{"$f":"IF(AI317<>\"\",AI317,AI314)","v":0},{"$f":"SUM(AF306,AP301)","v":0},{"$f":"SUM(AI306,AM301)","v":0},null,null,null,null,null,null,null,null,null,null,null,null,null,null,null,null,null,null,null,null,null,null,{"$f":"SUM(BG305:BH305)","v":0},{"$f":"SUM(BG308:BH308)","v":0},{"$f":"IF(BH317<>\"\",BH317,BH314)","v":0}]
[null,null,null,null,null,null,null,null,null,null,null,null,null,null,null,null,null,null,null,null,null,null,null,null,null,null,null,null,null,null,null,null,null,"target","$","$",null,null,null,null,null,null,null,null,null,null,null,null,null,null,null,null,null,null,null,null,null,null,{"$f":"IF(BH317<>\"\",BG314-BH317,0)","v":0},{"$f":"IF(BH317<>\"\",BH314-BH317,0)","v":0},"imbal"]
[null,null,null,null,null,null,null,null,null,null,null,null,null,null,null,null,null,null,null,null,null,null,null,null,null,null,null,null,null,null,null,null,null,"imbal",{"$f":"IF(AI317<>\"\",AI317-AI314,0)","v":0},{"$f":"IF(AI317<>\"\",AI317-AJ314,0)","v":0},null,null,null,null,null,null,null,null,null,null,null,null,null,null,null,null,null,null,null,null,null,null,null,{"$f":"CHOOSE(1,\"#\",\"LINK\",BI317,BH317)","v":"#"}]
[null,null,null,null,null,null,null,null,null,null,null,null,null,null,null,null,null,null,null,null,null,null,null,null,null,null,null,null,null,null,null,null,null,null,null,null,null,null,null,null,null,null,null,null,null,null,null,null,null,null,null,null,null,null,null,null,null,null,null,null,"LINK_ID"]
[null,null,null,null,null,null,null,null,null,null,null,null,null,null,null,null,null,null,null,null,null,null,null,null,null,null,null,null,null,null,null,null,null,"LINK_ID",{"$f":"CHOOSE(1,\"$\",\"LINK\",AH318,AI317)","v":"$"}]
[null,null,null,null,null,null,null,null,null,null,null,null,null,null,null,null,null,null,null,null,null,null,null,null,null,"Local OD Estimated",null,null,null,null,null,null,null,null,null,null,null,null,null,null,null,null,null,null,null,null,null,null,null,null,null,null,null,null,null,null,null,null,null,null,null,"Local OD Estimated"]
[null,null,null,null,null,null,null,null,null,null,null,null,null,null,null,null,null,null,null,null,null,null,null,null,null,{"$f":"\"local_od_est_\"&AK303","v":"local_od_est_1"},1,2,4,"est","tgt","err",null,null,null,null,null,null,null,null,null,null,null,null,null,null,null,null,null,null,null,null,null,null,null,null,null,null,null,null,null,{"$f":"\"local_od_est_\"&BF303","v":"local_od_est_2"},1,2,4,"est","tgt","err"]
[null,null,null,null,null,null,null,null,null,null,null,null,null,null,null,null,null,null,null,null,null,null,null,null,null,1,{"$f":"AA282","v":0},0,0,{"$f":"SUM(AA321:AC321)","v":0},{"$f":"AE282","v":0},{"$f":"IFERROR(ABS(AD321-AE321)/AE321,0)","v":0},null,null,null,null,null,null,null,null,null,null,null,null,null,null,null,null,null,null,null,null,null,null,null,null,null,null,null,null,null,1,{"$f":"BK282","v":0},0,0,{"$f":"SUM(BK321:BM321)","v":0},{"$f":"BO282","v":0},{"$f":"IFERROR(ABS(BN321-BO321)/BO321,0)","v":0}]
[null,null,null,null,null,null,null,null,null,null,null,null,null,null,null,null,null,null,null,null,null,null,null,null,null,2,0,0,0,{"$f":"SUM(AA322:AC322)","v":0},{"$f":"AE283","v":0},{"$f":"IFERROR(ABS(AD322-AE322)/AE322,0)","v":0},null,null,null,null,null,null,null,null,null,null,null,null,null,null,null,null,null,null,null,null,null,null,null,null,null,null,null,null,null,2,0,0,0,{"$f":"SUM(BK322:BM322)","v":0},{"$f":"BO283","v":0},{"$f":"IFERROR(ABS(BN322-BO322)/BO322,0)","v":0}]
[null,null,null,null,null,null,null,null,null,null,null,null,null,null,null,null,null,null,null,null,null,null,null,null,null,4,0,0,0,{"$f":"SUM(AA323:AC323)","v":0},{"$f":"AE284","v":0},{"$f":"IFERROR(ABS(AD323-AE323)/AE323,0)","v":0},null,null,null,null,null,null,null,null,null,null,null,null,null,null,null,null,null,null,null,null,null,null,null,null,null,null,null,null,null,4,0,0,0,{"$f":"SUM(BK323:BM323)","v":0},{"$f":"BO284","v":0},{"$f":"IFERROR(ABS(BN323-BO323)/BO323,0)","v":0}]
[null,null,null,null,null,null,null,null,null,null,null,null,null,null,null,null,null,null,null,null,null,null,null,null,null,"est",{"$f":"SUM(AA321:AA323)","v":0},{"$f":"SUM(AB321:AB323)","v":0},{"$f":"SUM(AC321:AC323)","v":0},null,null,null,null,null,null,null,null,null,null,null,null,null,null,null,null,null,null,null,null,null,null,null,null,null,null,null,null,null,null,null,null,"est",{"$f":"SUM(BK321:BK323)","v":0},{"$f":"SUM(BL321:BL323)","v":0},{"$f":"SUM(BM321:BM323)","v":0}]
[null,null,null,null,null,null,null,null,null,null,null,null,null,null,null,null,null,null,null,null,null,null,null,null,null,"tgt",{"$f":"AA286","v":0},{"$f":"AB286","v":0},{"$f":"AC286","v":0},null,null,null,null,null,null,null,null,null,null,null,null,null,null,null,null,null,null,null,null,null,null,null,null,null,null,null,null,null,null,null,null,"tgt",{"$f":"BK286","v":0},{"$f":"BL286","v":0},{"$f":"BM286","v":0}]
[null,null,null,null,null,null,null,null,null,null,null,null,null,null,null,null,null,null,null,null,null,null,null,null,null,"err",{"$f":"IFERROR(ABS(AA324-AA325)/AA325,0)","v":0},{"$f":"IFERROR(ABS(AB324-AB325)/AB325,0)","v":0},{"$f":"IFERROR(ABS(AC324-AC325)/AC325,0)","v":0},null,null,{"$f":"SUM(AA326:AC326,AF321:AF323)","v":0},null,null,null,null,null,null,null,null,null,null,null,null,null,null,null,null,null,null,null,null,null,null,null,null,null,null,null,null,null,"err",{"$f":"IFERROR(ABS(BK324-BK325)/BK325,0)","v":0},{"$f":"IFERROR(ABS(BL324-BL325)/BL325,0)","v":0},{"$f":"IFERROR(ABS(BM324-BM325)/BM325,0)","v":0},null,null,{"$f":"SUM(BK326:BM326,BP321:BP323)","v":0}]

{"sheet":"DIAMOND E-W","index":4,"n_rows":269,"n_cols":145,"rows_kept":269,"cut":false,"hidden":false,"merged":[]}
[]
[]
[]
[]
[]
[]
[]
[]
[]
[]
[]
[]
[]
[]
[]
[]
[]
[]
[]
[]
[]
[]
[]
[]
[]
[]
[]
[]
[]
[]
[]
[]
[]
[]
[]
[]
[]
[]
[]
[]
[]
[]
[]
[]
[]
[null,null,null,null,null,null,null,null,null,null,null,null,null,null,null,null,null,null,null,null,null,null,null,null,null,null,null,null,null,null,null,null,null,null,null,null,null,null,null,null,null,null,null,null,null,null,null,null,null,null,null,null,{"$f":"IF(BB43<>\"\",AVERAGE(BB46,BB43),BB46)","v":0},{"$f":"SUM(BA58:BC58)","v":0},{"$f":"SUM(BA61:BC61)","v":0},null,{"$f":"IF(BE45<>\"\",BE45-BE48,0)","v":0},{"$f":"IF(BF45<>\"\",BF45-BF48,0)","v":0},"imbal",null,null,null,null,null,null,null,null,null,null,null,null,null,null,null,null,null,null,null,null,null,null,null,null,null,null,null,null,null,null,null,null,null,null,null,null,null,null,null,null,null,null,null,null,null,null,null,null,null,null,null,null,null,null,null,null,null,{"$f":"IF(DN43<>\"\",AVERAGE(DN46,DN43),DN46)","v":0},{"$f":"SUM(DM58:DO58)","v":0},{"$f":"SUM(DM61:DO61)","v":0},null,{"$f":"IF(DQ45<>\"\",DQ45-DQ48,0)","v":0},{"$f":"IF(DR45<>\"\",DR45-DR48,0)","v":0},"imbal"]
[null,null,null,null,null,null,null,null,null,null,null,null,null,null,null,null,null,null,null,null,null,null,null,null,null,null,null,null,null,null,null,null,null,null,null,null,null,null,null,null,null,null,null,null,null,null,null,null,null,null,null,null,"target","$","$",null,"#","#","target",null,null,null,null,null,null,null,null,null,null,null,null,null,null,null,null,null,null,null,null,null,null,null,null,null,null,null,null,null,null,null,null,null,null,null,null,null,null,null,null,null,null,null,null,null,null,null,null,null,null,null,null,null,null,null,null,null,"target","$","$",null,"#","#","target"]
[null,null,null,null,null,null,null,null,null,null,null,null,null,null,null,null,null,null,null,null,null,null,null,null,null,null,null,null,null,null,null,null,null,null,null,null,null,null,null,null,null,null,null,null,null,null,null,null,null,null,null,null,null,null,null,null,{"$f":"SUM(BC61,BG65,BF60)","v":0},{"$f":"SUM(BC58,BG68,BI60)","v":0},{"$f":"IF(BF45<>\"\",AVERAGE(BF48,BF45),BF48)","v":0},null,null,null,null,null,null,null,null,null,null,null,null,null,null,null,null,null,null,null,null,null,null,null,null,null,null,null,null,null,null,null,null,null,null,null,null,null,null,null,null,null,null,null,null,null,null,null,null,null,null,null,null,null,null,null,null,null,null,null,null,null,{"$f":"SUM(DO61,DR65,DR60)","v":0},{"$f":"SUM(DO58,DR68,DU60)","v":0},{"$f":"IF(DR45<>\"\",AVERAGE(DR48,DR45),DR48)","v":0}]
[null,null,null,null,null,null,null,null,null,null,null,null,null,null,null,null,null,null,null,null,null,null,null,null,null,null,null,null,null,null,null,null,null,null,null,null,null,null,null,null,null,{"$f":"CHOOSE(1,BD63&\":\",\"IX_NAME\",AQ49)","v":"1:"},"Default St & WB I-888 Ramps",null,null,null,null,null,null,null,null,null,null,null,null,null,null,null,null,null,null,null,null,null,"Local OD Raw",null,null,null,null,null,null,null,null,"Local OD Estimated",null,null,null,null,null,null,null,null,null,null,null,null,null,null,null,null,null,null,null,null,null,null,null,null,null,null,null,null,null,null,null,{"$f":"CHOOSE(1,DP63&\":\",\"IX_NAME\",DC49)","v":"1:"},"Default St & WB I-888 Ramps",null,null,null,null,null,null,null,null,null,null,null,null,null,null,null,null,null,null,null,null,null,"Local OD Raw",null,null,null,null,null,null,null,null,"Local OD Estimated"]
[null,null,null,null,null,null,null,null,null,null,null,null,null,null,null,null,null,null,null,null,null,null,null,null,null,null,null,null,null,null,null,null,null,null,null,null,null,null,null,null,null,null,"Raw Count Date:",null,null,null,null,null,null,null,null,null,null,null,null,null,null,null,null,null,null,null,null,null,{"$f":"\"local_od_raw_\"&BD63","v":"local_od_raw_1"},1,2,3,4,"est","tgt","err",null,{"$f":"\"local_od_est_\"&BD63","v":"local_od_est_1"},1,2,3,4,"est","tgt","err",null,null,null,null,null,null,null,null,null,null,null,null,null,null,null,null,null,null,null,null,null,null,null,null,null,"Raw Count Date:",null,null,null,null,null,null,null,null,null,null,null,null,null,null,null,null,null,null,null,null,null,{"$f":"\"local_od_raw_\"&DP63","v":"local_od_raw_1"},1,2,3,4,"est","tgt","err",null,{"$f":"\"local_od_est_\"&DP63","v":"local_od_est_1"},1,2,3,4,"est","tgt","err"]
[null,null,null,null,null,null,null,null,null,null,null,null,null,null,null,null,null,null,null,null,null,null,null,null,null,null,null,null,null,null,null,null,null,null,null,null,null,null,null,null,null,null,null,null,null,null,null,null,null,null,null,null,null,null,null,null,null,null,null,null,null,null,null,null,1,{"$f":"BE65","v":0},0,{"$f":"BG65","v":0},{"$f":"BF65","v":0},{"$f":"SUM(BN51:BQ51)","v":0},{"$f":"BG80","v":0},{"$f":"IFERROR(ABS(BR51-BS51)/BS51,0)","v":0},null,1,{"$f":"BN51","v":0},0,0,0,{"$f":"SUM(BW51:BZ51)","v":0},{"$f":"BS51","v":0},{"$f":"IFERROR(ABS(CA51-CB51)/CB51,0)","v":0},null,null,null,null,null,null,null,null,null,null,null,null,null,null,null,null,null,null,null,null,null,null,null,null,null,null,null,null,null,null,null,null,null,null,null,null,null,null,null,null,null,null,null,null,null,null,null,1,{"$f":"DQ65","v":0},0,{"$f":"DR65","v":0},0,{"$f":"SUM(DZ51:EC51)","v":0},{"$f":"DS80","v":0},{"$f":"IFERROR(ABS(ED51-EE51)/EE51,0)","v":0},null,1,{"$f":"DZ51","v":0},0,0,0,{"$f":"SUM(EI51:EL51)","v":0},{"$f":"EE51","v":0},{"$f":"IFERROR(ABS(EM51-EN51)/EN51,0)","v":0}]
[null,null,null,null,null,null,null,null,null,null,null,null,null,null,null,null,null,null,null,null,null,null,null,null,null,null,null,null,null,null,null,null,null,null,null,null,null,null,null,null,null,null,null,null,null,null,null,null,null,null,null,null,null,null,"Default St",null,null,null,null,null,null,null,null,null,2,{"$f":"BF62","v":0},0,{"$f":"BF60","v":0},{"$f":"BF61","v":0},{"$f":"SUM(BN52:BQ52)","v":0},{"$f":"BO63","v":0},{"$f":"IFERROR(ABS(BR52-BS52)/BS52,0)","v":0},null,2,0,0,0,0,{"$f":"SUM(BW52:BZ52)","v":0},{"$f":"BS52","v":0},{"$f":"IFERROR(ABS(CA52-CB52)/CB52,0)","v":0},null,null,null,null,null,null,null,null,null,null,null,null,null,null,null,null,null,null,null,null,null,null,null,null,null,null,null,null,null,null,null,null,null,null,null,null,null,"Default St",null,null,null,null,null,null,null,null,null,2,{"$f":"DR62","v":0},0,{"$f":"DR60","v":0},{"$f":"DR61","v":0},{"$f":"SUM(DZ52:EC52)","v":0},{"$f":"EA63","v":0},{"$f":"IFERROR(ABS(ED52-EE52)/EE52,0)","v":0},null,2,0,0,0,0,{"$f":"SUM(EI52:EL52)","v":0},{"$f":"EE52","v":0},{"$f":"IFERROR(ABS(EM52-EN52)/EN52,0)","v":0}]
[null,null,null,null,null,null,null,null,null,null,null,null,null,null,null,null,null,null,null,null,null,null,null,null,null,null,null,null,null,null,null,null,null,null,null,null,null,null,null,null,null,null,null,null,null,null,null,null,null,null,null,"",null,null,null,null,null,null,null,null,null,null,null,null,3,{"$f":"BB61","v":0},0,{"$f":"BC61","v":0},{"$f":"BA61","v":0},{"$f":"SUM(BN53:BQ53)","v":0},{"$f":"BA46","v":0},0,null,3,0,0,0,0,0,{"$f":"BS53","v":0},0,null,null,null,null,null,null,null,null,null,null,null,null,null,null,null,null,null,null,null,null,null,null,null,null,null,null,null,null,null,null,null,null,null,null,"",null,null,null,null,null,null,null,null,null,null,null,null,3,{"$f":"DN61","v":0},0,{"$f":"DO61","v":0},{"$f":"DM61","v":0},{"$f":"SUM(DZ53:EC53)","v":0},{"$f":"DM46","v":0},0,null,3,0,0,0,0,0,{"$f":"EE53","v":0},0]
[null,null,null,null,null,null,null,null,null,null,null,null,null,null,null,null,null,null,null,null,null,null,null,null,null,null,null,null,null,null,null,null,null,null,null,null,null,null,null,null,null,null,null,null,null,null,null,null,null,null,null,null,null,null,null,null,null,null,null,null,null,null,null,null,4,0,0,0,0,{"$f":"SUM(BN54:BQ54)","v":0},0,0,null,4,0,0,0,0,0,{"$f":"BS54","v":0},0,null,null,null,null,null,null,null,null,null,null,null,null,null,null,null,null,null,null,null,null,null,null,null,null,null,null,null,null,null,null,null,null,null,null,null,null,null,null,null,null,null,null,null,null,null,null,null,4,0,0,0,0,{"$f":"SUM(DZ54:EC54)","v":0},0,0,null,4,0,0,0,0,0,{"$f":"EE54","v":0},0]
[null,null,null,null,null,null,null,null,null,null,null,null,null,null,null,null,null,null,null,null,null,null,null,null,null,null,null,null,null,null,null,null,null,null,null,null,null,null,null,null,null,null,null,null,null,null,null,null,null,null,null,null,null,null,null,null,null,null,null,null,null,null,null,null,"est",{"$f":"SUM(BN51:BN54)","v":0},{"$f":"SUM(BO51:BO54)","v":0},{"$f":"SUM(BP51:BP54)","v":0},{"$f":"SUM(BQ51:BQ54)","v":0},null,null,null,null,"est",{"$f":"SUM(BW51:BW54)","v":0},{"$f":"SUM(BX51:BX54)","v":0},0,0,null,null,null,null,null,null,null,null,null,null,null,null,null,null,null,null,null,null,null,null,null,null,null,null,null,null,null,null,null,null,null,null,null,null,null,null,null,null,null,null,null,null,null,null,null,null,null,null,null,null,"est",{"$f":"SUM(DZ51:DZ54)","v":0},{"$f":"SUM(EA51:EA54)","v":0},{"$f":"SUM(EB51:EB54)","v":0},{"$f":"SUM(EC51:EC54)","v":0},null,null,null,null,"est",{"$f":"SUM(EI51:EI54)","v":0},{"$f":"SUM(EJ51:EJ54)","v":0},0,0]
[null,null,null,null,null,null,null,null,null,null,null,null,null,null,null,null,null,null,null,null,null,null,null,null,null,null,null,null,null,null,null,null,null,null,null,null,null,null,null,null,null,null,null,null,null,null,null,null,null,null,null,"RNSE",{"$f":"RNSE(BA58,BA61)","v":"-"},{"$f":"RNSE(BB58,BB61)","v":"-"},{"$f":"RNSE(BC58,BC61)","v":"-"},null,null,null,null,null,null,null,null,null,"tgt",{"$f":"BA78","v":0},0,{"$f":"BG48","v":0},{"$f":"AU63","v":0},null,null,null,null,"tgt",{"$f":"BN56","v":0},{"$f":"BO56","v":0},{"$f":"BP56","v":0},{"$f":"BQ56","v":0},null,null,null,null,null,null,null,null,null,null,null,null,null,null,null,null,null,null,null,null,null,null,null,null,null,null,null,null,null,null,null,null,null,null,null,null,null,"RNSE",{"$f":"RNSE(DM58,DM61)","v":"-"},{"$f":"RNSE(DN58,DN61)","v":"-"},{"$f":"RNSE(DO58,DO61)","v":"-"},null,null,null,null,null,null,null,null,null,"tgt",{"$f":"DM78","v":0},0,{"$f":"DS48","v":0},{"$f":"DG62","v":0},null,null,null,null,"tgt",{"$f":"DZ56","v":0},{"$f":"EA56","v":0},{"$f":"EB56","v":0},{"$f":"EC56","v":0}]
[null,null,null,null,null,null,null,null,null,null,null,null,null,null,null,null,null,null,null,null,null,null,null,null,null,null,null,null,null,null,null,null,null,null,null,null,null,null,null,null,null,null,null,null,null,null,null,null,null,null,null,"%",{"$f":"BA58/BB46","v":{"$error":"#DIV/0!"}},{"$f":"BB58/BB46","v":{"$error":"#DIV/0!"}},{"$f":"BC58/BB46","v":{"$error":"#DIV/0!"}},null,null,null,null,null,null,null,null,null,"err",{"$f":"IFERROR(ABS(BN55-BN56)/BN56,0)","v":0},{"$f":"IFERROR(ABS(BO55-BO56)/BO56,0)","v":0},0,0,null,null,{"$f":"SUM(BN57:BQ57,BT51:BT54)","v":0},null,"err",{"$f":"IFERROR(ABS(BW55-BW56)/BW56,0)","v":0},{"$f":"IFERROR(ABS(BX55-BX56)/BX56,0)","v":0},0,0,null,null,{"$f":"SUM(BW57:BZ57,CC51:CC54)","v":0},null,null,null,null,null,null,null,null,null,null,null,null,null,null,null,null,null,null,null,null,null,null,null,null,null,null,null,null,null,null,null,null,null,null,"%",{"$f":"DM58/DN46","v":{"$error":"#DIV/0!"}},{"$f":"DN58/DN46","v":{"$error":"#DIV/0!"}},{"$f":"DO58/DN46","v":{"$error":"#DIV/0!"}},null,null,null,null,null,null,null,null,null,"err",{"$f":"IFERROR(ABS(DZ55-DZ56)/DZ56,0)","v":0},{"$f":"IFERROR(ABS(EA55-EA56)/EA56,0)","v":0},0,0,null,null,{"$f":"SUM(DZ57:EC57,EF51:EF54)","v":0},null,"err",{"$f":"IFERROR(ABS(EI55-EI56)/EI56,0)","v":0},{"$f":"IFERROR(ABS(EJ55-EJ56)/EJ56,0)","v":0},0,0,null,null,{"$f":"SUM(EI57:EL57,EO51:EO54)","v":0}]
[null,null,null,null,null,null,null,null,null,null,null,null,null,null,null,null,null,null,null,null,null,null,null,null,null,null,null,null,null,null,null,null,null,null,null,null,null,null,null,null,null,null,null,null,null,null,null,null,null,null,null,"bal",{"$f":"BZ53","v":0},{"$f":"BW53","v":0},{"$f":"BY53","v":0},null,null,null,null,null,null,null,null,null,null,null,null,null,null,null,null,null,null,null,null,null,null,null,null,null,null,null,null,null,null,null,null,null,null,null,null,null,null,null,null,null,null,null,null,null,null,null,null,null,null,null,null,null,null,null,null,null,null,null,null,"bal",{"$f":"EL53","v":0},{"$f":"EI53","v":0},{"$f":"EK53","v":0}]
[null,null,null,null,null,null,null,null,null,null,null,null,null,null,null,null,null,null,null,null,null,null,null,null,null,null,null,null,null,null,null,null,null,null,null,null,null,null,null,null,null,null,null,null,null,null,null,null,null,null,null,null,8,"$","M",null,null,"raw","%",null,"bal","%","RNSE",null,null,"",null,null,null,null,null,null,null,null,null,null,null,null,null,null,null,null,null,null,null,null,null,null,null,null,null,null,null,null,null,null,null,null,null,null,null,null,null,null,null,null,null,null,null,null,null,null,null,null,null,null,8,"$","M",null,null,"raw","%",null,"bal","%","RNSE",null,null,""]
[null,null,null,null,null,null,null,null,null,null,null,null,null,null,null,null,null,null,null,null,null,null,null,null,null,null,null,null,null,null,null,null,null,null,null,null,null,null,null,null,null,null,null,null,null,null,null,null,null,null,null,"%",{"$f":"BA61/BC46","v":{"$error":"#DIV/0!"}},{"$f":"BB61/BC46","v":{"$error":"#DIV/0!"}},{"$f":"BC61/BC46","v":{"$error":"#DIV/0!"}},null,{"$f":"CHOOSE(1,\"<\",\"TURN\",8,BD63,BF60,BI60)","v":"<"},0,{"$f":"BF60/BO65","v":{"$error":"#DIV/0!"}},"<",{"$f":"BY52","v":0},{"$f":"BI60/BO64","v":{"$error":"#DIV/0!"}},{"$f":"RNSE(BI60,BF60)","v":"-"},null,null,null,null,null,null,null,null,null,null,null,null,null,null,null,null,null,null,null,null,null,null,null,null,null,null,null,null,null,null,null,null,null,null,null,null,null,null,null,null,null,null,null,null,null,null,null,null,null,null,null,null,"%",{"$f":"DM61/DO46","v":{"$error":"#DIV/0!"}},{"$f":"DN61/DO46","v":{"$error":"#DIV/0!"}},{"$f":"DO61/DO46","v":{"$error":"#DIV/0!"}},null,{"$f":"CHOOSE(1,\"<\",\"TURN\",8,DP63,DR60,DU60)","v":"<"},0,{"$f":"DR60/EA65","v":{"$error":"#DIV/0!"}},"<",{"$f":"EK52","v":0},{"$f":"DU60/EA64","v":{"$error":"#DIV/0!"}},{"$f":"RNSE(DU60,DR60)","v":"-"}]
[null,null,null,null,null,null,null,null,null,null,null,null,null,null,null,null,null,null,null,null,null,null,null,null,null,null,null,null,null,null,null,null,null,null,null,null,null,null,null,null,null,null,null,null,null,null,null,null,null,null,null,"raw",0,0,0,null,{"$f":"CHOOSE(1,\"!\",\"TURN\",7,BD63,BF61,BI61)","v":"!"},0,{"$f":"BF61/BO65","v":{"$error":"#DIV/0!"}},"!",{"$f":"BZ52","v":0},{"$f":"BI61/BO64","v":{"$error":"#DIV/0!"}},{"$f":"RNSE(BI61,BF61)","v":"-"},null,null,null,null,null,null,null,null,null,null,null,null,null,null,null,null,null,null,null,null,null,null,null,null,null,null,null,null,null,null,null,null,null,null,null,null,null,null,null,null,null,null,null,null,null,null,null,null,"imbal",null,null,null,"raw",0,0,0,null,{"$f":"CHOOSE(1,\"!\",\"TURN\",7,DP63,DR61,DU61)","v":"!"},0,{"$f":"DR61/EA65","v":{"$error":"#DIV/0!"}},"!",{"$f":"EL52","v":0},{"$f":"DU61/EA64","v":{"$error":"#DIV/0!"}},{"$f":"RNSE(DU61,DR61)","v":"-"}]
[null,null,null,null,null,null,null,null,null,null,null,null,null,null,null,null,null,null,null,null,null,null,null,null,null,null,null,null,null,null,null,null,null,null,null,null,null,null,null,null,null,null,null,null,null,null,null,null,null,null,null,null,{"$f":"CHOOSE(1,8,\"TURN\",12,BD63,BA61,BA58)","v":8},{"$f":"CHOOSE(1,\"$\",\"TURN\",11,BD63,BB61,BB58)","v":"$"},{"$f":"CHOOSE(1,\"M\",\"TURN\",9,BD63,BC61,BC58)","v":"M"},null,{"$f":"CHOOSE(1,\">\",\"TURN\",6,BD63,BF62,BI62)","v":">"},0,{"$f":"BF62/BO65","v":{"$error":"#DIV/0!"}},">",{"$f":"BW52","v":0},{"$f":"BI62/BO64","v":{"$error":"#DIV/0!"}},{"$f":"RNSE(BI62,BF62)","v":"-"},null,null,null,null,null,null,null,null,null,null,null,null,null,null,null,null,null,null,null,null,null,null,null,null,null,null,null,null,null,null,null,null,null,null,null,null,null,null,null,null,null,null,null,null,null,null,"target",{"$f":"IF(AND(DF86<>\"\",DA72<>\"\"),DF86+DA72,DJ62)","v":0},{"$f":"IF(AND(DA72<>\"\",DF86<>\"\"),DG62-DJ62,0)","v":0},"!",{"$f":"SUM(DU61,DM58)","v":0},null,null,{"$f":"CHOOSE(1,8,\"TURN\",12,DP63,DM61,DM58)","v":8},{"$f":"CHOOSE(1,\"$\",\"TURN\",11,DP63,DN61,DN58)","v":"$"},{"$f":"CHOOSE(1,\"M\",\"TURN\",9,DP63,DO61,DO58)","v":"M"},null,{"$f":"CHOOSE(1,\">\",\"TURN\",6,DP63,DR62,DU62)","v":">"},0,{"$f":"DR62/EA65","v":{"$error":"#DIV/0!"}},">",{"$f":"EI52","v":0},{"$f":"DU62/EA64","v":{"$error":"#DIV/0!"}},{"$f":"RNSE(DU62,DR62)","v":"-"}]
[null,null,null,null,null,null,null,null,null,null,null,null,null,null,null,null,null,null,null,null,null,null,null,null,null,null,null,null,null,null,null,null,null,null,null,null,null,null,null,null,null,null,"LINK_ID",null,"imbal","target",{"$f":"IF(AR64<>\"\",AR64,AU64)","v":0},null,null,null,null,null,null,null,null,1,null,null,null,null,null,null,null,null,null,"target",{"$f":"IF(BR64<>\"\",BR64,BO64)","v":0},"imbal",null,"LINK_ID",null,null,null,null,null,null,null,null,null,null,null,null,null,null,null,null,null,null,null,null,null,null,null,null,null,null,null,null,null,null,null,null,null,null,null,null,null,null,null,null,null,{"$f":"IF(AND(DA72<>\"\",DF86<>\"\"),DG62-DJ63,0)","v":0},"!",{"$f":"SUM(DR61,DM61)","v":0},null,null,null,null,null,1,null,null,null,null,null,null,null,null,null,"target",{"$f":"IF(ED64<>\"\",ED64,EA64)","v":0},"imbal",null,"LINK_ID"]
[null,null,null,null,null,null,null,null,null,null,null,null,null,null,null,null,null,null,null,null,null,null,null,null,null,null,null,null,null,null,null,null,null,null,null,null,null,null,null,null,null,null,{"$f":"CHOOSE(1,\"!\",\"LINK\",AQ63,AR64)","v":"!"},null,{"$f":"IF(AR64<>\"\",AR64-AU64,0)","v":0},"!",{"$f":"SUM(BF68,BA58,BI61)","v":0},null,null,null,null,null,null,null,null,null,{"$f":"CHOOSE(1,\"L\",\"TURN\",1,BD63,BE65,BE68)","v":"L"},{"$f":"CHOOSE(1,\":\",\"TURN\",2,BD63,BF65,BF68)","v":":"},{"$f":"CHOOSE(1,\"#\",\"TURN\",3,BD63,BG65,BG68)","v":"#"},null,null,null,null,null,null,"!",{"$f":"SUM(BI60:BI62)","v":0},{"$f":"IF(BR64<>\"\",BO64-BR64,0)","v":0},{"$f":"CHOOSE(1,\"!\",\"LINK\",BR63,BR64)","v":"!"},null,null,null,null,null,null,null,null,null,null,null,null,null,null,null,null,null,null,null,null,null,null,null,null,null,null,null,null,null,null,null,null,null,null,null,null,null,null,null,null,null,null,null,null,null,null,null,null,null,null,null,{"$f":"CHOOSE(1,\"L\",\"TURN\",1,DP63,DQ65,DQ68)","v":"L"},{"$f":"CHOOSE(1,\"#\",\"TURN\",3,DP63,DR65,DR68)","v":"#"},null,null,null,null,null,null,null,"!",{"$f":"SUM(DU60:DU62)","v":0},{"$f":"IF(ED64<>\"\",EA64-ED64,0)","v":0},{"$f":"CHOOSE(1,\"!\",\"LINK\",ED63,ED64)","v":"!"}]
[null,null,null,null,null,null,null,null,null,null,null,null,null,null,null,null,null,null,null,null,null,null,null,null,null,null,null,null,null,null,null,null,null,null,null,null,null,null,null,null,null,null,null,null,{"$f":"IF(AR64<>\"\",AR64-AU65,0)","v":0},"!",{"$f":"SUM(BF65,BA61,BF61)","v":0},null,null,null,null,null,null,null,null,null,0,0,0,"raw",null,null,null,null,null,"!",{"$f":"SUM(BF60:BF62)","v":0},{"$f":"IF(BR64<>\"\",BO65-BR64,0)","v":0},null,null,null,null,null,null,null,null,null,null,null,null,null,null,null,null,null,null,null,null,null,null,null,null,null,null,null,null,null,null,null,null,null,null,null,null,null,null,null,null,null,null,null,null,null,null,null,null,null,null,null,null,0,0,"raw",null,null,null,null,null,null,"!",{"$f":"SUM(DR60:DR62)","v":0},{"$f":"IF(ED64<>\"\",EA65-ED64,0)","v":0}]
[null,null,null,null,null,null,null,null,null,null,null,null,null,null,null,null,null,null,null,null,null,null,null,null,null,null,null,null,null,null,null,null,null,null,null,null,null,null,null,null,null,null,null,null,null,null,null,null,null,null,null,null,null,null,null,null,{"$f":"BE65/BE80","v":{"$error":"#DIV/0!"}},{"$f":"BF65/BE80","v":{"$error":"#DIV/0!"}},{"$f":"BG65/BE80","v":{"$error":"#DIV/0!"}},"%",null,null,null,null,null,null,null,null,null,null,null,null,null,null,null,null,null,null,null,null,null,null,null,null,null,null,null,null,null,null,null,null,null,null,null,null,null,null,null,null,null,null,null,null,null,null,null,null,null,null,null,null,null,null,null,null,null,null,null,null,{"$f":"DQ65/DQ80","v":{"$error":"#DIV/0!"}},{"$f":"DR65/DQ80","v":{"$error":"#DIV/0!"}},"%"]
[null,null,null,null,null,null,null,null,null,null,null,null,null,null,null,null,null,null,null,null,null,null,null,null,null,null,null,null,null,null,null,null,null,null,null,null,null,null,null,null,null,null,null,null,null,"",null,null,null,null,null,null,null,null,null,null,"L",":","#",null,null,null,null,null,null,null,null,null,null,null,null,null,null,null,null,null,null,null,null,null,null,null,null,null,null,null,null,null,null,null,null,null,null,null,null,null,null,null,null,null,null,null,null,null,null,null,null,null,null,"",null,null,null,null,null,null,null,null,null,null,"L","#"]
[null,null,null,null,null,null,null,null,null,null,null,null,null,null,null,null,null,null,null,null,null,null,null,null,null,null,null,null,null,null,null,null,null,null,null,null,null,null,null,null,null,null,null,null,null,null,null,null,null,null,null,null,null,null,null,null,{"$f":"BW51","v":0},{"$f":"BZ51","v":0},{"$f":"BY51","v":0},"bal",null,null,null,null,null,null,null,null,null,null,null,null,null,null,null,null,null,null,null,null,null,null,null,null,null,null,null,null,null,null,null,null,null,null,null,null,null,null,null,null,null,null,null,null,null,null,null,null,null,null,null,null,null,null,null,null,null,null,null,null,{"$f":"EI51","v":0},{"$f":"EK51","v":0},"bal"]
[null,null,null,null,null,null,null,null,null,null,null,null,null,null,null,null,null,null,null,null,null,null,null,null,null,null,null,null,null,null,null,null,null,null,null,null,null,null,null,null,null,null,null,null,null,null,null,null,null,null,null,null,null,null,null,null,{"$f":"BE68/BF80","v":{"$error":"#DIV/0!"}},{"$f":"BF68/BF80","v":{"$error":"#DIV/0!"}},{"$f":"BG68/BF80","v":{"$error":"#DIV/0!"}},"%",null,null,null,null,null,null,null,null,null,null,null,null,null,null,null,null,null,null,null,null,null,null,null,null,null,null,null,null,null,null,null,null,null,null,null,null,null,null,null,null,null,null,null,null,null,null,null,null,null,null,null,null,null,null,null,null,null,null,null,null,{"$f":"DQ68/DR80","v":{"$error":"#DIV/0!"}},{"$f":"DR68/DR80","v":{"$error":"#DIV/0!"}},"%"]
[null,null,null,null,null,null,null,null,null,null,null,null,null,null,null,null,null,null,null,null,null,null,null,null,null,null,null,null,null,null,null,null,null,null,null,null,null,null,null,null,null,null,null,null,null,null,null,null,null,null,null,null,null,null,null,null,{"$f":"RNSE(BE68,BE65)","v":"-"},"-","-","RNSE",null,null,null,null,null,null,null,null,null,null,null,null,null,null,null,null,null,null,null,null,null,null,null,null,null,null,null,null,null,null,null,null,null,null,null,null,null,null,null,null,null,null,null,null,null,null,null,null,null,null,null,null,null,null,null,null,null,null,null,null,{"$f":"RNSE(DQ68,DQ65)","v":"-"},{"$f":"RNSE(DR68,DR65)","v":"-"},"RNSE"]
[null,null,null,null,null,null,null,null,null,null,null,null,null,null,null,null,null,null,null,null,null,null,null,null,null,null,null,null,null,null,null,null,null,null,null,null,null,null,null,null,null,null,null,null,null,null,null,null,null,null,null,null,null,null,null,null,null,null,null,null,null,null,null,null,null,null,null,null,null,null,null,null,null,null,null,null,null,null,null,null,null,null,null,null,null,null,null,null,null,null,null,null,null,null,null,null,null,null,null,null,null,null,null,"LINK_ID"]
[null,null,null,null,null,null,null,null,null,null,null,null,null,null,null,null,null,null,null,null,null,null,null,null,null,null,null,null,null,null,null,null,null,null,null,null,null,null,null,null,null,null,null,null,null,null,null,null,null,null,null,null,null,null,null,null,null,null,null,null,null,null,null,null,null,null,null,null,null,null,null,null,null,null,null,null,null,null,null,null,null,null,null,null,null,null,null,null,null,null,null,null,null,null,null,null,null,null,null,null,null,null,null,{"$f":"CHOOSE(1,\"!\",\"LINK\",CZ71,DA72)","v":"!"}]
[null,null,null,null,null,null,null,null,null,null,null,null,null,null,null,null,null,null,null,null,null,null,null,null,null,null,null,null,null,null,null,null,null,null,null,null,null,null,null,null,null,null,null,null,null,null,null,null,null,null,null,null,null,null,null,null,null,null,null,"",null,null,null,null,null,null,null,null,null,null,null,null,null,null,null,null,null,null,null,null,null,null,null,null,null,null,null,null,null,null,null,null,null,null,null,null,null,null,null,null,null,null,null,null,null,null,null,null,null,null,null,null,null,null,null,null,null,null,null,null,null,null,null,"",null,null,null,null,"LINK_ID"]
[null,null,null,null,null,null,null,null,null,null,null,null,null,null,null,null,null,null,null,null,null,null,null,null,null,null,null,null,null,null,null,null,null,null,null,null,null,null,null,null,null,null,null,null,null,null,null,null,null,null,null,null,null,null,null,null,null,null,null,null,null,null,null,null,null,null,null,null,null,null,null,null,null,null,null,null,null,null,null,null,null,null,null,null,null,null,null,null,null,null,null,null,null,null,null,null,null,null,null,null,null,null,null,null,null,null,null,null,null,null,null,null,null,null,null,null,null,null,null,null,null,null,null,null,null,null,null,{"$f":"CHOOSE(1,\"!\",\"LINK\",DY73,DY74)","v":"!"}]
[]
[]
[]
[null,null,null,null,null,null,null,null,null,null,null,null,null,null,null,null,null,null,null,null,null,null,null,null,null,null,null,null,null,null,null,null,null,null,null,null,null,null,null,null,null,null,null,null,null,null,null,null,null,null,null,null,{"$f":"IF(BB81<>\"\",AVERAGE(BB78,BB81),BB78)","v":0},{"$f":"SUM(BE68,BI62,BB58,AY67)","v":0},{"$f":"SUM(BE65,BF62,BB61,BB67)","v":0},null,null,null,null,null,null,null,null,null,null,null,null,null,null,null,null,null,null,null,null,null,null,null,null,null,null,null,null,null,null,null,null,null,null,null,null,null,null,null,null,null,null,null,null,null,null,null,null,null,null,null,null,null,null,null,null,null,null,null,null,null,{"$f":"IF(DN81<>\"\",AVERAGE(DN78,DN81),DN78)","v":0},{"$f":"SUM(DQ68,DU62,DN58,DK67)","v":0},{"$f":"SUM(DQ65,DR62,DN61,DN67)","v":0}]
[null,null,null,null,null,null,null,null,null,null,null,null,null,null,null,null,null,null,null,null,null,null,null,null,null,null,null,null,null,null,null,null,null,null,null,null,null,null,null,null,null,null,null,null,null,null,null,null,null,null,null,null,"target","$","$",null,"#","#","target",null,null,null,null,null,null,null,null,null,null,null,null,null,null,null,null,null,null,null,null,null,null,null,null,null,null,null,null,null,null,null,null,null,null,null,null,null,null,null,null,null,null,null,null,null,null,null,null,null,null,null,null,null,null,null,null,null,"target","$","$",null,"#","#","target"]
[null,null,null,null,null,null,null,null,null,null,null,null,null,null,null,null,null,null,null,null,null,null,null,null,null,null,null,null,null,null,null,null,null,null,null,null,null,null,null,null,null,null,null,null,null,null,null,null,null,null,null,null,"imbal",{"$f":"IF(BB81<>\"\",BB81-BB78,0)","v":0},{"$f":"IF(BC81<>\"\",BC81-BC78,0)","v":0},null,{"$f":"SUM(BE65:BH65)","v":0},{"$f":"SUM(BE68:BH68)","v":0},{"$f":"IF(BF83<>\"\",AVERAGE(BF80,BF83),BF80)","v":0},null,null,null,null,null,null,null,null,null,null,null,null,null,null,null,null,null,null,null,null,null,null,null,null,null,null,null,null,null,null,null,null,null,null,null,null,null,null,null,null,null,null,null,null,null,null,null,null,null,null,null,null,null,null,null,null,null,"imbal",{"$f":"IF(DN81<>\"\",DN81-DN78,0)","v":0},{"$f":"IF(DO81<>\"\",DO81-DO78,0)","v":0},null,{"$f":"SUM(DQ65:DS65)","v":0},{"$f":"SUM(DQ68:DS68)","v":0},{"$f":"IF(DR83<>\"\",AVERAGE(DR80,DR83),DR80)","v":0}]
[null,null,null,null,null,null,null,null,null,null,null,null,null,null,null,null,null,null,null,null,null,null,null,null,null,null,null,null,null,null,null,null,null,null,null,null,null,null,null,null,null,null,null,null,null,null,null,null,null,null,null,null,{"$f":"IF(BB78<>\"\",AVERAGE(BB81,BB78),BB81)","v":0},{"$f":"SUM(AZ93:BC93)","v":0},{"$f":"SUM(AZ96:BC96)","v":0},null,{"$f":"IF(BE80<>\"\",BE80-BE83,0)","v":0},{"$f":"IF(BF80<>\"\",BF80-BF83,0)","v":0},"imbal",null,null,null,null,null,null,null,null,null,null,null,null,null,null,null,null,null,null,null,null,null,null,null,null,null,null,null,null,null,null,null,null,null,null,null,null,null,null,null,null,null,null,null,null,null,null,null,null,null,null,null,null,null,null,null,null,null,{"$f":"IF(DN78<>\"\",AVERAGE(DN81,DN78),DN81)","v":0},{"$f":"SUM(DM93:DO93)","v":0},{"$f":"SUM(DM96:DO96)","v":0},null,{"$f":"IF(DQ80<>\"\",DQ80-DQ83,0)","v":0},{"$f":"IF(DR80<>\"\",DR80-DR83,0)","v":0},"imbal"]
[null,null,null,null,null,null,null,null,null,null,null,null,null,null,null,null,null,null,null,null,null,null,null,null,null,null,null,null,null,null,null,null,null,null,null,null,null,null,null,null,null,null,null,null,null,null,null,null,null,null,null,null,"target","$","$",null,"#","#","target",null,null,null,null,null,null,null,null,null,null,null,null,null,null,null,null,null,null,null,null,null,null,null,null,null,null,null,null,null,null,null,null,null,null,null,null,null,null,null,null,null,null,null,null,null,null,null,null,null,null,null,null,null,null,null,null,null,"target","$","$",null,"#","#","target"]
[null,null,null,null,null,null,null,null,null,null,null,null,null,null,null,null,null,null,null,null,null,null,null,null,null,null,null,null,null,null,null,null,null,null,null,null,null,null,null,null,null,null,null,null,null,null,null,null,null,null,null,null,null,null,null,null,{"$f":"SUM(BC96,BB99,BF100,BF94)","v":0},{"$f":"SUM(BC93,AY99,BF103,BI94)","v":0},{"$f":"IF(BF80<>\"\",AVERAGE(BF83,BF80),BF83)","v":0},null,null,null,null,null,null,null,null,null,null,null,null,null,null,null,null,null,null,null,null,null,null,null,null,null,null,null,null,null,null,null,null,null,null,null,null,null,null,null,null,null,null,null,null,null,null,null,null,null,null,null,null,null,null,null,null,null,null,null,null,null,{"$f":"SUM(DO96,DN99,DR100,DR94)","v":0},{"$f":"SUM(DO93,DK99,DR103,DU94)","v":0},{"$f":"IF(DR80<>\"\",AVERAGE(DR83,DR80),DR83)","v":0}]
[]
[]
[null,null,null,null,null,null,null,null,null,null,null,null,null,null,null,null,null,null,null,null,null,null,null,null,null,null,null,null,null,null,null,null,null,null,null,null,null,null,null,null,null,null,null,null,null,null,null,null,null,null,null,null,null,null,null,null,null,null,null,null,null,null,null,null,null,null,null,null,null,null,null,null,null,null,null,null,null,null,null,null,null,null,null,null,null,null,null,null,null,null,null,null,null,null,null,null,null,null,null,null,null,null,null,null,null,null,null,null,null,null,{"$f":"CHOOSE(1,\"\"\"\",\"LINK\",DF87,DF86)","v":"\""}]
[null,null,null,null,null,null,null,null,null,null,null,null,null,null,null,null,null,null,null,null,null,null,null,null,null,null,null,null,null,null,null,null,null,null,null,null,null,null,null,null,null,null,null,null,null,null,null,null,null,null,null,null,null,null,null,null,null,null,null,null,null,null,null,null,null,null,null,null,null,null,null,null,null,null,null,null,null,null,null,null,null,null,null,null,null,null,null,null,null,null,null,null,null,null,null,null,null,null,null,null,null,null,null,null,null,null,null,null,null,"LINK_ID"]
[null,null,null,null,null,null,null,null,null,null,null,null,null,null,null,null,null,null,null,null,null,null,null,null,null,null,null,null,null,null,null,null,null,null,null,null,null,null,null,null,null,null,null,null,null,null,null,null,null,null,null,"",null,null,null,null,null,null,null,null,null,null,null,null,null,null,null,null,null,null,null,null,null,null,null,null,null,null,null,null,null,null,null,null,null,null,null,null,null,null,null,null,null,null,null,null,null,null,null,null,null,null,null,null,null,null,null,null,null,null,null,null,null,null,null,""]
[null,null,null,null,null,null,null,null,null,null,null,null,null,null,null,null,null,null,null,null,null,null,null,null,null,null,null,null,null,null,null,null,null,null,null,null,null,null,null,null,null,null,null,null,null,null,null,null,null,null,null,null,null,null,null,null,null,null,null,null,null,null,null,null,null,null,null,null,null,null,null,null,null,null,null,null,null,null,null,null,null,null,null,null,null,null,null,null,null,null,null,null,null,null,null,null,null,null,null,null,null,null,null,null,null,null,null,null,null,null,null,null,null,null,null,null,null,null,null,null,null,null,null,null,null,null,null,null,null,null,null,null,null,null,null,{"$f":"CHOOSE(1,\"\"\"\",\"LINK\",EF90,EE89)","v":"\""}]
[null,null,null,null,null,null,null,null,null,null,null,null,null,null,null,null,null,null,null,null,null,null,null,null,null,null,null,null,null,null,null,null,null,null,null,null,null,null,null,null,null,null,null,null,null,null,null,null,null,null,null,null,null,null,null,null,null,null,null,null,null,null,null,null,null,null,null,null,null,null,null,null,null,null,null,null,null,null,null,null,null,null,null,null,null,null,null,null,null,null,null,null,null,null,null,null,null,null,null,null,null,null,null,null,null,null,null,null,null,null,null,null,null,null,null,null,null,null,null,null,null,null,null,null,null,null,null,null,null,null,null,null,null,null,null,"LINK_ID"]
[null,null,null,null,null,null,null,null,null,null,null,null,null,null,null,null,null,null,null,null,null,null,null,null,null,null,null,null,null,null,null,null,null,null,null,null,null,null,null,null,null,null,null,null,null,null,null,null,null,null,null,"RNSE",{"$f":"RNSE(BA93,BA96)","v":"-"},"-","-",null,null,null,null,null,null,null,null,null,null,null,null,null,null,null,null,null,null,null,null,null,null,null,null,null,null,null,null,null,null,null,null,null,null,null,null,null,null,null,null,null,null,null,null,null,null,null,null,null,null,null,null,null,null,null,null,null,null,null,null,null,"RNSE",{"$f":"RNSE(DN93,DN96)","v":"-"},{"$f":"RNSE(DO93,DO96)","v":"-"}]
[null,null,null,null,null,null,null,null,null,null,null,null,null,null,null,null,null,null,null,null,null,null,null,null,null,null,null,null,null,null,null,null,null,null,null,null,null,null,null,null,null,null,null,null,null,null,null,null,null,null,null,"%",{"$f":"BA93/BB81","v":{"$error":"#DIV/0!"}},{"$f":"BB93/BB81","v":{"$error":"#DIV/0!"}},{"$f":"BC93/BB81","v":{"$error":"#DIV/0!"}},null,null,null,null,null,null,null,null,null,null,null,null,null,null,null,null,null,null,null,null,null,null,null,null,null,null,null,null,null,null,null,null,null,null,null,null,null,null,null,null,null,null,null,null,null,null,null,null,null,null,null,null,null,null,null,null,null,null,null,null,null,"%",{"$f":"DN93/DN81","v":{"$error":"#DIV/0!"}},{"$f":"DO93/DN81","v":{"$error":"#DIV/0!"}}]
[null,null,null,null,null,null,null,null,null,null,null,null,null,null,null,null,null,null,null,null,null,null,null,null,null,null,null,null,null,null,null,null,null,null,null,null,null,null,null,null,null,null,null,null,null,null,null,null,null,null,null,"bal",{"$f":"BW108","v":0},{"$f":"BX108","v":0},{"$f":"BY108","v":0},null,null,null,null,null,null,null,null,null,null,null,null,null,null,null,null,null,null,null,null,null,null,null,null,null,null,null,null,null,null,null,null,null,null,null,null,null,null,null,null,null,null,null,null,null,null,null,null,null,null,null,null,null,null,null,null,null,null,null,null,null,"bal",{"$f":"EI108","v":0},{"$f":"EK108","v":0}]
[null,null,null,null,null,null,null,null,null,null,null,null,null,null,null,null,null,null,null,null,null,null,null,null,null,null,null,null,null,null,null,null,null,null,null,null,null,null,null,null,null,null,null,null,null,null,null,null,null,null,null,null,"$",9,"M",null,null,null,null,null,null,null,null,null,null,"",null,null,null,null,null,null,null,null,null,null,null,null,null,null,null,null,null,null,null,null,null,null,null,null,null,null,null,null,null,null,null,null,null,null,null,null,null,null,null,null,null,null,null,null,null,null,null,null,null,null,null,"$","M",null,null,null,null,null,null,null,null,null,null,""]
[null,null,null,null,null,null,null,null,null,null,null,null,null,null,null,null,null,null,null,null,null,null,null,null,null,null,null,null,null,null,null,null,null,null,null,null,null,null,null,null,null,null,null,null,null,null,null,null,null,null,null,"%",{"$f":"BA96/BC81","v":{"$error":"#DIV/0!"}},{"$f":"BB96/BC81","v":{"$error":"#DIV/0!"}},{"$f":"BC96/BC81","v":{"$error":"#DIV/0!"}},null,null,null,null,null,null,null,null,null,null,null,null,null,null,null,null,null,null,null,null,null,null,null,null,null,null,null,null,null,null,null,null,null,null,null,null,null,null,null,null,null,null,null,null,null,null,null,null,null,null,null,null,null,null,null,null,null,null,null,null,null,"%",{"$f":"DN96/DO81","v":{"$error":"#DIV/0!"}},{"$f":"DO96/DO81","v":{"$error":"#DIV/0!"}}]
[null,null,null,null,null,null,null,null,null,null,null,null,null,null,null,null,null,null,null,null,null,null,null,null,null,null,null,null,null,null,null,null,null,null,null,null,null,null,null,null,null,null,null,null,null,null,null,null,null,null,null,"raw",0,0,0,null,null,null,null,null,null,null,null,null,null,null,null,null,null,null,null,null,null,null,null,null,null,null,null,null,null,null,null,null,null,null,null,null,null,null,null,null,null,null,null,null,null,null,null,null,null,null,null,null,null,null,null,null,null,null,null,null,null,null,null,null,"raw",0,0]
[null,null,null,null,null,null,null,null,null,null,null,null,null,null,null,null,null,null,null,null,null,null,null,null,null,null,null,null,null,null,null,null,null,null,null,null,null,null,null,null,null,null,null,null,null,null,null,null,null,null,null,null,{"$f":"CHOOSE(1,\"$\",\"TURN\",11,BD98,BA96,BA93)","v":"$"},{"$f":"CHOOSE(1,\"9\",\"TURN\",10,BD98,BB96,BB93)","v":"9"},{"$f":"CHOOSE(1,\"M\",\"TURN\",9,BD98,BC96,BC93)","v":"M"},null,null,null,null,null,null,null,null,{"$f":"SUM(BB100,BB96,BG100)","v":0},"\"",{"$f":"IF(BO98<>\"\",BO98-BL97,0)","v":0},null,null,null,null,null,null,null,null,null,null,null,null,null,null,null,null,null,null,null,null,null,null,null,null,null,null,null,null,null,null,null,null,null,null,null,null,null,null,null,null,null,null,null,null,null,null,null,null,null,null,null,{"$f":"CHOOSE(1,\"$\",\"TURN\",11,DP98,DN96,DN93)","v":"$"},{"$f":"CHOOSE(1,\"M\",\"TURN\",9,DP98,DO96,DO93)","v":"M"},null,null,null,null,null,null,null,null,{"$f":"SUM(DN100,,DS100)","v":0},"\"",{"$f":"IF(AND(EE89<>\"\",DY74<>\"\"),EA98-DX97,0)","v":0}]
[null,null,null,null,null,null,null,null,null,null,null,null,null,null,null,null,null,null,null,null,null,null,null,null,null,null,null,null,null,null,null,null,null,null,null,null,null,null,null,null,null,null,null,null,null,null,null,null,null,null,null,null,null,null,null,2,null,null,null,null,null,null,null,{"$f":"SUM(AY100,BB93,BG103)","v":0},"\"",{"$f":"IF(BO98<>\"\",BO98-BL98,0)","v":0},null,{"$f":"CHOOSE(1,\"\"\"\",\"LINK\",BP99,BO98)","v":"\""},null,null,null,null,null,null,null,null,null,null,null,null,null,null,null,null,null,null,null,null,null,null,null,null,null,null,null,null,null,null,null,null,null,null,null,null,null,null,null,null,null,null,null,null,null,null,null,null,null,null,null,2,null,null,null,null,null,null,null,{"$f":"SUM(DK100,DS103)","v":0},"\"",{"$f":"IF(AND(EE89<>\"\",DY74<>\"\"),EA98-DX98,0)","v":0},{"$f":"IF(AND(EE89<>\"\",DY74<>\"\"),EE89+DY74,DX98)","v":0},"target"]
[null,null,null,null,null,null,null,null,null,null,null,null,null,null,null,null,null,null,null,null,null,null,null,null,null,null,null,null,null,null,null,null,null,null,null,null,null,null,null,null,null,null,null,null,{"$f":"IF(AQ100<>\"\",AT99-AQ100,0)","v":0},{"$f":"SUM(BB99:BB101)","v":0},"\"",null,{"$f":"RNSE(AY99,BB99)","v":"-"},{"$f":"AY99/AT100","v":{"$error":"#DIV/0!"}},{"$f":"BY109","v":0},"=",{"$f":"BB99/AT99","v":{"$error":"#DIV/0!"}},0,{"$f":"CHOOSE(1,\"=\",\"TURN\",14,BD98,BB99,AY99)","v":"="},null,{"$f":"CHOOSE(1,\"L\",\"TURN\",1,BD98,BE100,BE103)","v":"L"},{"$f":"CHOOSE(1,\"#\",\"TURN\",3,BD98,BF100,BF103)","v":"#"},{"$f":"CHOOSE(1,\";\",\"TURN\",4,BD98,BG100,BG103)","v":";"},null,null,null,null,{"$f":"IF(BO98<>\"\",BO98,BL98)","v":0},"target","imbal",null,"LINK_ID",null,null,null,null,null,null,null,null,null,null,null,null,null,null,null,null,null,null,null,null,null,null,null,null,null,null,null,null,null,null,null,null,null,null,null,null,null,null,null,null,{"$f":"IF(DC100<>\"\",DF99-DC100,0)","v":0},{"$f":"SUM(DN99:DN101)","v":0},"\"",null,{"$f":"RNSE(DK99,DN99)","v":"-"},{"$f":"DK99/DF100","v":{"$error":"#DIV/0!"}},{"$f":"EK109","v":0},"=",{"$f":"DN99/DF99","v":{"$error":"#DIV/0!"}},0,{"$f":"CHOOSE(1,\"=\",\"TURN\",14,DP98,DN99,DK99)","v":"="},null,{"$f":"CHOOSE(1,\"L\",\"TURN\",1,DP98,DQ100,DQ103)","v":"L"},{"$f":"CHOOSE(1,\"#\",\"TURN\",3,DP98,DR100,DR103)","v":"#"},{"$f":"CHOOSE(1,\";\",\"TURN\",4,DP98,DS100,DS103)","v":";"},null,null,null,null,null,null,"imbal"]
[null,null,null,null,null,null,null,null,null,null,null,null,null,null,null,null,null,null,null,null,null,null,null,null,null,null,null,null,null,null,null,null,null,null,null,null,null,null,null,null,null,null,null,{"$f":"CHOOSE(1,\"\"\"\",\"LINK\",AQ101,AQ100)","v":"\""},{"$f":"IF(AQ100<>\"\",AT100-AQ100,0)","v":0},{"$f":"SUM(AY99:AY101)","v":0},"\"",null,{"$f":"RNSE(AY100,BB100)","v":"-"},{"$f":"AY100/AT100","v":{"$error":"#DIV/0!"}},{"$f":"BX109","v":0},"\"",{"$f":"BB100/AT99","v":{"$error":"#DIV/0!"}},0,{"$f":"CHOOSE(1,\"\"\"\",\"TURN\",15,BD98,BB100,AY100)","v":"\""},null,0,0,0,"raw",null,null,null,null,null,null,null,null,null,null,null,null,null,null,null,null,null,null,null,null,null,null,null,null,null,null,null,null,null,null,null,null,null,null,null,null,null,null,null,null,null,null,null,null,null,null,null,{"$f":"CHOOSE(1,\"\"\"\",\"LINK\",DC101,DC100)","v":"\""},{"$f":"IF(DC100<>\"\",DF100-DC100,0)","v":0},{"$f":"SUM(DK99:DK101)","v":0},"\"",null,{"$f":"RNSE(DK100,DN100)","v":"-"},{"$f":"DK100/DF100","v":{"$error":"#DIV/0!"}},{"$f":"EJ109","v":0},"\"",{"$f":"DN100/DF99","v":{"$error":"#DIV/0!"}},0,{"$f":"CHOOSE(1,\"\"\"\",\"TURN\",15,DP98,DN100,DK100)","v":"\""},null,0,0,0,"raw"]
[null,null,null,null,null,null,null,null,null,null,null,null,null,null,null,null,null,null,null,null,null,null,null,null,null,null,null,null,null,null,null,null,null,null,null,null,null,null,null,null,null,null,"LINK_ID",null,"imbal",{"$f":"IF(AQ100<>\"\",AQ100,AT100)","v":0},"target",null,{"$f":"RNSE(AY101,BB101)","v":"-"},{"$f":"AY101/AT100","v":{"$error":"#DIV/0!"}},{"$f":"BW109","v":0},"?",{"$f":"BB101/AT99","v":{"$error":"#DIV/0!"}},0,{"$f":"CHOOSE(1,\"?\",\"TURN\",16,BD98,BB101,AY101)","v":"?"},null,{"$f":"BE100/BE115","v":{"$error":"#DIV/0!"}},{"$f":"BF100/BE115","v":{"$error":"#DIV/0!"}},{"$f":"BG100/BE115","v":{"$error":"#DIV/0!"}},"%",null,null,null,null,null,null,null,null,null,null,null,null,null,null,null,null,null,null,null,null,null,null,null,null,null,null,null,null,null,null,null,null,null,null,null,null,null,null,null,null,null,null,null,null,null,null,"LINK_ID",null,"imbal",{"$f":"IF(DC100<>\"\",DC100,DF100)","v":0},"target",null,{"$f":"RNSE(DK101,DN101)","v":"-"},{"$f":"DK101/DF100","v":{"$error":"#DIV/0!"}},{"$f":"EI109","v":0},"?",{"$f":"DN101/DF99","v":{"$error":"#DIV/0!"}},0,{"$f":"CHOOSE(1,\"?\",\"TURN\",16,DP98,DN101,DK101)","v":"?"},null,{"$f":"DQ100/DQ115","v":{"$error":"#DIV/0!"}},{"$f":"DR100/DQ115","v":{"$error":"#DIV/0!"}},{"$f":"DS100/DQ115","v":{"$error":"#DIV/0!"}},"%"]
[null,null,null,null,null,null,null,null,null,null,null,null,null,null,null,null,null,null,null,null,null,null,null,null,null,null,null,null,null,null,null,null,null,null,null,null,null,null,null,null,null,null,null,null,null,"",null,null,"RNSE","%","bal",null,"%","raw",null,null,"L","#",";",null,null,null,null,null,null,null,null,null,null,null,null,null,null,null,null,null,null,null,null,null,null,null,null,null,null,null,null,null,null,null,null,null,null,null,null,null,null,null,null,null,null,null,null,null,null,null,null,null,null,"",null,null,"RNSE","%","bal",null,"%","raw",null,null,"L","#",";"]
[null,null,null,null,null,null,null,null,null,null,null,null,null,null,null,null,null,null,null,null,null,null,null,null,null,null,null,null,null,null,null,null,null,null,null,null,null,null,null,null,null,null,null,null,null,null,null,null,null,null,null,null,null,null,null,null,{"$f":"BW106","v":0},{"$f":"BY106","v":0},{"$f":"BX106","v":0},"bal",null,null,null,null,null,null,null,null,null,null,null,null,null,null,null,null,null,null,null,null,null,null,null,null,null,null,null,null,null,null,null,null,null,null,null,null,null,null,null,null,null,null,null,null,null,null,null,null,null,null,null,null,null,null,null,null,null,null,null,null,{"$f":"EI106","v":0},{"$f":"EK106","v":0},{"$f":"EJ106","v":0},"bal"]
[null,null,null,null,null,null,null,null,null,null,null,null,null,null,null,null,null,null,null,null,null,null,null,null,null,null,null,null,null,null,null,null,null,null,null,null,null,null,null,null,null,null,null,null,null,null,null,null,null,null,null,null,null,null,null,null,{"$f":"BE103/BF115","v":{"$error":"#DIV/0!"}},{"$f":"BF103/BF115","v":{"$error":"#DIV/0!"}},{"$f":"BG103/BF115","v":{"$error":"#DIV/0!"}},"%",null,null,null,"Local OD Raw",null,null,null,null,null,null,null,null,null,"Local OD Estimated",null,null,null,null,null,null,null,null,null,null,null,null,null,null,null,null,null,null,null,null,null,null,null,null,null,null,null,null,null,null,null,null,null,null,null,null,null,null,null,null,null,null,null,null,null,null,{"$f":"DQ103/DR115","v":{"$error":"#DIV/0!"}},{"$f":"DR103/DR115","v":{"$error":"#DIV/0!"}},{"$f":"DS103/DR115","v":{"$error":"#DIV/0!"}},"%",null,null,null,"Local OD Raw",null,null,null,null,null,null,null,null,null,"Local OD Estimated"]
[null,null,null,null,null,null,null,null,null,null,null,null,null,null,null,null,null,null,null,null,null,null,null,null,null,null,null,null,null,null,null,null,null,null,null,null,null,null,null,null,null,null,null,null,null,null,null,null,null,null,null,null,null,null,null,null,{"$f":"RNSE(BE103,BE100)","v":"-"},{"$f":"RNSE(BF103,BF100)","v":"-"},{"$f":"RNSE(BG103,BG100)","v":"-"},"RNSE",null,null,null,{"$f":"\"local_od_raw_\"&BD98","v":"local_od_raw_2"},1,2,3,4,"est","tgt","err",null,null,{"$f":"\"local_od_est_\"&BD98","v":"local_od_est_2"},1,2,3,4,"est","tgt","err",null,null,null,null,null,null,null,null,null,null,null,null,null,null,null,null,null,null,null,null,null,null,null,null,null,null,null,null,null,null,null,null,null,null,null,null,null,null,null,{"$f":"RNSE(DQ103,DQ100)","v":"-"},{"$f":"RNSE(DR103,DR100)","v":"-"},{"$f":"RNSE(DS103,DS100)","v":"-"},"RNSE",null,null,null,{"$f":"\"local_od_raw_\"&DP98","v":"local_od_raw_2"},1,2,3,4,"est","tgt","err",null,null,{"$f":"\"local_od_est_\"&DP98","v":"local_od_est_2"},1,2,3,4,"est","tgt","err"]
[null,null,null,null,null,null,null,null,null,null,null,null,null,null,null,null,null,null,null,null,null,null,null,null,null,null,null,null,null,null,null,null,null,null,null,null,null,null,null,null,null,null,null,null,null,null,null,null,null,null,null,null,null,null,null,null,null,null,null,null,null,null,null,1,{"$f":"BE100","v":0},{"$f":"BG100","v":0},{"$f":"BF100","v":0},0,{"$f":"SUM(BM106:BP106)","v":0},{"$f":"BG115","v":0},{"$f":"IFERROR(ABS(BQ106-BR106)/BR106,0)","v":0},null,null,1,{"$f":"BM106","v":0},0,0,0,{"$f":"SUM(BW106:BZ106)","v":0},{"$f":"BR106","v":0},{"$f":"IFERROR(ABS(CA106-CB106)/CB106,0)","v":0},null,null,null,null,null,null,null,null,null,null,null,null,null,null,null,null,null,null,null,null,null,null,null,null,null,null,null,null,null,null,null,null,null,null,null,null,null,null,null,null,null,null,null,null,null,null,1,{"$f":"DQ100","v":0},{"$f":"DS100","v":0},{"$f":"DR100","v":0},0,{"$f":"SUM(DY106:EB106)","v":0},{"$f":"DS115","v":0},{"$f":"IFERROR(ABS(EC106-ED106)/ED106,0)","v":0},null,null,1,{"$f":"DY106","v":0},0,0,0,{"$f":"SUM(EI106:EL106)","v":0},{"$f":"ED106","v":0},{"$f":"IFERROR(ABS(EM106-EN106)/EN106,0)","v":0}]
[null,null,null,null,null,null,null,null,null,null,null,null,null,null,null,null,null,null,null,null,null,null,null,null,null,null,null,null,null,null,null,null,null,null,null,null,null,null,null,null,null,null,null,null,null,null,null,null,null,null,null,null,null,null,null,null,null,null,null,null,null,null,null,2,0,0,0,0,{"$f":"SUM(BM107:BP107)","v":0},0,{"$f":"IFERROR(ABS(BQ107-BR107)/BR107,0)","v":0},null,null,2,0,0,0,0,{"$f":"SUM(BW107:BZ107)","v":0},{"$f":"BR107","v":0},{"$f":"IFERROR(ABS(CA107-CB107)/CB107,0)","v":0},null,null,null,null,null,null,null,null,null,null,null,null,null,null,null,null,null,null,null,null,null,null,null,null,null,null,null,null,null,null,null,null,null,null,null,null,null,null,null,null,null,null,null,null,null,null,2,0,0,0,0,{"$f":"SUM(DY107:EB107)","v":0},0,{"$f":"IFERROR(ABS(EC107-ED107)/ED107,0)","v":0},null,null,2,0,0,0,0,{"$f":"SUM(EI107:EL107)","v":0},{"$f":"ED107","v":0},{"$f":"IFERROR(ABS(EM107-EN107)/EN107,0)","v":0}]
[null,null,null,null,null,null,null,null,null,null,null,null,null,null,null,null,null,null,null,null,null,null,null,null,null,null,null,null,null,null,null,null,null,null,null,null,null,null,null,null,null,null,null,null,null,null,null,null,null,null,null,null,null,null,null,null,"Default St",null,null,"",null,null,null,3,{"$f":"BA96","v":0},{"$f":"BB96","v":0},{"$f":"BC96","v":0},0,{"$f":"SUM(BM108:BP108)","v":0},{"$f":"BA81","v":0},0,null,null,3,0,0,0,0,0,{"$f":"BR108","v":0},0,null,null,null,null,null,null,null,null,null,null,null,null,null,null,null,null,null,null,null,null,null,null,null,null,null,null,null,null,null,null,null,null,null,null,null,null,null,null,null,"Default St",null,null,"",null,null,null,3,{"$f":"DN96","v":0},0,{"$f":"DO96","v":0},0,{"$f":"SUM(DY108:EB108)","v":0},{"$f":"DM81","v":0},0,null,null,3,0,0,0,0,0,{"$f":"ED108","v":0},0]
[null,null,null,null,null,null,null,null,null,null,null,null,null,null,null,null,null,null,null,null,null,null,null,null,null,null,null,null,null,null,null,null,null,null,null,null,null,null,null,null,null,{"$f":"CHOOSE(1,BD98&\":\",\"IX_NAME\",AQ109)","v":"2:"},"Default St & EB I-888 Ramps",null,null,null,null,null,null,null,null,null,null,null,null,null,null,null,null,null,null,null,null,4,{"$f":"BB101","v":0},{"$f":"BB100","v":0},{"$f":"BB99","v":0},0,{"$f":"SUM(BM109:BP109)","v":0},{"$f":"AT101","v":0},0,null,null,4,0,0,0,0,0,{"$f":"BR109","v":0},0,null,null,null,null,null,null,null,null,null,null,null,null,null,null,null,null,null,null,null,null,null,null,null,null,{"$f":"CHOOSE(1,DP98&\":\",\"IX_NAME\",DC109)","v":"2:"},"Default St & EB I-888 Ramps",null,null,null,null,null,null,null,null,null,null,null,null,null,null,null,null,null,null,null,null,4,{"$f":"DN101","v":0},{"$f":"DN100","v":0},{"$f":"DN99","v":0},0,{"$f":"SUM(DY109:EB109)","v":0},{"$f":"DF101","v":0},0,null,null,4,0,0,0,0,0,{"$f":"ED109","v":0},0]
[null,null,null,null,null,null,null,null,null,null,null,null,null,null,null,null,null,null,null,null,null,null,null,null,null,null,null,null,null,null,null,null,null,null,null,null,null,null,null,null,null,null,"Raw Count Date:",null,null,null,null,null,null,null,null,null,null,null,null,null,null,null,null,null,null,null,null,"est",{"$f":"SUM(BM106:BM109)","v":0},{"$f":"SUM(BN106:BN109)","v":0},{"$f":"SUM(BO106:BO109)","v":0},{"$f":"SUM(BP106:BP109)","v":0},null,null,null,null,null,"est",{"$f":"SUM(BW106:BW109)","v":0},{"$f":"SUM(BX106:BX109)","v":0},0,0,null,null,null,null,null,null,null,null,null,null,null,null,null,null,null,null,null,null,null,null,null,null,null,null,null,null,null,null,"Raw Count Date:",null,null,null,null,null,null,null,null,null,null,null,null,null,null,null,null,null,null,null,null,"est",{"$f":"SUM(DY106:DY109)","v":0},{"$f":"SUM(DZ106:DZ109)","v":0},{"$f":"SUM(EA106:EA109)","v":0},{"$f":"SUM(EB106:EB109)","v":0},null,null,null,null,null,"est",{"$f":"SUM(EI106:EI109)","v":0},{"$f":"SUM(EJ106:EJ109)","v":0},0,0]
[null,null,null,null,null,null,null,null,null,null,null,null,null,null,null,null,null,null,null,null,null,null,null,null,null,null,null,null,null,null,null,null,null,null,null,null,null,null,null,null,null,null,null,null,null,null,null,null,null,null,null,null,null,null,null,null,null,null,null,null,null,null,null,"tgt",{"$f":"BA113","v":0},{"$f":"BL99","v":0},{"$f":"BG83","v":0},0,null,null,null,null,null,"tgt",{"$f":"BM111","v":0},{"$f":"BN111","v":0},{"$f":"BO111","v":0},{"$f":"BP111","v":0},null,null,null,null,null,null,null,null,null,null,null,null,null,null,null,null,null,null,null,null,null,null,null,null,null,null,null,null,null,null,null,null,null,null,null,null,null,null,null,null,null,null,null,null,null,null,null,null,null,"tgt",{"$f":"DM113","v":0},{"$f":"EA98","v":0},{"$f":"DS83","v":0},0,null,null,null,null,null,"tgt",{"$f":"DY111","v":0},{"$f":"DZ111","v":0},{"$f":"EA111","v":0},{"$f":"EB111","v":0}]
[null,null,null,null,null,null,null,null,null,null,null,null,null,null,null,null,null,null,null,null,null,null,null,null,null,null,null,null,null,null,null,null,null,null,null,null,null,null,null,null,null,null,null,null,null,null,null,null,null,null,null,null,null,null,null,null,null,null,null,null,null,null,null,"err",{"$f":"IFERROR(ABS(BM110-BM111)/BM111,0)","v":0},{"$f":"IFERROR(ABS(BN110-BN111)/BN111,0)","v":0},0,0,null,null,{"$f":"SUM(BM112:BP112,BS106:BS109)","v":0},null,null,"err",{"$f":"IFERROR(ABS(BW110-BW111)/BW111,0)","v":0},{"$f":"IFERROR(ABS(BX110-BX111)/BX111,0)","v":0},0,0,null,null,{"$f":"SUM(BW112:BZ112,CC106:CC109)","v":0},null,null,null,null,null,null,null,null,null,null,null,null,null,null,null,null,null,null,null,null,null,null,null,null,null,null,null,null,null,null,null,null,null,null,null,null,null,null,null,null,null,null,null,null,null,null,"err",{"$f":"IFERROR(ABS(DY110-DY111)/DY111,0)","v":0},{"$f":"IFERROR(ABS(DZ110-DZ111)/DZ111,0)","v":0},0,0,null,null,{"$f":"SUM(DY112:EB112,EE106:EE109)","v":0},null,null,"err",{"$f":"IFERROR(ABS(EI110-EI111)/EI111,0)","v":0},{"$f":"IFERROR(ABS(EJ110-EJ111)/EJ111,0)","v":0},0,0,null,null,{"$f":"SUM(EI112:EL112,EO106:EO109)","v":0}]
[null,null,null,null,null,null,null,null,null,null,null,null,null,null,null,null,null,null,null,null,null,null,null,null,null,null,null,null,null,null,null,null,null,null,null,null,null,null,null,null,null,null,null,null,null,null,null,null,null,null,null,null,{"$f":"IF(BB116<>\"\",AVERAGE(BB113,BB116),BB113)","v":0},{"$f":"SUM(BE103,BA93,AY101)","v":0},{"$f":"SUM(BE100,BA96,BB101)","v":0},null,null,null,null,null,null,null,null,null,null,null,null,null,null,null,null,null,null,null,null,null,null,null,null,null,null,null,null,null,null,null,null,null,null,null,null,null,null,null,null,null,null,null,null,null,null,null,null,null,null,null,null,null,null,null,null,null,null,null,null,null,{"$f":"IF(DN116<>\"\",AVERAGE(DN113,DN116),DN113)","v":0},{"$f":"SUM(DQ103,DN93,DK101)","v":0},{"$f":"SUM(DQ100,DN96,DN101)","v":0}]
[null,null,null,null,null,null,null,null,null,null,null,null,null,null,null,null,null,null,null,null,null,null,null,null,null,null,null,null,null,null,null,null,null,null,null,null,null,null,null,null,null,null,null,null,null,null,null,null,null,null,null,null,"target","$","$",null,"#","#","target",null,null,null,null,null,null,null,null,null,null,null,null,null,null,null,null,null,null,null,null,null,null,null,null,null,null,null,null,null,null,null,null,null,null,null,null,null,null,null,null,null,null,null,null,null,null,null,null,null,null,null,null,null,null,null,null,null,"target","$","$",null,"#","#","target"]
[null,null,null,null,null,null,null,null,null,null,null,null,null,null,null,null,null,null,null,null,null,null,null,null,null,null,null,null,null,null,null,null,null,null,null,null,null,null,null,null,null,null,null,null,null,null,null,null,null,null,null,null,"imbal",{"$f":"IF(BB116<>\"\",BB116-BB113,0)","v":0},{"$f":"IF(BC116<>\"\",BC116-BC113,0)","v":0},null,{"$f":"SUM(BE100:BG100)","v":0},{"$f":"SUM(BE103:BG103)","v":0},{"$f":"IF(BF118<>\"\",AVERAGE(BF115,BF118),BF115)","v":0},null,null,null,null,null,null,null,null,null,null,null,null,null,null,null,null,null,null,null,null,null,null,null,null,null,null,null,null,null,null,null,null,null,null,null,null,null,null,null,null,null,null,null,null,null,null,null,null,null,null,null,null,null,null,null,null,null,"imbal",{"$f":"IF(DN116<>\"\",DN116-DN113,0)","v":0},{"$f":"IF(DO116<>\"\",DO116-DO113,0)","v":0},null,{"$f":"SUM(DQ100:DS100)","v":0},{"$f":"SUM(DQ103:DS103)","v":0},{"$f":"IF(DR118<>\"\",AVERAGE(DR115,DR118),DR115)","v":0}]
[]
[]
[]
[]
[]
[]
[]
[null,null,null,null,null,null,null,null,null,null,null,null,null,null,null,null,null,null,null,null,null,null,null,null,null,null,null,null,null,null,null,null,null,null,null,null,null,null,null,null,null,null,null,null,null,null,null,null,null,null,null,null,{"$f":"IF(BB120<>\"\",AVERAGE(BB123,BB120),BB123)","v":0},{"$f":"SUM(BB135:BC135)","v":0},{"$f":"SUM(BB138:BC138)","v":0},null,{"$f":"IF(BE122<>\"\",BE122-BE125,0)","v":0},{"$f":"IF(BF122<>\"\",BF122-BF125,0)","v":0},"imbal"]
[null,null,null,null,null,null,null,null,null,null,null,null,null,null,null,null,null,null,null,null,null,null,null,null,null,null,null,null,null,null,null,null,null,null,null,null,null,null,null,null,null,null,null,null,null,null,null,null,null,null,null,null,"target","$","$",null,"#","#","target"]
[null,null,null,null,null,null,null,null,null,null,null,null,null,null,null,null,null,null,null,null,null,null,null,null,null,null,null,null,null,null,null,null,null,null,null,null,null,null,null,null,null,null,null,null,null,null,null,null,null,null,null,null,null,null,null,null,{"$f":"SUM(BC138,BF142,BF138)","v":0},{"$f":"SUM(BC135,BF145,BI138)","v":0},{"$f":"IF(BF122<>\"\",AVERAGE(BF125,BF122),BF125)","v":0}]
[null,null,null,null,null,null,null,null,null,null,null,null,null,null,null,null,null,null,null,null,null,null,null,null,null,null,null,null,null,null,null,null,null,null,null,null,null,null,null,null,null,{"$f":"CHOOSE(1,BD140&\":\",\"IX_NAME\",AQ126)","v":"1:"},"Default St & WB I-888 Off-Ramp",null,null,null,null,null,null,null,null,null,null,null,null,null,null,null,null,null,null,null,null,null,"Local OD Raw",null,null,null,null,null,null,null,null,"Local OD Estimated"]
[null,null,null,null,null,null,null,null,null,null,null,null,null,null,null,null,null,null,null,null,null,null,null,null,null,null,null,null,null,null,null,null,null,null,null,null,null,null,null,null,null,null,"Raw Count Date:",null,null,null,null,null,null,null,null,null,null,null,null,null,null,null,null,null,null,null,null,null,{"$f":"\"local_od_raw_\"&BD140","v":"local_od_raw_1"},1,2,3,"est","tgt","err",null,null,{"$f":"\"local_od_est_\"&BD140","v":"local_od_est_1"},1,2,3,"est","tgt","err"]
[null,null,null,null,null,null,null,null,null,null,null,null,null,null,null,null,null,null,null,null,null,null,null,null,null,null,null,null,null,null,null,null,null,null,null,null,null,null,null,null,null,null,null,null,null,null,null,null,null,null,null,null,null,null,null,null,null,null,null,null,null,null,null,null,1,{"$f":"BE142","v":0},0,{"$f":"BF142","v":0},{"$f":"SUM(BN128:BP128)","v":0},{"$f":"BG157","v":0},{"$f":"IFERROR(ABS(BQ128-BR128)/BR128,0)","v":0},null,null,1,{"$f":"BN128","v":0},0,0,{"$f":"SUM(BW128:BY128)","v":0},{"$f":"BR128","v":0},{"$f":"IFERROR(ABS(BZ128-CA128)/CA128,0)","v":0}]
[null,null,null,null,null,null,null,null,null,null,null,null,null,null,null,null,null,null,null,null,null,null,null,null,null,null,null,null,null,null,null,null,null,null,null,null,null,null,null,null,null,null,null,null,null,null,null,null,null,null,null,null,null,null,"Default St",null,null,null,null,null,null,null,null,null,2,{"$f":"BF139","v":0},0,{"$f":"BF138","v":0},{"$f":"SUM(BN129:BP129)","v":0},{"$f":"BO140","v":0},{"$f":"IFERROR(ABS(BQ129-BR129)/BR129,0)","v":0},null,null,2,0,0,0,{"$f":"SUM(BW129:BY129)","v":0},{"$f":"BR129","v":0},{"$f":"IFERROR(ABS(BZ129-CA129)/CA129,0)","v":0}]
[null,null,null,null,null,null,null,null,null,null,null,null,null,null,null,null,null,null,null,null,null,null,null,null,null,null,null,null,null,null,null,null,null,null,null,null,null,null,null,null,null,null,null,null,null,null,null,null,null,null,null,"",null,null,null,null,null,null,null,null,null,null,null,null,3,{"$f":"BB138","v":0},0,{"$f":"BC138","v":0},{"$f":"SUM(BN130:BP130)","v":0},{"$f":"BA123","v":0},0,null,null,3,0,0,0,{"$f":"SUM(BW130:BY130)","v":0},{"$f":"BR130","v":0},0]
[null,null,null,null,null,null,null,null,null,null,null,null,null,null,null,null,null,null,null,null,null,null,null,null,null,null,null,null,null,null,null,null,null,null,null,null,null,null,null,null,null,null,null,null,null,null,null,null,null,null,null,null,null,null,null,null,null,null,null,null,null,null,null,null,"est",{"$f":"SUM(BN128:BN130)","v":0},{"$f":"SUM(BO128:BO130)","v":0},{"$f":"SUM(BP128:BP130)","v":0},null,null,null,null,null,"est",{"$f":"SUM(BW128:BW130)","v":0},{"$f":"SUM(BX128:BX130)","v":0},{"$f":"SUM(BY128:BY130)","v":0}]
[null,null,null,null,null,null,null,null,null,null,null,null,null,null,null,null,null,null,null,null,null,null,null,null,null,null,null,null,null,null,null,null,null,null,null,null,null,null,null,null,null,null,null,null,null,null,null,null,null,null,null,null,null,null,null,null,null,null,null,null,null,null,null,null,"tgt",{"$f":"BA155","v":0},0,{"$f":"BG125","v":0},null,null,null,null,null,"tgt",{"$f":"BN132","v":0},{"$f":"BO132","v":0},{"$f":"BP132","v":0}]
[null,null,null,null,null,null,null,null,null,null,null,null,null,null,null,null,null,null,null,null,null,null,null,null,null,null,null,null,null,null,null,null,null,null,null,null,null,null,null,null,null,null,null,null,null,null,null,null,null,null,null,null,"RNSE",{"$f":"RNSE(BB135,BB138)","v":"-"},{"$f":"RNSE(BC135,BC138)","v":"-"},null,null,null,null,null,null,null,null,null,"err",{"$f":"IFERROR(ABS(BN131-BN132)/BN132,0)","v":0},{"$f":"IFERROR(ABS(BO131-BO132)/BO132,0)","v":0},0,null,null,{"$f":"SUM(BN133:BP133,BS128:BS130)","v":0},null,null,"err",{"$f":"IFERROR(ABS(BW131-BW132)/BW132,0)","v":0},{"$f":"IFERROR(ABS(BX131-BX132)/BX132,0)","v":0},0,null,null,{"$f":"SUM(BW133:BY133,CB128:CB130)","v":0}]
[null,null,null,null,null,null,null,null,null,null,null,null,null,null,null,null,null,null,null,null,null,null,null,null,null,null,null,null,null,null,null,null,null,null,null,null,null,null,null,null,null,null,null,null,null,null,null,null,null,null,null,null,"%",{"$f":"BB135/BB123","v":{"$error":"#DIV/0!"}},{"$f":"BC135/BB123","v":{"$error":"#DIV/0!"}}]
[null,null,null,null,null,null,null,null,null,null,null,null,null,null,null,null,null,null,null,null,null,null,null,null,null,null,null,null,null,null,null,null,null,null,null,null,null,null,null,null,null,null,null,null,null,null,null,null,null,null,null,null,"bal",{"$f":"BW130","v":0},{"$f":"BY130","v":0}]
[null,null,null,null,null,null,null,null,null,null,null,null,null,null,null,null,null,null,null,null,null,null,null,null,null,null,null,null,null,null,null,null,null,null,null,null,null,null,null,null,null,null,null,null,null,null,null,null,null,null,null,null,null,"$","M",null,null,null,null,null,null,null,null,null,null,""]
[null,null,null,null,null,null,null,null,null,null,null,null,null,null,null,null,null,null,null,null,null,null,null,null,null,null,null,null,null,null,null,null,null,null,null,null,null,null,null,null,null,null,null,null,null,null,null,null,null,null,null,null,"%",{"$f":"BB138/BC123","v":{"$error":"#DIV/0!"}},{"$f":"BC138/BC123","v":{"$error":"#DIV/0!"}},null,null,"raw","%",null,"bal","%","RNSE"]
[null,null,null,null,null,null,null,null,null,null,null,null,null,null,null,null,null,null,null,null,null,null,null,null,null,null,null,null,null,null,null,null,null,null,null,null,null,null,null,null,null,null,null,null,null,null,null,null,null,null,null,null,"raw",0,0,null,{"$f":"CHOOSE(1,\"<\",\"TURN\",8,BD140,BF138,BI138)","v":"<"},0,{"$f":"BF138/BO142","v":{"$error":"#DIV/0!"}},"<",{"$f":"BY129","v":0},{"$f":"BI138/BO141","v":{"$error":"#DIV/0!"}},{"$f":"RNSE(BI138,BF138)","v":"-"}]
[null,null,null,null,null,null,null,null,null,null,null,null,null,null,null,null,null,null,null,null,null,null,null,null,null,null,null,null,null,null,null,null,null,null,null,null,null,null,null,null,null,null,null,null,null,null,null,null,null,null,null,null,null,{"$f":"CHOOSE(1,\"$\",\"TURN\",11,BD140,BB138,BB135)","v":"$"},{"$f":"CHOOSE(1,\"M\",\"TURN\",9,BD140,BC138,BC135)","v":"M"},null,{"$f":"CHOOSE(1,\">\",\"TURN\",6,BD140,BF139,BI139)","v":">"},0,{"$f":"BF139/BO142","v":{"$error":"#DIV/0!"}},">",{"$f":"BW129","v":0},{"$f":"BI139/BO141","v":{"$error":"#DIV/0!"}},{"$f":"RNSE(BI139,BF139)","v":"-"}]
[null,null,null,null,null,null,null,null,null,null,null,null,null,null,null,null,null,null,null,null,null,null,null,null,null,null,null,null,null,null,null,null,null,null,null,null,null,null,null,null,null,null,null,null,null,null,null,null,null,null,null,null,null,null,null,1,null,null,null,null,null,null,null,null,null,"target",{"$f":"IF(BR141<>\"\",BR141,BO141)","v":0},"imbal",null,"LINK_ID"]
[null,null,null,null,null,null,null,null,null,null,null,null,null,null,null,null,null,null,null,null,null,null,null,null,null,null,null,null,null,null,null,null,null,null,null,null,null,null,null,null,null,null,null,null,null,null,null,null,null,null,null,null,null,null,null,null,{"$f":"CHOOSE(1,\"L\",\"TURN\",1,BD140,BE142,BE145)","v":"L"},{"$f":"CHOOSE(1,\"#\",\"TURN\",3,BD140,BF142,BF145)","v":"#"},null,null,null,null,null,null,null,"!",{"$f":"SUM(BI138:BI139)","v":0},{"$f":"IF(BR141<>\"\",BO141-BR141,0)","v":0},{"$f":"CHOOSE(1,\"!\",\"LINK\",BR140,BR141)","v":"!"}]
[null,null,null,null,null,null,null,null,null,null,null,null,null,null,null,null,null,null,null,null,null,null,null,null,null,null,null,null,null,null,null,null,null,null,null,null,null,null,null,null,null,null,null,null,null,null,null,null,null,null,null,null,null,null,null,null,0,0,"raw",null,null,null,null,null,null,"!",{"$f":"SUM(BF138:BF139)","v":0},{"$f":"IF(BR141<>\"\",BO142-BR141,0)","v":0}]
[null,null,null,null,null,null,null,null,null,null,null,null,null,null,null,null,null,null,null,null,null,null,null,null,null,null,null,null,null,null,null,null,null,null,null,null,null,null,null,null,null,null,null,null,null,null,null,null,null,null,null,null,null,null,null,null,{"$f":"BE142/BE157","v":{"$error":"#DIV/0!"}},{"$f":"BF142/BE157","v":{"$error":"#DIV/0!"}},"%"]
[null,null,null,null,null,null,null,null,null,null,null,null,null,null,null,null,null,null,null,null,null,null,null,null,null,null,null,null,null,null,null,null,null,null,null,null,null,null,null,null,null,null,null,null,null,"",null,null,null,null,null,null,null,null,null,null,"L","#"]
[null,null,null,null,null,null,null,null,null,null,null,null,null,null,null,null,null,null,null,null,null,null,null,null,null,null,null,null,null,null,null,null,null,null,null,null,null,null,null,null,null,null,null,null,null,null,null,null,null,null,null,null,null,null,null,null,{"$f":"BW128","v":0},{"$f":"BY128","v":0},"bal"]
[null,null,null,null,null,null,null,null,null,null,null,null,null,null,null,null,null,null,null,null,null,null,null,null,null,null,null,null,null,null,null,null,null,null,null,null,null,null,null,null,null,null,null,null,null,null,null,null,null,null,null,null,null,null,null,null,{"$f":"BE145/BF157","v":{"$error":"#DIV/0!"}},{"$f":"BF145/BF157","v":{"$error":"#DIV/0!"}},"%"]
[null,null,null,null,null,null,null,null,null,null,null,null,null,null,null,null,null,null,null,null,null,null,null,null,null,null,null,null,null,null,null,null,null,null,null,null,null,null,null,null,null,null,null,null,null,null,null,null,null,null,null,null,null,null,null,null,{"$f":"RNSE(BE145,BE142)","v":"-"},{"$f":"RNSE(BF145,BF142)","v":"-"},"RNSE"]
[]
[]
[null,null,null,null,null,null,null,null,null,null,null,null,null,null,null,null,null,null,null,null,null,null,null,null,null,null,null,null,null,null,null,null,null,null,null,null,null,null,null,null,null,null,null,null,null,null,null,null,null,null,null,null,null,null,null,null,null,null,null,""]
[]
[]
[]
[]
[null,null,null,null,null,null,null,null,null,null,null,null,null,null,null,null,null,null,null,null,null,null,null,null,null,null,null,null,null,null,null,null,null,null,null,null,null,null,null,null,null,null,null,null,null,null,null,null,null,null,null,null,{"$f":"IF(BB158<>\"\",AVERAGE(BB155,BB158),BB155)","v":0},{"$f":"SUM(BE145,BI139,BB135)","v":0},{"$f":"SUM(BE142,BF139,BB138)","v":0}]
[null,null,null,null,null,null,null,null,null,null,null,null,null,null,null,null,null,null,null,null,null,null,null,null,null,null,null,null,null,null,null,null,null,null,null,null,null,null,null,null,null,null,null,null,null,null,null,null,null,null,null,null,"target","$","$",null,"#","#","target"]
[null,null,null,null,null,null,null,null,null,null,null,null,null,null,null,null,null,null,null,null,null,null,null,null,null,null,null,null,null,null,null,null,null,null,null,null,null,null,null,null,null,null,null,null,null,null,null,null,null,null,null,null,"imbal",{"$f":"IF(BB158<>\"\",BB158-BB155,0)","v":0},{"$f":"IF(BC158<>\"\",BC158-BC155,0)","v":0},null,{"$f":"SUM(BE142:BF142)","v":0},{"$f":"SUM(BE145:BF145)","v":0},{"$f":"IF(BF160<>\"\",AVERAGE(BF157,BF160),BF157)","v":0}]
[null,null,null,null,null,null,null,null,null,null,null,null,null,null,null,null,null,null,null,null,null,null,null,null,null,null,null,null,null,null,null,null,null,null,null,null,null,null,null,null,null,null,null,null,null,null,null,null,null,null,null,null,{"$f":"IF(BB155<>\"\",AVERAGE(BB158,BB155),BB158)","v":0},{"$f":"SUM(BA170:BC170)","v":0},{"$f":"SUM(BA173:BC173)","v":0},null,{"$f":"IF(BE157<>\"\",BE157-BE160,0)","v":0},{"$f":"IF(BF157<>\"\",BF157-BF160,0)","v":0},"imbal"]
[null,null,null,null,null,null,null,null,null,null,null,null,null,null,null,null,null,null,null,null,null,null,null,null,null,null,null,null,null,null,null,null,null,null,null,null,null,null,null,null,null,null,null,null,null,null,null,null,null,null,null,null,"target","$","$",null,"#","#","target"]
[null,null,null,null,null,null,null,null,null,null,null,null,null,null,null,null,null,null,null,null,null,null,null,null,null,null,null,null,null,null,null,null,null,null,null,null,null,null,null,null,null,null,null,null,null,null,null,null,null,null,null,null,null,null,null,null,{"$f":"SUM(BC173,BF177)","v":0},{"$f":"SUM(BC170,BF180)","v":0},{"$f":"IF(BF157<>\"\",AVERAGE(BF160,BF157),BF160)","v":0}]
[]
[]
[]
[]
[null,null,null,null,null,null,null,null,null,null,null,null,null,null,null,null,null,null,null,null,null,null,null,null,null,null,null,null,null,null,null,null,null,null,null,null,null,null,null,null,null,null,null,null,null,null,null,null,null,null,null,""]
[]
[]
[null,null,null,null,null,null,null,null,null,null,null,null,null,null,null,null,null,null,null,null,null,null,null,null,null,null,null,null,null,null,null,null,null,null,null,null,null,null,null,null,null,null,null,null,null,null,null,null,null,null,null,"RNSE",{"$f":"RNSE(BA170,BA173)","v":"-"},"-","-"]
[null,null,null,null,null,null,null,null,null,null,null,null,null,null,null,null,null,null,null,null,null,null,null,null,null,null,null,null,null,null,null,null,null,null,null,null,null,null,null,null,null,null,null,null,null,null,null,null,null,null,null,"%",{"$f":"BA170/BB158","v":{"$error":"#DIV/0!"}},{"$f":"BB170/BB158","v":{"$error":"#DIV/0!"}},{"$f":"BC170/BB158","v":{"$error":"#DIV/0!"}}]
[null,null,null,null,null,null,null,null,null,null,null,null,null,null,null,null,null,null,null,null,null,null,null,null,null,null,null,null,null,null,null,null,null,null,null,null,null,null,null,null,null,null,null,null,null,null,null,null,null,null,null,"bal",{"$f":"BW185","v":0},{"$f":"BX185","v":0},{"$f":"BY185","v":0}]
[null,null,null,null,null,null,null,null,null,null,null,null,null,null,null,null,null,null,null,null,null,null,null,null,null,null,null,null,null,null,null,null,null,null,null,null,null,null,null,null,null,null,null,null,null,null,null,null,null,null,null,null,"$",9,"M",null,null,null,null,null,null,null,null,null,null,""]
[null,null,null,null,null,null,null,null,null,null,null,null,null,null,null,null,null,null,null,null,null,null,null,null,null,null,null,null,null,null,null,null,null,null,null,null,null,null,null,null,null,null,null,null,null,null,null,null,null,null,null,"%",{"$f":"BA173/BC158","v":{"$error":"#DIV/0!"}},{"$f":"BB173/BC158","v":{"$error":"#DIV/0!"}},{"$f":"BC173/BC158","v":{"$error":"#DIV/0!"}}]
[null,null,null,null,null,null,null,null,null,null,null,null,null,null,null,null,null,null,null,null,null,null,null,null,null,null,null,null,null,null,null,null,null,null,null,null,null,null,null,null,null,null,null,null,null,null,null,null,null,null,null,"raw",0,0,0]
[null,null,null,null,null,null,null,null,null,null,null,null,null,null,null,null,null,null,null,null,null,null,null,null,null,null,null,null,null,null,null,null,null,null,null,null,null,null,null,null,null,null,null,null,null,null,null,null,null,null,null,null,{"$f":"CHOOSE(1,\"$\",\"TURN\",11,BD175,BA173,BA170)","v":"$"},{"$f":"CHOOSE(1,\"9\",\"TURN\",10,BD175,BB173,BB170)","v":"9"},{"$f":"CHOOSE(1,\"M\",\"TURN\",9,BD175,BC173,BC170)","v":"M"},null,null,null,null,null,null,null,null,{"$f":"SUM(BB173,BG177)","v":0},"\"",{"$f":"IF(BO175<>\"\",BO175-BL174,0)","v":0}]
[null,null,null,null,null,null,null,null,null,null,null,null,null,null,null,null,null,null,null,null,null,null,null,null,null,null,null,null,null,null,null,null,null,null,null,null,null,null,null,null,null,{"$f":"CHOOSE(1,BD175&\":\",\"IX_NAME\",AQ175)","v":"2:"},"Default St & EB I-888 On-Ramp",null,null,null,null,null,null,null,null,null,null,null,null,2,null,null,null,null,null,null,null,{"$f":"SUM(BB170,BG180)","v":0},"\"",{"$f":"IF(BO175<>\"\",BO175-BL175,0)","v":0},null,{"$f":"CHOOSE(1,\"\"\"\",\"LINK\",BP176,BO175)","v":"\""}]
[null,null,null,null,null,null,null,null,null,null,null,null,null,null,null,null,null,null,null,null,null,null,null,null,null,null,null,null,null,null,null,null,null,null,null,null,null,null,null,null,null,null,"Raw Count Date:",null,null,null,null,null,null,null,null,null,null,null,null,null,{"$f":"CHOOSE(1,\"L\",\"TURN\",1,BD175,BE177,BE180)","v":"L"},{"$f":"CHOOSE(1,\"#\",\"TURN\",3,BD175,BF177,BF180)","v":"#"},{"$f":"CHOOSE(1,\";\",\"TURN\",4,BD175,BG177,BG180)","v":";"},null,null,null,null,{"$f":"IF(BO175<>\"\",BO175,BL175)","v":0},"target","imbal",null,"LINK_ID"]
[null,null,null,null,null,null,null,null,null,null,null,null,null,null,null,null,null,null,null,null,null,null,null,null,null,null,null,null,null,null,null,null,null,null,null,null,null,null,null,null,null,null,null,null,null,null,null,null,null,null,null,null,null,null,null,null,0,0,0,"raw"]
[null,null,null,null,null,null,null,null,null,null,null,null,null,null,null,null,null,null,null,null,null,null,null,null,null,null,null,null,null,null,null,null,null,null,null,null,null,null,null,null,null,null,null,null,null,null,null,null,null,null,null,null,null,null,null,null,{"$f":"BE177/BE192","v":{"$error":"#DIV/0!"}},{"$f":"BF177/BE192","v":{"$error":"#DIV/0!"}},{"$f":"BG177/BE192","v":{"$error":"#DIV/0!"}},"%"]
[null,null,null,null,null,null,null,null,null,null,null,null,null,null,null,null,null,null,null,null,null,null,null,null,null,null,null,null,null,null,null,null,null,null,null,null,null,null,null,null,null,null,null,null,null,null,null,null,null,null,null,null,null,null,null,null,"L","#",";"]
[null,null,null,null,null,null,null,null,null,null,null,null,null,null,null,null,null,null,null,null,null,null,null,null,null,null,null,null,null,null,null,null,null,null,null,null,null,null,null,null,null,null,null,null,null,null,null,null,null,null,null,null,null,null,null,null,{"$f":"BW183","v":0},{"$f":"BY183","v":0},{"$f":"BX183","v":0},"bal"]
[null,null,null,null,null,null,null,null,null,null,null,null,null,null,null,null,null,null,null,null,null,null,null,null,null,null,null,null,null,null,null,null,null,null,null,null,null,null,null,null,null,null,null,null,null,null,null,null,null,null,null,null,null,null,null,null,{"$f":"BE180/BF192","v":{"$error":"#DIV/0!"}},{"$f":"BF180/BF192","v":{"$error":"#DIV/0!"}},{"$f":"BG180/BF192","v":{"$error":"#DIV/0!"}},"%",null,null,null,"Local OD Raw",null,null,null,null,null,null,null,null,null,"Local OD Estimated"]
[null,null,null,null,null,null,null,null,null,null,null,null,null,null,null,null,null,null,null,null,null,null,null,null,null,null,null,null,null,null,null,null,null,null,null,null,null,null,null,null,null,null,null,null,null,null,null,null,null,null,null,null,null,null,null,null,{"$f":"RNSE(BE180,BE177)","v":"-"},{"$f":"RNSE(BF180,BF177)","v":"-"},{"$f":"RNSE(BG180,BG177)","v":"-"},"RNSE",null,null,null,{"$f":"\"local_od_raw_\"&BD175","v":"local_od_raw_2"},1,2,3,"est","tgt","err",null,null,null,{"$f":"\"local_od_est_\"&BD175","v":"local_od_est_2"},1,2,3,"est","tgt","err"]
[null,null,null,null,null,null,null,null,null,null,null,null,null,null,null,null,null,null,null,null,null,null,null,null,null,null,null,null,null,null,null,null,null,null,null,null,null,null,null,null,null,null,null,null,null,null,null,null,null,null,null,null,null,null,null,null,null,null,null,null,null,null,null,1,{"$f":"BE177","v":0},{"$f":"BG177","v":0},{"$f":"BF177","v":0},{"$f":"SUM(BM183:BO183)","v":0},{"$f":"BG192","v":0},{"$f":"IFERROR(ABS(BP183-BQ183)/BQ183,0)","v":0},null,null,null,1,{"$f":"BM183","v":0},0,0,{"$f":"SUM(BW183:BY183)","v":0},{"$f":"BQ183","v":0},{"$f":"IFERROR(ABS(BZ183-CA183)/CA183,0)","v":0}]
[null,null,null,null,null,null,null,null,null,null,null,null,null,null,null,null,null,null,null,null,null,null,null,null,null,null,null,null,null,null,null,null,null,null,null,null,null,null,null,null,null,null,null,null,null,null,null,null,null,null,null,null,null,null,null,null,null,null,null,null,null,null,null,2,0,0,0,{"$f":"SUM(BM184:BO184)","v":0},0,{"$f":"IFERROR(ABS(BP184-BQ184)/BQ184,0)","v":0},null,null,null,2,0,0,0,{"$f":"SUM(BW184:BY184)","v":0},{"$f":"BQ184","v":0},{"$f":"IFERROR(ABS(BZ184-CA184)/CA184,0)","v":0}]
[null,null,null,null,null,null,null,null,null,null,null,null,null,null,null,null,null,null,null,null,null,null,null,null,null,null,null,null,null,null,null,null,null,null,null,null,null,null,null,null,null,null,null,null,null,null,null,null,null,null,null,null,null,null,null,null,"Default St",null,null,"",null,null,null,3,{"$f":"BA173","v":0},{"$f":"BB173","v":0},{"$f":"BC173","v":0},{"$f":"SUM(BM185:BO185)","v":0},{"$f":"BA158","v":0},0,null,null,null,3,0,0,0,{"$f":"SUM(BW185:BY185)","v":0},{"$f":"BQ185","v":0},0]
[null,null,null,null,null,null,null,null,null,null,null,null,null,null,null,null,null,null,null,null,null,null,null,null,null,null,null,null,null,null,null,null,null,null,null,null,null,null,null,null,null,null,null,null,null,null,null,null,null,null,null,null,null,null,null,null,null,null,null,null,null,null,null,"est",{"$f":"SUM(BM183:BM185)","v":0},{"$f":"SUM(BN183:BN185)","v":0},{"$f":"SUM(BO183:BO185)","v":0},null,null,null,null,null,null,"est",{"$f":"SUM(BW183:BW185)","v":0},{"$f":"SUM(BX183:BX185)","v":0},{"$f":"SUM(BY183:BY185)","v":0}]
[null,null,null,null,null,null,null,null,null,null,null,null,null,null,null,null,null,null,null,null,null,null,null,null,null,null,null,null,null,null,null,null,null,null,null,null,null,null,null,null,null,null,null,null,null,null,null,null,null,null,null,null,null,null,null,null,null,null,null,null,null,null,null,"tgt",{"$f":"BA190","v":0},{"$f":"BL176","v":0},{"$f":"BG160","v":0},null,null,null,null,null,null,"tgt",{"$f":"BM187","v":0},{"$f":"BN187","v":0},{"$f":"BO187","v":0}]
[null,null,null,null,null,null,null,null,null,null,null,null,null,null,null,null,null,null,null,null,null,null,null,null,null,null,null,null,null,null,null,null,null,null,null,null,null,null,null,null,null,null,null,null,null,null,null,null,null,null,null,null,null,null,null,null,null,null,null,null,null,null,null,"err",{"$f":"IFERROR(ABS(BM186-BM187)/BM187,0)","v":0},{"$f":"IFERROR(ABS(BN186-BN187)/BN187,0)","v":0},0,null,null,{"$f":"SUM(BM188:BO188,BR183:BR185)","v":0},null,null,null,"err",{"$f":"IFERROR(ABS(BW186-BW187)/BW187,0)","v":0},{"$f":"IFERROR(ABS(BX186-BX187)/BX187,0)","v":0},0,null,null,{"$f":"SUM(BW188:BY188,CB183:CB185)","v":0}]
[]
[null,null,null,null,null,null,null,null,null,null,null,null,null,null,null,null,null,null,null,null,null,null,null,null,null,null,null,null,null,null,null,null,null,null,null,null,null,null,null,null,null,null,null,null,null,null,null,null,null,null,null,null,{"$f":"IF(BB193<>\"\",AVERAGE(BB190,BB193),BB190)","v":0},{"$f":"SUM(BE180,BA170)","v":0},{"$f":"SUM(BE177,BA173)","v":0}]
[null,null,null,null,null,null,null,null,null,null,null,null,null,null,null,null,null,null,null,null,null,null,null,null,null,null,null,null,null,null,null,null,null,null,null,null,null,null,null,null,null,null,null,null,null,null,null,null,null,null,null,null,"target","$","$",null,"#","#","target"]
[null,null,null,null,null,null,null,null,null,null,null,null,null,null,null,null,null,null,null,null,null,null,null,null,null,null,null,null,null,null,null,null,null,null,null,null,null,null,null,null,null,null,null,null,null,null,null,null,null,null,null,null,"imbal",{"$f":"IF(BB193<>\"\",BB193-BB190,0)","v":0},{"$f":"IF(BC193<>\"\",BC193-BC190,0)","v":0},null,{"$f":"SUM(BE177:BG177)","v":0},{"$f":"SUM(BE180:BG180)","v":0},{"$f":"IF(BF195<>\"\",AVERAGE(BF192,BF195),BF192)","v":0}]
[]
[]
[]
[]
[]
[]
[]
[null,null,null,null,null,null,null,null,null,null,null,null,null,null,null,null,null,null,null,null,null,null,null,null,null,null,null,null,null,null,null,null,null,null,null,null,null,null,null,null,null,null,null,null,null,null,null,null,null,null,null,null,{"$f":"IF(BB197<>\"\",AVERAGE(BB200,BB197),BB200)","v":0},{"$f":"SUM(BA212:BC212)","v":0},{"$f":"SUM(BA215:BC215)","v":0},null,{"$f":"IF(BE199<>\"\",BE199-BE202,0)","v":0},{"$f":"IF(BF199<>\"\",BF199-BF202,0)","v":0},"imbal"]
[null,null,null,null,null,null,null,null,null,null,null,null,null,null,null,null,null,null,null,null,null,null,null,null,null,null,null,null,null,null,null,null,null,null,null,null,null,null,null,null,null,null,null,null,null,null,null,null,null,null,null,null,"target","$","$",null,"#","#","target"]
[null,null,null,null,null,null,null,null,null,null,null,null,null,null,null,null,null,null,null,null,null,null,null,null,null,null,null,null,null,null,null,null,null,null,null,null,null,null,null,null,null,null,null,null,null,null,null,null,null,null,null,null,null,null,null,null,{"$f":"SUM(BC215,BG219)","v":0},{"$f":"SUM(BC212,BG222)","v":0},{"$f":"IF(BF199<>\"\",AVERAGE(BF202,BF199),BF202)","v":0}]
[null,null,null,null,null,null,null,null,null,null,null,null,null,null,null,null,null,null,null,null,null,null,null,null,null,null,null,null,null,null,null,null,null,null,null,null,null,null,null,null,null,{"$f":"CHOOSE(1,BD217&\":\",\"IX_NAME\",AQ203)","v":"1:"},"Default St & WB I-888 On-Ramp",null,null,null,null,null,null,null,null,null,null,null,null,null,null,null,null,null,null,null,null,null,"Local OD Raw",null,null,null,null,null,null,null,null,"Local OD Estimated"]
[null,null,null,null,null,null,null,null,null,null,null,null,null,null,null,null,null,null,null,null,null,null,null,null,null,null,null,null,null,null,null,null,null,null,null,null,null,null,null,null,null,null,"Raw Count Date:",null,null,null,null,null,null,null,null,null,null,null,null,null,null,null,null,null,null,null,null,null,{"$f":"\"local_od_raw_\"&BD217","v":"local_od_raw_1"},1,3,4,"est","tgt","err",null,null,{"$f":"\"local_od_est_\"&BD217","v":"local_od_est_1"},1,3,4,"est","tgt","err"]
[null,null,null,null,null,null,null,null,null,null,null,null,null,null,null,null,null,null,null,null,null,null,null,null,null,null,null,null,null,null,null,null,null,null,null,null,null,null,null,null,null,null,null,null,null,null,null,null,null,null,null,null,null,null,null,null,null,null,null,null,null,null,null,null,1,{"$f":"BE219","v":0},{"$f":"BG219","v":0},{"$f":"BF219","v":0},{"$f":"SUM(BN205:BP205)","v":0},{"$f":"BG234","v":0},{"$f":"IFERROR(ABS(BQ205-BR205)/BR205,0)","v":0},null,null,1,{"$f":"BN205","v":0},0,0,{"$f":"SUM(BW205:BY205)","v":0},{"$f":"BR205","v":0},{"$f":"IFERROR(ABS(BZ205-CA205)/CA205,0)","v":0}]
[null,null,null,null,null,null,null,null,null,null,null,null,null,null,null,null,null,null,null,null,null,null,null,null,null,null,null,null,null,null,null,null,null,null,null,null,null,null,null,null,null,null,null,null,null,null,null,null,null,null,null,null,null,null,"Default St",null,null,null,null,null,null,null,null,null,3,{"$f":"BB215","v":0},{"$f":"BC215","v":0},{"$f":"BA215","v":0},{"$f":"SUM(BN206:BP206)","v":0},{"$f":"BA200","v":0},{"$f":"IFERROR(ABS(BQ206-BR206)/BR206,0)","v":0},null,null,3,0,0,0,{"$f":"SUM(BW206:BY206)","v":0},{"$f":"BR206","v":0},{"$f":"IFERROR(ABS(BZ206-CA206)/CA206,0)","v":0}]
[null,null,null,null,null,null,null,null,null,null,null,null,null,null,null,null,null,null,null,null,null,null,null,null,null,null,null,null,null,null,null,null,null,null,null,null,null,null,null,null,null,null,null,null,null,null,null,null,null,null,null,"",null,null,null,null,null,null,null,null,null,null,null,null,4,0,0,0,{"$f":"SUM(BN207:BP207)","v":0},0,{"$f":"IFERROR(ABS(BQ207-BR207)/BR207,0)","v":0},null,null,4,0,0,0,{"$f":"SUM(BW207:BY207)","v":0},{"$f":"BR207","v":0},{"$f":"IFERROR(ABS(BZ207-CA207)/CA207,0)","v":0}]
[null,null,null,null,null,null,null,null,null,null,null,null,null,null,null,null,null,null,null,null,null,null,null,null,null,null,null,null,null,null,null,null,null,null,null,null,null,null,null,null,null,null,null,null,null,null,null,null,null,null,null,null,null,null,null,null,null,null,null,null,null,null,null,null,"est",{"$f":"SUM(BN205:BN207)","v":0},{"$f":"SUM(BO205:BO207)","v":0},{"$f":"SUM(BP205:BP207)","v":0},null,null,null,null,null,"est",{"$f":"SUM(BW205:BW207)","v":0},{"$f":"SUM(BX205:BX207)","v":0},{"$f":"SUM(BY205:BY207)","v":0}]
[null,null,null,null,null,null,null,null,null,null,null,null,null,null,null,null,null,null,null,null,null,null,null,null,null,null,null,null,null,null,null,null,null,null,null,null,null,null,null,null,null,null,null,null,null,null,null,null,null,null,null,null,null,null,null,null,null,null,null,null,null,null,null,null,"tgt",{"$f":"BA232","v":0},{"$f":"BG202","v":0},{"$f":"AU217","v":0},null,null,null,null,null,"tgt",{"$f":"BN209","v":0},{"$f":"BO209","v":0},{"$f":"BP209","v":0}]
[null,null,null,null,null,null,null,null,null,null,null,null,null,null,null,null,null,null,null,null,null,null,null,null,null,null,null,null,null,null,null,null,null,null,null,null,null,null,null,null,null,null,null,null,null,null,null,null,null,null,null,"RNSE",{"$f":"RNSE(BA212,BA215)","v":"-"},{"$f":"RNSE(BB212,BB215)","v":"-"},{"$f":"RNSE(BC212,BC215)","v":"-"},null,null,null,null,null,null,null,null,null,"err",{"$f":"IFERROR(ABS(BN208-BN209)/BN209,0)","v":0},{"$f":"IFERROR(ABS(BO208-BO209)/BO209,0)","v":0},{"$f":"IFERROR(ABS(BP208-BP209)/BP209,0)","v":0},null,null,{"$f":"SUM(BN210:BP210,BS205:BS207)","v":0},null,null,"err",{"$f":"IFERROR(ABS(BW208-BW209)/BW209,0)","v":0},{"$f":"IFERROR(ABS(BX208-BX209)/BX209,0)","v":0},{"$f":"IFERROR(ABS(BY208-BY209)/BY209,0)","v":0},null,null,{"$f":"SUM(BW210:BY210,CB205:CB207)","v":0}]
[null,null,null,null,null,null,null,null,null,null,null,null,null,null,null,null,null,null,null,null,null,null,null,null,null,null,null,null,null,null,null,null,null,null,null,null,null,null,null,null,null,null,null,null,null,null,null,null,null,null,null,"%",{"$f":"BA212/BB200","v":{"$error":"#DIV/0!"}},{"$f":"BB212/BB200","v":{"$error":"#DIV/0!"}},{"$f":"BC212/BB200","v":{"$error":"#DIV/0!"}}]
[null,null,null,null,null,null,null,null,null,null,null,null,null,null,null,null,null,null,null,null,null,null,null,null,null,null,null,null,null,null,null,null,null,null,null,null,null,null,null,null,null,null,null,null,null,null,null,null,null,null,null,"bal",{"$f":"BY206","v":0},{"$f":"BW206","v":0},{"$f":"BX206","v":0}]
[null,null,null,null,null,null,null,null,null,null,null,null,null,null,null,null,null,null,null,null,null,null,null,null,null,null,null,null,null,null,null,null,null,null,null,null,null,null,null,null,null,null,null,null,null,null,null,null,null,null,null,null,8,"$","M",null,null,null,null,null,null,null,null,null,null,""]
[null,null,null,null,null,null,null,null,null,null,null,null,null,null,null,null,null,null,null,null,null,null,null,null,null,null,null,null,null,null,null,null,null,null,null,null,null,null,null,null,null,null,null,null,null,null,null,null,null,null,null,"%",{"$f":"BA215/BC200","v":{"$error":"#DIV/0!"}},{"$f":"BB215/BC200","v":{"$error":"#DIV/0!"}},{"$f":"BC215/BC200","v":{"$error":"#DIV/0!"}}]
[null,null,null,null,null,null,null,null,null,null,null,null,null,null,null,null,null,null,null,null,null,null,null,null,null,null,null,null,null,null,null,null,null,null,null,null,null,null,null,null,null,null,null,null,null,null,null,null,null,null,null,"raw",0,0,0]
[null,null,null,null,null,null,null,null,null,null,null,null,null,null,null,null,null,null,null,null,null,null,null,null,null,null,null,null,null,null,null,null,null,null,null,null,null,null,null,null,null,null,null,null,null,null,null,null,null,null,null,null,{"$f":"CHOOSE(1,8,\"TURN\",12,BD217,BA215,BA212)","v":8},{"$f":"CHOOSE(1,\"$\",\"TURN\",11,BD217,BB215,BB212)","v":"$"},{"$f":"CHOOSE(1,\"M\",\"TURN\",9,BD217,BC215,BC212)","v":"M"}]
[null,null,null,null,null,null,null,null,null,null,null,null,null,null,null,null,null,null,null,null,null,null,null,null,null,null,null,null,null,null,null,null,null,null,null,null,null,null,null,null,null,null,"LINK_ID",null,"imbal","target",{"$f":"IF(AR218<>\"\",AR218,AU218)","v":0},null,null,null,null,null,null,null,null,1]
[null,null,null,null,null,null,null,null,null,null,null,null,null,null,null,null,null,null,null,null,null,null,null,null,null,null,null,null,null,null,null,null,null,null,null,null,null,null,null,null,null,null,{"$f":"CHOOSE(1,\"!\",\"LINK\",AQ217,AR218)","v":"!"},null,{"$f":"IF(AR218<>\"\",AR218-AU218,0)","v":0},"!",{"$f":"SUM(BF222,BA212,BI215)","v":0},null,null,null,null,null,null,null,null,null,{"$f":"CHOOSE(1,\"L\",\"TURN\",1,BD217,BE219,BE222)","v":"L"},{"$f":"CHOOSE(1,\":\",\"TURN\",2,BD217,BF219,BF222)","v":":"},{"$f":"CHOOSE(1,\"#\",\"TURN\",3,BD217,BG219,BG222)","v":"#"}]
[null,null,null,null,null,null,null,null,null,null,null,null,null,null,null,null,null,null,null,null,null,null,null,null,null,null,null,null,null,null,null,null,null,null,null,null,null,null,null,null,null,null,null,null,{"$f":"IF(AR218<>\"\",AR218-AU219,0)","v":0},"!",{"$f":"SUM(BF219,BA215,BF215)","v":0},null,null,null,null,null,null,null,null,null,0,0,0,"raw"]
[null,null,null,null,null,null,null,null,null,null,null,null,null,null,null,null,null,null,null,null,null,null,null,null,null,null,null,null,null,null,null,null,null,null,null,null,null,null,null,null,null,null,null,null,null,null,null,null,null,null,null,null,null,null,null,null,{"$f":"BE219/BE234","v":{"$error":"#DIV/0!"}},{"$f":"BF219/BE234","v":{"$error":"#DIV/0!"}},{"$f":"BG219/BE234","v":{"$error":"#DIV/0!"}},"%"]
[null,null,null,null,null,null,null,null,null,null,null,null,null,null,null,null,null,null,null,null,null,null,null,null,null,null,null,null,null,null,null,null,null,null,null,null,null,null,null,null,null,null,null,null,null,"",null,null,null,null,null,null,null,null,null,null,"L",":","#"]
[null,null,null,null,null,null,null,null,null,null,null,null,null,null,null,null,null,null,null,null,null,null,null,null,null,null,null,null,null,null,null,null,null,null,null,null,null,null,null,null,null,null,null,null,null,null,null,null,null,null,null,null,null,null,null,null,{"$f":"BW205","v":0},{"$f":"BY205","v":0},{"$f":"BX205","v":0},"bal"]
[null,null,null,null,null,null,null,null,null,null,null,null,null,null,null,null,null,null,null,null,null,null,null,null,null,null,null,null,null,null,null,null,null,null,null,null,null,null,null,null,null,null,null,null,null,null,null,null,null,null,null,null,null,null,null,null,{"$f":"BE222/BF234","v":{"$error":"#DIV/0!"}},{"$f":"BF222/BF234","v":{"$error":"#DIV/0!"}},{"$f":"BG222/BF234","v":{"$error":"#DIV/0!"}},"%"]
[null,null,null,null,null,null,null,null,null,null,null,null,null,null,null,null,null,null,null,null,null,null,null,null,null,null,null,null,null,null,null,null,null,null,null,null,null,null,null,null,null,null,null,null,null,null,null,null,null,null,null,null,null,null,null,null,{"$f":"RNSE(BE222,BE219)","v":"-"},"-","-","RNSE"]
[]
[]
[null,null,null,null,null,null,null,null,null,null,null,null,null,null,null,null,null,null,null,null,null,null,null,null,null,null,null,null,null,null,null,null,null,null,null,null,null,null,null,null,null,null,null,null,null,null,null,null,null,null,null,null,null,null,null,null,null,null,null,""]
[]
[]
[]
[]
[null,null,null,null,null,null,null,null,null,null,null,null,null,null,null,null,null,null,null,null,null,null,null,null,null,null,null,null,null,null,null,null,null,null,null,null,null,null,null,null,null,null,null,null,null,null,null,null,null,null,null,null,{"$f":"IF(BB235<>\"\",AVERAGE(BB232,BB235),BB232)","v":0},{"$f":"SUM(BE222,BB212)","v":0},{"$f":"SUM(BE219,BB215)","v":0}]
[null,null,null,null,null,null,null,null,null,null,null,null,null,null,null,null,null,null,null,null,null,null,null,null,null,null,null,null,null,null,null,null,null,null,null,null,null,null,null,null,null,null,null,null,null,null,null,null,null,null,null,null,"target","$","$",null,"#","#","target"]
[null,null,null,null,null,null,null,null,null,null,null,null,null,null,null,null,null,null,null,null,null,null,null,null,null,null,null,null,null,null,null,null,null,null,null,null,null,null,null,null,null,null,null,null,null,null,null,null,null,null,null,null,"imbal",{"$f":"IF(BB235<>\"\",BB235-BB232,0)","v":0},{"$f":"IF(BC235<>\"\",BC235-BC232,0)","v":0},null,{"$f":"SUM(BE219:BG219)","v":0},{"$f":"SUM(BE222:BG222)","v":0},{"$f":"IF(BF237<>\"\",AVERAGE(BF234,BF237),BF234)","v":0}]
[null,null,null,null,null,null,null,null,null,null,null,null,null,null,null,null,null,null,null,null,null,null,null,null,null,null,null,null,null,null,null,null,null,null,null,null,null,null,null,null,null,null,null,null,null,null,null,null,null,null,null,null,{"$f":"IF(BB232<>\"\",AVERAGE(BB235,BB232),BB235)","v":0},{"$f":"SUM(BB247:BC247)","v":0},{"$f":"SUM(BB250:BC250)","v":0},null,{"$f":"IF(BE234<>\"\",BE234-BE237,0)","v":0},{"$f":"IF(BF234<>\"\",BF234-BF237,0)","v":0},"imbal"]
[null,null,null,null,null,null,null,null,null,null,null,null,null,null,null,null,null,null,null,null,null,null,null,null,null,null,null,null,null,null,null,null,null,null,null,null,null,null,null,null,null,null,null,null,null,null,null,null,null,null,null,null,"target","$","$",null,"#","#","target"]
[null,null,null,null,null,null,null,null,null,null,null,null,null,null,null,null,null,null,null,null,null,null,null,null,null,null,null,null,null,null,null,null,null,null,null,null,null,null,null,null,null,null,null,null,null,null,null,null,null,null,null,null,null,null,null,null,{"$f":"SUM(BC250,BB253,BF254)","v":0},{"$f":"SUM(BC247,AY253,BF257)","v":0},{"$f":"IF(BF234<>\"\",AVERAGE(BF237,BF234),BF237)","v":0}]
[]
[]
[]
[]
[null,null,null,null,null,null,null,null,null,null,null,null,null,null,null,null,null,null,null,null,null,null,null,null,null,null,null,null,null,null,null,null,null,null,null,null,null,null,null,null,null,null,null,null,null,null,null,null,null,null,null,""]
[]
[]
[null,null,null,null,null,null,null,null,null,null,null,null,null,null,null,null,null,null,null,null,null,null,null,null,null,null,null,null,null,null,null,null,null,null,null,null,null,null,null,null,null,null,null,null,null,null,null,null,null,null,null,null,"RNSE",{"$f":"RNSE(BB247,BB250)","v":"-"},{"$f":"RNSE(BC247,BC250)","v":"-"}]
[null,null,null,null,null,null,null,null,null,null,null,null,null,null,null,null,null,null,null,null,null,null,null,null,null,null,null,null,null,null,null,null,null,null,null,null,null,null,null,null,null,null,null,null,null,null,null,null,null,null,null,null,"%",{"$f":"BB247/BB235","v":{"$error":"#DIV/0!"}},{"$f":"BC247/BB235","v":{"$error":"#DIV/0!"}}]
[null,null,null,null,null,null,null,null,null,null,null,null,null,null,null,null,null,null,null,null,null,null,null,null,null,null,null,null,null,null,null,null,null,null,null,null,null,null,null,null,null,null,null,null,null,null,null,null,null,null,null,null,"bal",{"$f":"BW261","v":0},{"$f":"BX261","v":0}]
[null,null,null,null,null,null,null,null,null,null,null,null,null,null,null,null,null,null,null,null,null,null,null,null,null,null,null,null,null,null,null,null,null,null,null,null,null,null,null,null,null,null,null,null,null,null,null,null,null,null,null,null,null,"$","M",null,null,null,null,null,null,null,null,null,null,""]
[null,null,null,null,null,null,null,null,null,null,null,null,null,null,null,null,null,null,null,null,null,null,null,null,null,null,null,null,null,null,null,null,null,null,null,null,null,null,null,null,null,null,null,null,null,null,null,null,null,null,null,null,"%",{"$f":"BB250/BC235","v":{"$error":"#DIV/0!"}},{"$f":"BC250/BC235","v":{"$error":"#DIV/0!"}}]
[null,null,null,null,null,null,null,null,null,null,null,null,null,null,null,null,null,null,null,null,null,null,null,null,null,null,null,null,null,null,null,null,null,null,null,null,null,null,null,null,null,null,null,null,null,null,null,null,null,null,null,null,"raw",0,0]
[null,null,null,null,null,null,null,null,null,null,null,null,null,null,null,null,null,null,null,null,null,null,null,null,null,null,null,null,null,null,null,null,null,null,null,null,null,null,null,null,null,null,null,null,null,null,null,null,null,null,null,null,null,{"$f":"CHOOSE(1,\"$\",\"TURN\",11,BD252,BB250,BB247)","v":"$"},{"$f":"CHOOSE(1,\"M\",\"TURN\",9,BD252,BC250,BC247)","v":"M"}]
[null,null,null,null,null,null,null,null,null,null,null,null,null,null,null,null,null,null,null,null,null,null,null,null,null,null,null,null,null,null,null,null,null,null,null,null,null,null,null,null,null,null,null,null,null,null,null,null,null,null,null,null,null,null,null,2]
[null,null,null,null,null,null,null,null,null,null,null,null,null,null,null,null,null,null,null,null,null,null,null,null,null,null,null,null,null,null,null,null,null,null,null,null,null,null,null,null,null,null,null,null,{"$f":"IF(AQ254<>\"\",AT253-AQ254,0)","v":0},{"$f":"SUM(BB253:BB254)","v":0},"\"",null,{"$f":"RNSE(AY253,BB253)","v":"-"},{"$f":"AY253/AT254","v":{"$error":"#DIV/0!"}},{"$f":"BX262","v":0},"=",{"$f":"BB253/AT253","v":{"$error":"#DIV/0!"}},0,{"$f":"CHOOSE(1,\"=\",\"TURN\",14,BD252,BB253,AY253)","v":"="},null,{"$f":"CHOOSE(1,\"L\",\"TURN\",1,BD252,BE254,BE257)","v":"L"},{"$f":"CHOOSE(1,\"#\",\"TURN\",3,BD252,BF254,BF257)","v":"#"}]
[null,null,null,null,null,null,null,null,null,null,null,null,null,null,null,null,null,null,null,null,null,null,null,null,null,null,null,null,null,null,null,null,null,null,null,null,null,null,null,null,null,null,null,{"$f":"CHOOSE(1,\"\"\"\",\"LINK\",AQ255,AQ254)","v":"\""},{"$f":"IF(AQ254<>\"\",AT254-AQ254,0)","v":0},{"$f":"SUM(AY253:AY254)","v":0},"\"",null,{"$f":"RNSE(AY254,BB254)","v":"-"},{"$f":"AY254/AT254","v":{"$error":"#DIV/0!"}},{"$f":"BW262","v":0},"?",{"$f":"BB254/AT253","v":{"$error":"#DIV/0!"}},0,{"$f":"CHOOSE(1,\"?\",\"TURN\",16,BD252,BB254,AY254)","v":"?"},null,0,0,"raw"]
[null,null,null,null,null,null,null,null,null,null,null,null,null,null,null,null,null,null,null,null,null,null,null,null,null,null,null,null,null,null,null,null,null,null,null,null,null,null,null,null,null,null,"LINK_ID",null,"imbal",{"$f":"IF(AQ254<>\"\",AQ254,AT254)","v":0},"target",null,"RNSE","%","bal",null,"%","raw",null,null,{"$f":"BE254/BE269","v":{"$error":"#DIV/0!"}},{"$f":"BF254/BE269","v":{"$error":"#DIV/0!"}},"%"]
[null,null,null,null,null,null,null,null,null,null,null,null,null,null,null,null,null,null,null,null,null,null,null,null,null,null,null,null,null,null,null,null,null,null,null,null,null,null,null,null,null,null,null,null,null,"",null,null,null,null,null,null,null,null,null,null,"L","#"]
[null,null,null,null,null,null,null,null,null,null,null,null,null,null,null,null,null,null,null,null,null,null,null,null,null,null,null,null,null,null,null,null,null,null,null,null,null,null,null,null,null,null,null,null,null,null,null,null,null,null,null,null,null,null,null,null,{"$f":"BW260","v":0},{"$f":"BX260","v":0},"bal"]
[null,null,null,null,null,null,null,null,null,null,null,null,null,null,null,null,null,null,null,null,null,null,null,null,null,null,null,null,null,null,null,null,null,null,null,null,null,null,null,null,null,null,null,null,null,null,null,null,null,null,null,null,null,null,null,null,{"$f":"BE257/BF269","v":{"$error":"#DIV/0!"}},{"$f":"BF257/BF269","v":{"$error":"#DIV/0!"}},"%",null,null,null,null,"Local OD Raw",null,null,null,null,null,null,null,null,null,"Local OD Estimated"]
[null,null,null,null,null,null,null,null,null,null,null,null,null,null,null,null,null,null,null,null,null,null,null,null,null,null,null,null,null,null,null,null,null,null,null,null,null,null,null,null,null,null,null,null,null,null,null,null,null,null,null,null,null,null,null,null,{"$f":"RNSE(BE257,BE254)","v":"-"},{"$f":"RNSE(BF257,BF254)","v":"-"},"RNSE",null,null,null,null,{"$f":"\"local_od_raw_\"&BD252","v":"local_od_raw_2"},1,3,4,"est","tgt","err",null,null,null,{"$f":"\"local_od_est_\"&BD252","v":"local_od_est_2"},1,3,4,"est","tgt","err"]
[null,null,null,null,null,null,null,null,null,null,null,null,null,null,null,null,null,null,null,null,null,null,null,null,null,null,null,null,null,null,null,null,null,null,null,null,null,null,null,null,null,null,null,null,null,null,null,null,null,null,null,null,null,null,null,null,null,null,null,null,null,null,null,1,{"$f":"BE254","v":0},{"$f":"BF254","v":0},0,{"$f":"SUM(BM260:BO260)","v":0},{"$f":"BG269","v":0},{"$f":"IFERROR(ABS(BP260-BQ260)/BQ260,0)","v":0},null,null,null,1,{"$f":"BM260","v":0},0,0,{"$f":"SUM(BW260:BY260)","v":0},{"$f":"BQ260","v":0},{"$f":"IFERROR(ABS(BZ260-CA260)/CA260,0)","v":0}]
[null,null,null,null,null,null,null,null,null,null,null,null,null,null,null,null,null,null,null,null,null,null,null,null,null,null,null,null,null,null,null,null,null,null,null,null,null,null,null,null,null,null,null,null,null,null,null,null,null,null,null,null,null,null,null,null,null,null,null,null,null,null,null,3,{"$f":"BB250","v":0},{"$f":"BC250","v":0},0,{"$f":"SUM(BM261:BO261)","v":0},{"$f":"BA235","v":0},{"$f":"IFERROR(ABS(BP261-BQ261)/BQ261,0)","v":0},null,null,null,3,0,0,0,{"$f":"SUM(BW261:BY261)","v":0},{"$f":"BQ261","v":0},{"$f":"IFERROR(ABS(BZ261-CA261)/CA261,0)","v":0}]
[null,null,null,null,null,null,null,null,null,null,null,null,null,null,null,null,null,null,null,null,null,null,null,null,null,null,null,null,null,null,null,null,null,null,null,null,null,null,null,null,null,null,null,null,null,null,null,null,null,null,null,null,null,null,null,null,"Default St",null,null,"",null,null,null,4,{"$f":"BB254","v":0},{"$f":"BB253","v":0},0,{"$f":"SUM(BM262:BO262)","v":0},{"$f":"AT255","v":0},{"$f":"IFERROR(ABS(BP262-BQ262)/BQ262,0)","v":0},null,null,null,4,0,0,0,{"$f":"SUM(BW262:BY262)","v":0},{"$f":"BQ262","v":0},{"$f":"IFERROR(ABS(BZ262-CA262)/CA262,0)","v":0}]
[null,null,null,null,null,null,null,null,null,null,null,null,null,null,null,null,null,null,null,null,null,null,null,null,null,null,null,null,null,null,null,null,null,null,null,null,null,null,null,null,null,{"$f":"CHOOSE(1,BD252&\":\",\"IX_NAME\",AQ263)","v":"2:"},"Default St & EB I-888 Off-Ramp",null,null,null,null,null,null,null,null,null,null,null,null,null,null,null,null,null,null,null,null,"est",{"$f":"SUM(BM260:BM262)","v":0},{"$f":"SUM(BN260:BN262)","v":0},{"$f":"SUM(BO260:BO262)","v":0},null,null,null,null,null,null,"est",{"$f":"SUM(BW260:BW262)","v":0},{"$f":"SUM(BX260:BX262)","v":0},{"$f":"SUM(BY260:BY262)","v":0}]
[null,null,null,null,null,null,null,null,null,null,null,null,null,null,null,null,null,null,null,null,null,null,null,null,null,null,null,null,null,null,null,null,null,null,null,null,null,null,null,null,null,null,"Raw Count Date:",null,null,null,null,null,null,null,null,null,null,null,null,null,null,null,null,null,null,null,null,"tgt",{"$f":"BA267","v":0},{"$f":"BG237","v":0},0,null,null,null,null,null,null,"tgt",{"$f":"BM264","v":0},{"$f":"BN264","v":0},{"$f":"BO264","v":0}]
[null,null,null,null,null,null,null,null,null,null,null,null,null,null,null,null,null,null,null,null,null,null,null,null,null,null,null,null,null,null,null,null,null,null,null,null,null,null,null,null,null,null,null,null,null,null,null,null,null,null,null,null,null,null,null,null,null,null,null,null,null,null,null,"err",{"$f":"IFERROR(ABS(BM263-BM264)/BM264,0)","v":0},{"$f":"IFERROR(ABS(BN263-BN264)/BN264,0)","v":0},{"$f":"IFERROR(ABS(BO263-BO264)/BO264,0)","v":0},null,null,{"$f":"SUM(BM265:BO265,BR260:BR262)","v":0},null,null,null,"err",{"$f":"IFERROR(ABS(BW263-BW264)/BW264,0)","v":0},{"$f":"IFERROR(ABS(BX263-BX264)/BX264,0)","v":0},{"$f":"IFERROR(ABS(BY263-BY264)/BY264,0)","v":0},null,null,{"$f":"SUM(BW265:BY265,CB260:CB262)","v":0}]
[]
[null,null,null,null,null,null,null,null,null,null,null,null,null,null,null,null,null,null,null,null,null,null,null,null,null,null,null,null,null,null,null,null,null,null,null,null,null,null,null,null,null,null,null,null,null,null,null,null,null,null,null,null,{"$f":"IF(BB270<>\"\",AVERAGE(BB267,BB270),BB267)","v":0},{"$f":"SUM(BE257,BB247,AY254)","v":0},{"$f":"SUM(BE254,BB250,BB254)","v":0}]
[null,null,null,null,null,null,null,null,null,null,null,null,null,null,null,null,null,null,null,null,null,null,null,null,null,null,null,null,null,null,null,null,null,null,null,null,null,null,null,null,null,null,null,null,null,null,null,null,null,null,null,null,"target","$","$",null,"#","#","target"]
[null,null,null,null,null,null,null,null,null,null,null,null,null,null,null,null,null,null,null,null,null,null,null,null,null,null,null,null,null,null,null,null,null,null,null,null,null,null,null,null,null,null,null,null,null,null,null,null,null,null,null,null,"imbal",{"$f":"IF(BB270<>\"\",BB270-BB267,0)","v":0},{"$f":"IF(BC270<>\"\",BC270-BC267,0)","v":0},null,{"$f":"SUM(BE254:BF254)","v":0},{"$f":"SUM(BE257:BF257)","v":0},{"$f":"IF(BF272<>\"\",AVERAGE(BF269,BF272),BF269)","v":0}]

{"sheet":"PARCLO N-S","index":5,"n_rows":231,"n_cols":229,"rows_kept":231,"cut":false,"hidden":false,"merged":[]}
[]
[]
[]
[]
[]
[]
[]
[]
[]
[]
[]
[]
[]
[]
[]
[]
[]
[]
[]
[]
[]
[]
[]
[]
[]
[]
[]
[]
[]
[]
[]
[]
[]
[]
[]
[]
[]
[]
[]
[]
[]
[]
[]
[]
[]
[]
[]
[]
[]
[]
[]
[]
[]
[]
[]
[]
[]
[]
[]
[]
[]
[]
[]
[]
[]
[]
[]
[]
[]
[]
[]
[null,null,null,null,null,null,null,null,null,null,null,null,null,null,null,null,null,null,null,null,null,null,null,null,null,null,null,null,null,null,null,null,null,null,null,null,null,null,null,null,null,null,null,{"$f":"CHOOSE(1,BA97&\":\",\"IX_NAME\",AS72)","v":"1:"},"Default St & SB I-999 Ramps",null,null,null,null,null,null,null,null,null,null,null,null,null,null,null,null,null,null,null,null,null,null,null,null,null,null,null,null,null,null,{"$f":"CHOOSE(1,BV97&\":\",\"IX_NAME\",BY72)","v":"2:"},"Default St & NB I-999 Ramps",null,null,null,null,null,null,null,null,null,null,null,null,null,null,{"$f":"CHOOSE(1,CW97&\":\",\"IX_NAME\",CO72)","v":"1:"},"Default St & SB I-999 Ramps",null,null,null,null,null,null,null,null,null,null,null,null,null,null,null,null,null,null,null,null,null,null,null,null,null,null,{"$f":"CHOOSE(1,DR97&\":\",\"IX_NAME\",DQ72)","v":"2:"},"Default St & NB I-999 Ramps",null,null,null,null,null,null,null,null,null,null,null,null,null,null,null,null,null,null,null,null,null,null,null,null,{"$f":"CHOOSE(1,ES97&\":\",\"IX_NAME\",EQ72)","v":"1:"},"Default St & SB I-999 Ramps",null,null,null,null,null,null,null,null,null,null,null,null,null,null,null,null,null,null,null,null,null,null,null,null,{"$f":"CHOOSE(1,FN97&\":\",\"IX_NAME\",FQ72)","v":"2:"},"Default St & NB I-999 Ramps"]
[null,null,null,null,null,null,null,null,null,null,null,null,null,null,null,null,null,null,null,null,null,null,null,null,null,null,null,null,null,null,null,null,null,null,null,null,null,null,null,null,null,null,null,null,"Raw Count Date:",null,null,null,null,null,null,null,null,null,null,null,null,null,null,null,null,null,null,null,null,null,null,null,null,null,null,null,null,null,null,null,"Raw Count Date:",null,null,null,null,null,null,null,null,null,null,null,null,null,null,null,"Raw Count Date:",null,null,null,null,null,null,null,null,null,null,null,null,null,null,null,null,null,null,null,null,null,null,null,null,null,null,null,"Raw Count Date:",null,null,null,null,null,null,null,null,null,null,null,null,null,null,null,null,null,null,null,null,null,null,null,null,null,"Raw Count Date:",null,null,null,null,null,null,null,null,null,null,null,null,null,null,null,null,null,null,null,null,null,null,null,null,null,"Raw Count Date:"]
[null,null,null,null,null,null,null,null,null,null,null,null,null,null,null,null,null,null,null,null,null,null,null,null,null,null,null,null,null,null,null,null,null,null,null,null,null,null,null,null,null,null,null,null,null,null,null,null,null,null,null,null,null,null,null,null,null,null,null,null,null,null,null,null,null,null,null,null,null,null,null,null,null,null,null,null,null,null,"Local OD Raw",null,null,null,null,null,null,null,null,null,null,null,null,null,null,null,null,null,null,null,null,null,null,null,null,null,null,null,null,null,null,null,null,null,null,null,null,null,null,null,null,null,null,null,null,null,null,null,null,null,null,null,null,null,null,null,null,null,null,null,null,null,null,null,null,null,null,null,null,null,null,null,null,null,null,null,null,null,null,null,null,null,null,null,null,null,null,null,null,null,null,null,null,null,null,null,"Local OD Raw"]
[null,null,null,null,null,null,null,null,null,null,null,null,null,null,null,null,null,null,null,null,null,null,null,null,null,null,null,null,null,null,null,null,null,null,null,null,null,null,null,null,null,null,null,null,null,null,null,null,null,null,null,null,null,null,null,null,null,null,null,null,null,null,null,null,null,null,null,null,null,null,null,null,null,null,null,null,null,null,{"$f":"\"local_od_raw_\"&BV97","v":"local_od_raw_2"},2,3,4,"est","tgt","err",null,null,null,null,null,null,null,null,null,null,null,null,null,null,null,null,null,null,null,null,null,null,null,null,null,null,null,null,null,null,null,null,null,null,null,null,null,null,null,null,null,null,null,null,null,null,null,null,null,null,null,null,null,null,null,null,null,null,null,null,null,null,null,null,null,null,null,null,null,null,null,null,null,null,null,null,null,null,null,null,null,null,null,null,null,null,null,null,null,{"$f":"\"local_od_raw_\"&FN97","v":"local_od_raw_2"},2,3,4,"est","tgt","err"]
[null,null,null,null,null,null,null,null,null,null,null,null,null,null,null,null,null,null,null,null,null,null,null,null,null,null,null,null,null,null,null,null,null,null,null,null,null,null,null,null,null,null,null,null,null,null,null,null,null,null,null,null,null,null,null,null,null,null,null,null,null,null,null,null,null,null,null,null,null,null,null,null,null,null,null,null,null,null,2,{"$f":"BX96","v":0},{"$f":"BX94","v":0},{"$f":"BX95","v":0},{"$f":"SUM(CB76:CD76)","v":0},{"$f":"CG94","v":0},{"$f":"IFERROR(ABS(CE76-CF76)/CF76,0)","v":0},null,null,null,null,null,null,null,null,null,null,null,null,null,null,null,null,null,null,null,null,null,null,null,null,null,null,null,null,null,null,null,null,null,null,null,null,null,null,null,null,null,null,null,null,null,null,null,null,null,null,null,null,null,null,null,null,null,null,null,null,null,null,null,null,null,null,null,null,null,null,null,null,null,null,null,null,null,null,null,null,null,null,null,null,null,null,null,null,null,2,{"$f":"FP96","v":0},{"$f":"FP94","v":0},{"$f":"FP95","v":0},{"$f":"SUM(FT76:FV76)","v":0},{"$f":"FY94","v":0},{"$f":"IFERROR(ABS(FW76-FX76)/FX76,0)","v":0}]
[null,null,null,null,null,null,null,null,null,null,null,null,null,null,null,null,null,null,null,null,null,null,null,null,null,null,null,null,null,null,null,null,null,null,null,null,null,null,null,null,null,null,null,null,null,null,null,null,null,null,null,null,null,null,null,null,null,null,null,null,null,null,null,null,null,null,null,null,null,null,null,null,null,null,null,null,null,null,3,{"$f":"BT95","v":0},{"$f":"BU95","v":0},{"$f":"BS95","v":0},{"$f":"SUM(CB77:CD77)","v":0},{"$f":"BS86","v":0},0,null,null,null,null,null,null,null,null,null,null,null,null,null,null,null,null,null,null,null,null,null,null,null,null,null,null,null,null,null,null,null,null,null,null,null,null,null,null,null,null,null,null,null,null,null,null,null,null,null,null,null,null,null,null,null,null,null,null,null,null,null,null,null,null,null,null,null,null,null,null,null,null,null,null,null,null,null,null,null,null,null,null,null,null,null,null,null,null,null,3,{"$f":"FL95","v":0},{"$f":"FM95","v":0},{"$f":"FK95","v":0},{"$f":"SUM(FT77:FV77)","v":0},{"$f":"FK86","v":0},0]
[null,null,null,null,null,null,null,null,null,null,null,null,null,null,null,null,null,null,null,null,null,null,null,null,null,null,null,null,null,null,null,null,null,null,null,null,null,null,null,null,null,null,null,null,null,null,null,null,null,null,null,null,null,null,null,null,null,null,null,null,null,null,null,null,null,null,null,null,null,null,null,null,null,null,null,null,null,null,4,{"$f":"BT100","v":0},{"$f":"BT99","v":0},{"$f":"BT98","v":0},{"$f":"SUM(CB78:CD78)","v":0},{"$f":"BL100","v":0},0,null,null,null,null,null,null,null,null,null,null,null,null,null,null,null,null,null,null,null,null,null,null,null,null,null,null,null,null,null,null,null,null,null,null,null,null,null,null,null,null,null,null,null,null,null,null,null,null,null,null,null,null,null,null,null,null,null,null,null,null,null,null,null,null,null,null,null,null,null,null,null,null,null,null,null,null,null,null,null,null,null,null,null,null,null,null,null,null,null,4,{"$f":"FL100","v":0},{"$f":"FL99","v":0},{"$f":"FL98","v":0},{"$f":"SUM(FT78:FV78)","v":0},{"$f":"FD100","v":0},0]
[null,null,null,null,null,null,null,null,null,null,null,null,null,null,null,null,null,null,null,null,null,null,null,null,null,null,null,null,null,null,null,null,null,null,null,null,null,null,null,null,null,null,null,null,null,null,null,null,null,null,null,null,null,null,null,null,null,null,null,null,null,null,null,null,null,null,null,null,null,null,null,null,null,null,null,null,null,null,"est",{"$f":"SUM(CB76:CB78)","v":0},{"$f":"SUM(CC76:CC78)","v":0},{"$f":"SUM(CD76:CD78)","v":0},null,null,null,null,null,null,null,null,null,null,null,null,null,null,null,null,null,null,null,null,null,null,null,null,null,null,null,null,null,null,null,null,null,null,null,null,null,null,null,null,null,null,null,null,null,null,null,null,null,null,null,null,null,null,null,null,null,null,null,null,null,null,null,null,null,null,null,null,null,null,null,null,null,null,null,null,null,null,null,null,null,null,null,null,null,null,null,null,null,null,null,null,"est",{"$f":"SUM(FT76:FT78)","v":0},{"$f":"SUM(FU76:FU78)","v":0},{"$f":"SUM(FV76:FV78)","v":0}]
[null,null,null,null,null,null,null,null,null,null,null,null,null,null,null,null,null,null,null,null,null,null,null,null,null,null,null,null,null,null,null,null,null,null,null,null,null,null,null,null,null,null,null,null,null,null,null,null,null,null,null,null,null,null,null,null,null,null,null,null,null,null,null,null,null,null,null,null,null,null,null,null,null,null,null,null,null,null,"tgt",{"$f":"CE100","v":0},{"$f":"BY87","v":0},{"$f":"BN94","v":0},null,null,null,null,null,null,null,null,null,null,null,null,null,null,null,null,null,null,null,null,null,null,null,null,null,null,null,null,null,null,null,null,null,null,null,null,null,null,null,null,null,null,null,null,null,null,null,null,null,null,null,null,null,null,null,null,null,null,null,null,null,null,null,null,null,null,null,null,null,null,null,null,null,null,null,null,null,null,null,null,null,null,null,null,null,null,null,null,null,null,null,null,"tgt",{"$f":"FW100","v":0},{"$f":"FQ87","v":0},{"$f":"FF94","v":0}]
[null,null,null,null,null,null,null,null,null,null,null,null,null,null,null,null,null,null,null,null,null,null,null,null,null,null,null,null,null,null,null,null,null,null,null,null,null,null,null,null,null,null,null,null,null,null,null,null,null,null,null,null,null,null,null,null,null,null,null,null,null,null,null,null,null,null,null,null,null,null,null,null,null,null,null,null,null,null,"err",{"$f":"IFERROR(ABS(CB79-CB80)/CB80,0)","v":0},0,0,null,null,{"$f":"SUM(CB81:CD81,CG76:CG78)","v":0},null,null,null,null,null,null,null,null,null,null,null,null,null,null,null,null,null,null,null,null,null,null,null,null,null,null,null,null,null,null,null,null,null,null,null,null,null,null,null,null,null,null,null,null,null,null,null,null,null,null,null,null,null,null,null,null,null,null,null,null,null,null,null,null,null,null,null,null,null,null,null,null,null,null,null,null,null,null,null,null,null,null,null,null,null,null,null,null,null,"err",{"$f":"IFERROR(ABS(FT79-FT80)/FT80,0)","v":0},0,0,null,null,{"$f":"SUM(FT81:FV81,FY76:FY78)","v":0},null,null,null,null,null,null,null,null,null,null,null,null,{"$f":"CHOOSE(1,GO97&\":\",\"IX_NAME\",GM81)","v":"1:"},"Default St & SB I-999 Ramps",null,null,null,null,null,null,null,null,null,null,null,null,null,null,null,null,null,null,null,null,{"$f":"CHOOSE(1,HJ97&\":\",\"IX_NAME\",HI81)","v":"2:"},"Default St & NB I-999 Ramps"]
[null,null,null,null,null,null,null,null,null,null,null,null,null,null,null,null,null,null,null,null,null,null,null,null,null,null,null,null,null,null,null,null,null,null,null,null,null,null,null,null,null,null,null,null,null,null,null,null,null,null,null,null,null,null,null,null,null,null,null,null,null,null,null,null,null,null,null,null,null,null,null,null,null,null,null,null,null,null,null,null,null,null,null,null,null,null,null,null,null,null,null,null,null,null,null,null,null,null,null,null,null,null,null,null,null,null,null,null,null,null,null,null,null,null,null,null,null,null,null,null,null,null,null,null,null,null,null,null,null,null,null,null,null,null,null,null,null,null,null,null,null,null,null,null,null,null,null,null,null,null,null,null,null,null,null,null,null,null,null,null,null,null,null,null,null,null,null,null,null,null,null,null,null,null,null,null,null,null,null,null,null,null,null,null,null,null,null,null,null,null,null,null,null,null,"Raw Count Date:",null,null,null,null,null,null,null,null,null,null,null,null,null,null,null,null,null,null,null,null,null,"Raw Count Date:"]
[null,null,null,null,null,null,null,null,null,null,null,null,null,null,null,null,null,null,null,null,null,null,null,null,null,null,null,null,null,null,null,null,null,null,null,null,null,null,null,null,null,"Local OD Raw",null,null,null,null,null,null,null,"LINK_ID",null,null,null,null,{"$f":"CHOOSE(1,\"#\",\"LINK\",BD83,BC84)","v":"#"},"LINK_ID",null,null,null,null,null,null,null,null,null,null,null,null,null,null,"LINK_ID",null,null,null,null,{"$f":"CHOOSE(1,\"#\",\"LINK\",BY83,BX84)","v":"#"},"LINK_ID",null,null,null,null,null,null,null,null,null,null,null,null,"Local OD Raw",null,null,null,null,null,null,null,"LINK_ID",null,null,null,null,{"$f":"CHOOSE(1,\"#\",\"LINK\",CZ83,CY84)","v":"#"},"LINK_ID",null,null,null,null,null,null,null,null,null,null,null,null,null,null,null,null,null,null,null,null,null,null,"Local OD Raw",null,null,null,null,null,null,null,null,null,null,"Local OD Raw",null,null,null,null,null,null,null,null,null,null,null,null,null,null,null,null,null,null,null,null,null,null,null,null,null,null,null,null,"LINK_ID",null,null,null,null,{"$f":"CHOOSE(1,\"#\",\"LINK\",FQ83,FP84)","v":"#"},"LINK_ID",null,null,null,null,null,null,null,null,null,null,null,null,"Local OD Raw",null,null,null,null,null,null,null,null,null,null,null,null,null,null,null,null,null,null,null,null,null,null,null,null,null,null,null,null,null,null,null,null,null,null,null,null,"Local OD Raw"]
[null,null,null,null,null,null,null,null,null,null,null,null,null,null,null,null,null,null,null,null,null,null,null,null,null,null,null,null,null,null,null,null,null,null,null,null,null,null,null,null,null,{"$f":"\"local_od_raw_\"&BA97","v":"local_od_raw_1"},2,3,4,"est","tgt","err",null,null,{"$f":"CHOOSE(1,\"$\",\"LINK\",AX83,AY83)","v":"$"},null,null,null,null,null,null,null,null,null,null,null,null,null,null,null,null,null,null,null,null,{"$f":"CHOOSE(1,\"$\",\"LINK\",BS83,BT83)","v":"$"},null,null,null,null,null,null,null,null,null,null,null,null,null,null,null,null,null,{"$f":"\"local_od_raw_\"&CW97","v":"local_od_raw_1"},2,3,4,"est","tgt","err",null,null,{"$f":"CHOOSE(1,\"$\",\"LINK\",CT83,CU83)","v":"$"},null,null,null,null,null,null,null,null,null,null,null,null,null,null,null,null,null,null,null,null,null,null,null,null,null,null,null,{"$f":"\"local_od_raw_\"&DR97","v":"local_od_raw_2"},1,2,4,"est","tgt","err",null,null,null,null,{"$f":"\"local_od_raw_\"&ES97","v":"local_od_raw_1"},1,2,4,"est","tgt","err",null,null,null,null,null,null,null,null,null,null,null,null,null,null,null,null,null,null,null,null,null,null,null,{"$f":"CHOOSE(1,\"$\",\"LINK\",FK83,FL83)","v":"$"},null,null,null,null,null,null,null,null,null,null,null,null,null,null,null,null,null,{"$f":"\"local_od_raw_\"&GO97","v":"local_od_raw_1"},1,2,4,"est","tgt","err",null,null,null,null,null,null,null,null,null,null,null,null,null,null,null,null,null,null,null,null,null,null,null,null,null,null,null,null,null,null,{"$f":"\"local_od_raw_\"&HJ97","v":"local_od_raw_2"},1,2,4,"est","tgt","err"]
[null,null,null,null,null,null,null,null,null,null,null,null,null,null,null,null,null,null,null,null,null,null,null,null,null,null,null,null,null,null,null,null,null,null,null,null,null,null,null,null,null,2,{"$f":"BC96","v":0},{"$f":"BC94","v":0},{"$f":"BC95","v":0},{"$f":"SUM(AQ85:AS85)","v":0},{"$f":"BK94","v":0},{"$f":"IFERROR(ABS(AT85-AU85)/AU85,0)","v":0},null,"imbal",{"$f":"IF(AY83<>\"\",AY86-AY83,0)","v":0},{"$f":"IF(AY83<>\"\",AZ86-AY83,0)","v":0},null,{"$f":"IF(BC84<>\"\",BC84-BB87,0)","v":0},{"$f":"IF(BC84<>\"\",BC84-BC87,0)","v":0},"imbal",null,null,null,null,null,null,null,null,null,null,null,null,null,null,"imbal",{"$f":"IF(BT83<>\"\",BT86-BT83,0)","v":0},{"$f":"IF(BT83<>\"\",BU86-BT83,0)","v":0},null,{"$f":"IF(BX84<>\"\",BX84-BW87,0)","v":0},{"$f":"IF(BX84<>\"\",BX84-BX87,0)","v":0},"imbal",null,null,null,null,null,null,null,null,null,null,null,null,2,{"$f":"CY96","v":0},{"$f":"CY94","v":0},{"$f":"CY95","v":0},{"$f":"SUM(CM85:CO85)","v":0},{"$f":"DG94","v":0},{"$f":"IFERROR(ABS(CP85-CQ85)/CQ85,0)","v":0},null,"imbal",{"$f":"IF(CU83<>\"\",CU86-CU83,0)","v":0},{"$f":"IF(CU83<>\"\",CV86-CU83,0)","v":0},null,{"$f":"IF(CY84<>\"\",CY84-CX87,0)","v":0},{"$f":"IF(CY84<>\"\",CY84-CY87,0)","v":0},"imbal",null,null,null,null,null,null,null,null,null,null,null,null,null,null,null,null,null,null,null,null,null,null,1,{"$f":"DS99","v":0},{"$f":"DU99","v":0},{"$f":"DT99","v":0},{"$f":"SUM(DX85:DZ85)","v":0},{"$f":"DU108","v":0},{"$f":"IFERROR(ABS(EA85-EB85)/EB85,0)","v":0},null,null,null,null,1,{"$f":"ET99","v":0},{"$f":"EV99","v":0},{"$f":"EU99","v":0},{"$f":"SUM(EI85:EK85)","v":0},{"$f":"EV108","v":0},{"$f":"IFERROR(ABS(EL85-EM85)/EM85,0)","v":0},null,null,null,null,null,null,null,null,null,null,null,null,null,null,null,null,null,null,null,null,null,null,"imbal",{"$f":"IF(FL83<>\"\",FL86-FL83,0)","v":0},{"$f":"IF(FL83<>\"\",FM86-FL83,0)","v":0},null,{"$f":"IF(FP84<>\"\",FP84-FO87,0)","v":0},{"$f":"IF(FP84<>\"\",FP84-FP87,0)","v":0},"imbal",null,null,null,null,null,null,null,null,null,null,null,null,1,{"$f":"GP99","v":0},{"$f":"GR99","v":0},{"$f":"GQ99","v":0},{"$f":"SUM(GE85:GG85)","v":0},{"$f":"GR108","v":0},{"$f":"IFERROR(ABS(GH85-GI85)/GI85,0)","v":0},null,null,null,null,null,null,null,null,null,null,null,null,null,null,null,null,null,null,null,null,null,null,null,null,null,null,null,null,null,null,1,{"$f":"HK99","v":0},{"$f":"HM99","v":0},{"$f":"HL99","v":0},{"$f":"SUM(HP85:HR85)","v":0},{"$f":"HM108","v":0},{"$f":"IFERROR(ABS(HS85-HT85)/HT85,0)","v":0}]
[null,null,null,null,null,null,null,null,null,null,null,null,null,null,null,null,null,null,null,null,null,null,null,null,null,null,null,null,null,null,null,null,null,null,null,null,null,null,null,null,null,3,{"$f":"AY95","v":0},{"$f":"AZ95","v":0},{"$f":"AX95","v":0},{"$f":"SUM(AQ86:AS86)","v":0},{"$f":"AX86","v":0},0,null,{"$f":"IF(AY83<>\"\",AY83,AY86)","v":0},{"$f":"SUM(AX92:AZ92)","v":0},{"$f":"SUM(AX95:AZ95)","v":0},null,"#","#","target",null,null,null,null,null,null,null,null,null,null,null,null,null,null,{"$f":"IF(BT83<>\"\",BT83,BT86)","v":0},{"$f":"SUM(BS92:BU92)","v":0},{"$f":"SUM(BS95:BU95)","v":0},null,"#","#","target",null,null,null,null,null,null,null,null,null,null,null,null,3,{"$f":"CU95","v":0},{"$f":"CV95","v":0},{"$f":"CT95","v":0},{"$f":"SUM(CM86:CO86)","v":0},{"$f":"CT86","v":0},0,null,{"$f":"IF(CU83<>\"\",CU83,CU86)","v":0},{"$f":"SUM(CT92:CV92)","v":0},{"$f":"SUM(CT95:CV95)","v":0},null,"#","#","target",null,null,null,null,null,null,null,null,null,null,null,null,null,null,null,null,null,null,null,null,null,null,2,{"$f":"DT95","v":0},{"$f":"DT96","v":0},{"$f":"DT94","v":0},{"$f":"SUM(DX86:DZ86)","v":0},{"$f":"EC94","v":0},{"$f":"IFERROR(ABS(EA86-EB86)/EB86,0)","v":0},null,null,null,null,2,{"$f":"EU95","v":0},{"$f":"EU96","v":0},{"$f":"EU94","v":0},{"$f":"SUM(EI86:EK86)","v":0},{"$f":"FC94","v":0},{"$f":"IFERROR(ABS(EL86-EM86)/EM86,0)","v":0},null,null,null,null,null,null,null,null,null,null,null,null,null,null,null,null,null,null,null,null,null,null,{"$f":"IF(FL83<>\"\",FL83,FL86)","v":0},{"$f":"SUM(FK92:FM92)","v":0},{"$f":"SUM(FK95:FM95)","v":0},null,"#","#","target",null,null,null,null,null,null,null,null,null,null,null,null,2,{"$f":"GQ95","v":0},{"$f":"GQ96","v":0},{"$f":"GQ94","v":0},{"$f":"SUM(GE86:GG86)","v":0},{"$f":"GY94","v":0},{"$f":"IFERROR(ABS(GH86-GI86)/GI86,0)","v":0},null,null,null,null,null,null,null,null,null,null,null,null,null,null,null,null,null,null,null,null,null,null,null,null,null,null,null,null,null,null,2,{"$f":"HL95","v":0},{"$f":"HL96","v":0},{"$f":"HL94","v":0},{"$f":"SUM(HP86:HR86)","v":0},{"$f":"HU94","v":0},{"$f":"IFERROR(ABS(HS86-HT86)/HT86,0)","v":0}]
[null,null,null,null,null,null,null,null,null,null,null,null,null,null,null,null,null,null,null,null,null,null,null,null,null,null,null,null,null,null,null,null,null,null,null,null,null,null,null,null,null,4,{"$f":"AY100","v":0},{"$f":"AY99","v":0},{"$f":"AY98","v":0},{"$f":"SUM(AQ87:AS87)","v":0},{"$f":"AP100","v":0},0,null,"target","$","$",null,{"$f":"SUM(AZ95,AY99,BC94)","v":0},{"$f":"SUM(AZ92,AV99,BF94)","v":0},{"$f":"IF(BC84<>\"\",BC84,BC87)","v":0},null,null,null,null,null,null,null,null,null,null,null,null,null,null,"target","$","$",null,{"$f":"SUM(BU95,BT99,BX94)","v":0},{"$f":"SUM(BU92,BQ99,CA94)","v":0},{"$f":"IF(BX84<>\"\",AVERAGE(BX87,BX84),BX87)","v":0},null,null,null,null,null,null,null,null,null,null,null,null,4,{"$f":"CU100","v":0},{"$f":"CU99","v":0},{"$f":"CU98","v":0},{"$f":"SUM(CM87:CO87)","v":0},{"$f":"CL100","v":0},0,null,"target","$","$",null,{"$f":"SUM(CV95,CU99,CY94)","v":0},{"$f":"SUM(CV92,CR99,DB94)","v":0},{"$f":"IF(CY84<>\"\",CY84,CY87)","v":0},null,null,null,null,null,null,null,null,null,null,null,null,null,"",null,null,null,null,null,null,null,null,4,{"$f":"DP100","v":0},{"$f":"DP99","v":0},{"$f":"DP98","v":0},{"$f":"SUM(DX87:DZ87)","v":0},{"$f":"DH100","v":0},{"$f":"IFERROR(ABS(EA87-EB87)/EB87,0)","v":0},null,null,null,null,4,{"$f":"EP100","v":0},{"$f":"EP99","v":0},{"$f":"EP98","v":0},{"$f":"SUM(EI87:EK87)","v":0},{"$f":"EH100","v":0},{"$f":"IFERROR(ABS(EL87-EM87)/EM87,0)","v":0},null,null,null,null,null,null,null,null,null,null,null,null,null,null,null,null,null,null,null,null,null,null,"target","$","$",null,{"$f":"SUM(FM95,FL99,FP94)","v":0},{"$f":"SUM(FM92,FI99,FS94)","v":0},{"$f":"IF(FP84<>\"\",AVERAGE(FP87,FP84),FP87)","v":0},null,null,null,null,null,null,null,null,null,null,null,null,4,{"$f":"GL100","v":0},{"$f":"GL99","v":0},{"$f":"GL98","v":0},{"$f":"SUM(GE87:GG87)","v":0},{"$f":"GD100","v":0},{"$f":"IFERROR(ABS(GH87-GI87)/GI87,0)","v":0},null,null,null,null,null,null,null,null,null,null,null,null,null,null,null,null,null,null,null,null,null,"",null,null,null,null,null,null,null,null,4,{"$f":"HH100","v":0},{"$f":"HH99","v":0},{"$f":"HH98","v":0},{"$f":"SUM(HP87:HR87)","v":0},{"$f":"GZ100","v":0},{"$f":"IFERROR(ABS(HS87-HT87)/HT87,0)","v":0}]
[null,null,null,null,null,null,null,null,null,null,null,null,null,null,null,null,null,null,null,null,null,null,null,null,null,null,null,null,null,null,null,null,null,null,null,null,null,null,null,null,null,"est",{"$f":"SUM(AQ85:AQ87)","v":0},{"$f":"SUM(AR85:AR87)","v":0},{"$f":"SUM(AS85:AS87)","v":0},null,null,null,null,null,null,null,null,null,null,null,null,null,null,null,null,null,null,null,null,null,null,null,null,null,null,null,null,null,null,null,null,null,null,null,null,null,null,null,null,null,null,null,null,"est",{"$f":"SUM(CM85:CM87)","v":0},{"$f":"SUM(CN85:CN87)","v":0},{"$f":"SUM(CO85:CO87)","v":0},null,null,null,null,null,null,null,null,null,null,null,null,null,null,null,null,null,null,null,null,null,null,null,null,null,null,null,null,null,null,null,null,null,"est",{"$f":"SUM(DX85:DX87)","v":0},{"$f":"SUM(DY85:DY87)","v":0},{"$f":"SUM(DZ85:DZ87)","v":0},null,null,null,null,null,null,null,"est",{"$f":"SUM(EI85:EI87)","v":0},{"$f":"SUM(EJ85:EJ87)","v":0},{"$f":"SUM(EK85:EK87)","v":0},null,null,null,null,null,null,null,null,null,null,null,null,null,null,null,null,null,null,null,null,null,null,null,null,null,null,null,null,null,null,null,null,null,null,null,null,null,null,null,null,null,null,null,null,"est",{"$f":"SUM(GE85:GE87)","v":0},{"$f":"SUM(GF85:GF87)","v":0},{"$f":"SUM(GG85:GG87)","v":0},null,null,null,null,null,null,null,null,null,null,null,null,null,null,null,null,null,null,null,null,null,null,null,null,null,null,null,null,null,null,null,null,null,"est",{"$f":"SUM(HP85:HP87)","v":0},{"$f":"SUM(HQ85:HQ87)","v":0},{"$f":"SUM(HR85:HR87)","v":0}]
[null,null,null,null,null,null,null,null,null,null,null,null,null,null,null,null,null,null,null,null,null,null,null,null,null,null,null,null,null,null,null,null,null,null,null,null,null,null,null,null,null,"tgt",{"$f":"BI100","v":0},{"$f":"BD87","v":0},{"$f":"AR94","v":0},null,null,null,null,null,null,null,null,null,null,null,null,null,null,null,null,null,null,null,null,null,null,null,null,null,null,null,null,null,null,null,null,null,null,null,null,null,null,null,null,null,null,null,null,"tgt",{"$f":"DE100","v":0},{"$f":"CZ87","v":0},{"$f":"CN94","v":0},null,null,null,null,null,null,null,null,null,null,null,null,null,null,null,null,null,null,null,null,null,null,null,null,null,null,null,null,null,null,null,null,null,"tgt",{"$f":"DO107","v":0},{"$f":"EA100","v":0},{"$f":"DJ94","v":0},null,null,null,null,null,null,null,"tgt",{"$f":"EP107","v":0},{"$f":"FA100","v":0},{"$f":"EJ94","v":0},null,null,null,null,null,null,null,null,null,null,null,null,null,null,null,null,null,null,null,null,null,null,null,null,null,null,null,null,null,null,null,null,null,null,null,null,null,null,null,null,null,null,null,null,"tgt",{"$f":"GL107","v":0},{"$f":"GW100","v":0},{"$f":"GF94","v":0},null,null,null,null,null,null,null,null,null,null,null,null,null,null,null,null,null,null,null,null,null,null,null,null,null,null,null,null,null,null,null,null,null,"tgt",{"$f":"HG107","v":0},{"$f":"HS100","v":0},{"$f":"HB94","v":0}]
[null,null,null,null,null,null,null,null,null,null,null,null,null,null,null,null,null,null,null,null,null,null,null,null,null,null,null,null,null,null,null,null,null,null,null,null,null,null,null,null,null,"err",{"$f":"IFERROR(ABS(AQ88-AQ89)/AQ89,0)","v":0},0,0,null,null,{"$f":"SUM(AQ90:AS90,AV85:AV87)","v":0},"RNSE",{"$f":"RNSE(AX92,AX95)","v":"-"},{"$f":"RNSE(AY92,AY95)","v":"-"},{"$f":"RNSE(AZ92,AZ95)","v":"-"},null,null,null,null,null,null,null,null,null,null,null,null,null,null,null,null,null,"RNSE",{"$f":"RNSE(BS92,BS95)","v":"-"},{"$f":"RNSE(BT92,BT95)","v":"-"},{"$f":"RNSE(BU92,BU95)","v":"-"},null,null,null,null,null,null,null,null,null,null,null,null,null,null,null,null,"err",{"$f":"IFERROR(ABS(CM88-CM89)/CM89,0)","v":0},0,0,null,null,{"$f":"SUM(CM90:CO90,CR85:CR87)","v":0},"RNSE",{"$f":"RNSE(CT92,CT95)","v":"-"},{"$f":"RNSE(CU92,CU95)","v":"-"},{"$f":"RNSE(CV92,CV95)","v":"-"},null,null,null,null,null,null,null,null,null,null,null,null,null,null,null,null,null,null,null,null,null,null,null,null,null,null,"err",{"$f":"IFERROR(ABS(DX88-DX89)/DX89,0)","v":0},{"$f":"IFERROR(ABS(DY88-DY89)/DY89,0)","v":0},{"$f":"IFERROR(ABS(DZ88-DZ89)/DZ89,0)","v":0},null,null,{"$f":"SUM(DX90:DZ90,EC85:EC87)","v":0},null,null,null,null,"err",{"$f":"IFERROR(ABS(EI88-EI89)/EI89,0)","v":0},{"$f":"IFERROR(ABS(EJ88-EJ89)/EJ89,0)","v":0},{"$f":"IFERROR(ABS(EK88-EK89)/EK89,0)","v":0},null,null,{"$f":"SUM(EI90:EK90,EN85:EN87)","v":0},null,null,null,null,null,null,null,null,null,null,null,null,null,null,null,null,null,null,null,null,null,"RNSE",{"$f":"RNSE(FK92,FK95)","v":"-"},{"$f":"RNSE(FL92,FL95)","v":"-"},{"$f":"RNSE(FM92,FM95)","v":"-"},null,null,null,null,null,null,null,null,null,null,null,null,null,null,null,null,"err",{"$f":"IFERROR(ABS(GE88-GE89)/GE89,0)","v":0},{"$f":"IFERROR(ABS(GF88-GF89)/GF89,0)","v":0},{"$f":"IFERROR(ABS(GG88-GG89)/GG89,0)","v":0},null,null,{"$f":"SUM(GE90:GG90,GJ85:GJ87)","v":0},null,null,null,null,null,null,null,null,null,null,null,null,null,null,null,null,null,null,null,null,null,null,null,null,null,null,null,null,null,null,"err",{"$f":"IFERROR(ABS(HP88-HP89)/HP89,0)","v":0},{"$f":"IFERROR(ABS(HQ88-HQ89)/HQ89,0)","v":0},{"$f":"IFERROR(ABS(HR88-HR89)/HR89,0)","v":0},null,null,{"$f":"SUM(HP90:HR90,HU85:HU87)","v":0}]
[null,null,null,null,null,null,null,null,null,null,null,null,null,null,null,null,null,null,null,null,null,null,null,null,null,null,null,null,null,null,null,null,null,null,null,null,null,null,null,null,null,null,null,null,null,null,null,null,"%",{"$f":"AX92/AY86","v":{"$error":"#DIV/0!"}},{"$f":"AY92/AY86","v":{"$error":"#DIV/0!"}},{"$f":"AZ92/AY86","v":{"$error":"#DIV/0!"}},null,null,null,null,null,null,null,null,null,null,null,null,null,null,null,null,null,"%",{"$f":"BS92/BT86","v":{"$error":"#DIV/0!"}},{"$f":"BT92/BT86","v":{"$error":"#DIV/0!"}},{"$f":"BU92/BT86","v":{"$error":"#DIV/0!"}},null,null,null,null,null,null,null,null,null,null,null,null,null,null,null,null,null,null,null,null,null,null,null,"%",{"$f":"CT92/CU86","v":{"$error":"#DIV/0!"}},{"$f":"CU92/CU86","v":{"$error":"#DIV/0!"}},{"$f":"CV92/CU86","v":{"$error":"#DIV/0!"}},null,null,null,null,null,null,null,null,null,null,null,null,null,null,null,null,null,null,null,null,null,null,null,null,null,null,null,null,null,null,null,null,null,null,null,null,null,null,null,null,null,null,null,null,null,null,null,null,null,null,null,null,null,null,null,null,null,null,null,null,null,null,null,null,null,"%",{"$f":"FK92/FL86","v":{"$error":"#DIV/0!"}},{"$f":"FL92/FL86","v":{"$error":"#DIV/0!"}},{"$f":"FM92/FL86","v":{"$error":"#DIV/0!"}}]
[null,null,null,null,null,null,null,null,null,null,null,null,null,null,null,null,null,null,null,null,null,null,null,null,null,null,null,null,null,null,null,null,null,null,null,null,null,null,null,null,null,null,null,null,null,null,null,null,"bal",{"$f":"AS106","v":0},{"$f":"AQ106","v":0},{"$f":"AR106","v":0},null,null,null,null,null,null,null,null,null,null,null,null,null,null,null,null,null,"bal",{"$f":"CD107","v":0},{"$f":"CB107","v":0},{"$f":"CC107","v":0},null,null,null,null,null,null,null,null,null,null,null,null,null,null,null,null,null,null,null,null,null,null,null,"bal",{"$f":"CO106","v":0},{"$f":"CM106","v":0},{"$f":"CN106","v":0},null,null,null,null,null,null,null,null,null,null,null,null,null,null,null,null,null,null,null,null,null,null,null,null,null,null,null,null,null,null,null,null,null,null,null,null,null,null,null,null,null,null,null,null,null,null,null,null,null,null,null,null,null,null,null,null,null,null,null,null,null,null,null,null,null,"bal",{"$f":"FV107","v":0},{"$f":"FT107","v":0},{"$f":"FU107","v":0}]
[null,null,null,null,null,null,null,null,null,null,null,null,null,null,null,null,null,null,null,null,null,null,null,null,null,null,null,null,null,null,null,null,null,null,null,null,null,null,null,null,null,null,null,null,null,null,null,null,null,8,9,"M",null,null,"raw","%",null,"bal","%","RNSE",null,null,null,null,null,null,null,null,null,null,8,9,"M",null,null,"raw","%",null,"bal","%","RNSE",null,null,null,null,null,null,null,null,null,null,null,null,null,null,null,null,8,9,"M",null,null,"raw","%",null,"bal","%","RNSE",null,null,null,null,null,null,null,null,null,null,null,null,null,null,null,"raw","%",null,"bal","%","RNSE",null,null,null,null,null,null,null,null,null,null,null,null,null,null,null,null,null,null,null,null,null,"raw","%",null,"bal","%","RNSE",null,null,null,null,null,null,null,null,null,null,8,9,"M",null,null,"raw","%",null,"bal","%","RNSE",null,null,null,null,null,null,null,null,null,null,null,null,null,null,null,null,null,null,null,null,null,"raw","%",null,"bal","%","RNSE",null,null,null,null,null,null,null,null,null,null,null,null,null,null,null,"raw","%",null,"bal","%","RNSE"]
[null,null,null,null,null,null,null,null,null,null,null,null,null,null,null,null,null,null,null,null,null,null,null,null,null,null,null,null,null,null,null,null,null,null,null,null,null,null,null,null,null,"imbal","target",{"$f":"IF(AO95<>\"\",AVERAGE(AR95,AO95),AR95)","v":0},null,null,null,null,"%",{"$f":"AX95/AZ86","v":{"$error":"#DIV/0!"}},{"$f":"AY95/AZ86","v":{"$error":"#DIV/0!"}},{"$f":"AZ95/AZ86","v":{"$error":"#DIV/0!"}},null,{"$f":"CHOOSE(1,\"<\",\"TURN\",8,BA97,BC94,BF94)","v":"<"},0,{"$f":"BC94/BK96","v":{"$error":"#DIV/0!"}},"<",{"$f":"AR105","v":0},{"$f":"BF94/BK95","v":{"$error":"#DIV/0!"}},{"$f":"RNSE(BF94,BC94)","v":"-"},null,"target",{"$f":"IF(BN95<>\"\",AVERAGE(BK95,BN95),BK95)","v":0},"imbal","target",{"$f":"IF(BK95<>\"\",AVERAGE(BN95,BK95),BN95)","v":0},null,null,null,"%",{"$f":"BS95/BU86","v":{"$error":"#DIV/0!"}},{"$f":"BT95/BU86","v":{"$error":"#DIV/0!"}},{"$f":"BU95/BU86","v":{"$error":"#DIV/0!"}},null,{"$f":"CHOOSE(1,\"<\",\"TURN\",8,BV97,BX94,CA94)","v":"<"},0,{"$f":"BX94/CG96","v":{"$error":"#DIV/0!"}},"<",{"$f":"CC106","v":0},{"$f":"CA94/CG95","v":{"$error":"#DIV/0!"}},{"$f":"RNSE(CA94,BX94)","v":"-"},null,null,"target",{"$f":"IF(CJ95<>\"\",AVERAGE(CG95,CJ95),CG95)","v":0},null,null,null,null,"imbal","target",{"$f":"IF(CK95<>\"\",AVERAGE(CN95,CK95),CN95)","v":0},null,null,null,null,"%",{"$f":"CT95/CV86","v":{"$error":"#DIV/0!"}},{"$f":"CU95/CV86","v":{"$error":"#DIV/0!"}},{"$f":"CV95/CV86","v":{"$error":"#DIV/0!"}},null,{"$f":"CHOOSE(1,\"<\",\"TURN\",8,CW97,CY94,DB94)","v":"<"},0,{"$f":"CY94/DG96","v":{"$error":"#DIV/0!"}},"<",{"$f":"CN105","v":0},{"$f":"DB94/DG95","v":{"$error":"#DIV/0!"}},{"$f":"RNSE(DB94,CY94)","v":"-"},null,"target",{"$f":"IF(DJ95<>\"\",AVERAGE(DG95,DJ95),DG95)","v":0},"imbal","target",{"$f":"IF(DG95<>\"\",AVERAGE(DJ95,DG95),DJ95)","v":0},null,null,null,null,null,null,null,null,{"$f":"CHOOSE(1,\"!\",\"TURN\",7,DR97,DT94,DW94)","v":"!"},0,{"$f":"DT94/EC96","v":{"$error":"#DIV/0!"}},"!",{"$f":"DZ115","v":0},{"$f":"DW94/EC95","v":{"$error":"#DIV/0!"}},{"$f":"RNSE(DW94,DT94)","v":"-"},null,null,"target",{"$f":"IF(EF95<>\"\",AVERAGE(EC95,EF95),EC95)","v":0},null,null,null,null,"imbal","target",{"$f":"IF(EG95<>\"\",AVERAGE(EJ95,EG95),EJ95)","v":0},null,null,null,null,null,null,null,null,null,{"$f":"CHOOSE(1,\"!\",\"TURN\",7,ES97,EU94,EX94)","v":"!"},0,{"$f":"EU94/FC96","v":{"$error":"#DIV/0!"}},"!",{"$f":"EK115","v":0},{"$f":"EX94/FC95","v":{"$error":"#DIV/0!"}},{"$f":"RNSE(EX94,EU94)","v":"-"},null,"target",{"$f":"IF(FF95<>\"\",AVERAGE(FC95,FF95),FC95)","v":0},"imbal","target",{"$f":"IF(FC95<>\"\",AVERAGE(FF95,FC95),FF95)","v":0},null,null,null,"%",{"$f":"FK95/FM86","v":{"$error":"#DIV/0!"}},{"$f":"FL95/FM86","v":{"$error":"#DIV/0!"}},{"$f":"FM95/FM86","v":{"$error":"#DIV/0!"}},null,{"$f":"CHOOSE(1,\"<\",\"TURN\",8,FN97,FP94,FS94)","v":"<"},0,{"$f":"FP94/FY96","v":{"$error":"#DIV/0!"}},"<",{"$f":"FU106","v":0},{"$f":"FS94/FY95","v":{"$error":"#DIV/0!"}},{"$f":"RNSE(FS94,FP94)","v":"-"},null,null,"target",{"$f":"IF(GB95<>\"\",AVERAGE(FY95,GB95),FY95)","v":0},null,null,null,null,"imbal","target",{"$f":"IF(GC95<>\"\",AVERAGE(GF95,GC95),GF95)","v":0},null,null,null,null,null,null,null,null,null,{"$f":"CHOOSE(1,\"!\",\"TURN\",7,GO97,GQ94,GT94)","v":"!"},0,{"$f":"GQ94/GY96","v":{"$error":"#DIV/0!"}},"!",{"$f":"GG115","v":0},{"$f":"GT94/GY95","v":{"$error":"#DIV/0!"}},{"$f":"RNSE(GT94,GQ94)","v":"-"},null,"target",{"$f":"IF(HB95<>\"\",AVERAGE(GY95,HB95),GY95)","v":0},"imbal","target",{"$f":"IF(GY95<>\"\",AVERAGE(HB95,GY95),HB95)","v":0},null,null,null,null,null,null,null,null,{"$f":"CHOOSE(1,\"!\",\"TURN\",7,HJ97,HL94,HO94)","v":"!"},0,{"$f":"HL94/HU96","v":{"$error":"#DIV/0!"}},"!",{"$f":"HR115","v":0},{"$f":"HO94/HU95","v":{"$error":"#DIV/0!"}},{"$f":"RNSE(HO94,HL94)","v":"-"},null,null,"target",{"$f":"IF(HX95<>\"\",AVERAGE(HU95,HX95),HU95)","v":0}]
[null,null,null,null,null,null,null,null,null,null,null,null,null,null,null,null,null,null,null,null,null,null,null,null,null,null,null,null,null,null,null,null,null,null,null,null,null,null,null,null,null,{"$f":"IF(AO95<>\"\",AO95-AR95,0)","v":0},"!",{"$f":"SUM(AV98,BF95,AX92)","v":0},null,null,null,null,"raw",0,0,0,null,{"$f":"CHOOSE(1,\"!\",\"TURN\",7,BA97,BC95,BF95)","v":"!"},0,{"$f":"BC95/BK96","v":{"$error":"#DIV/0!"}},"!",{"$f":"AS105","v":0},{"$f":"BF95/BK95","v":{"$error":"#DIV/0!"}},{"$f":"RNSE(BF95,BC95)","v":"-"},null,"!",{"$f":"SUM(BF94:BF96)","v":0},{"$f":"IF(BK95<>\"\",BK95-BN95,0)","v":0},"!",{"$f":"SUM(BQ98,CA95,BS92)","v":0},null,null,null,"raw",0,0,0,null,{"$f":"CHOOSE(1,\"!\",\"TURN\",7,BV97,BX95,CA95)","v":"!"},0,{"$f":"BX95/CG96","v":{"$error":"#DIV/0!"}},"!",{"$f":"CD106","v":0},{"$f":"CA95/CG95","v":{"$error":"#DIV/0!"}},{"$f":"RNSE(CA95,BX95)","v":"-"},null,null,"!",{"$f":"SUM(CA94:CA96)","v":0},null,null,null,null,{"$f":"IF(CK95<>\"\",CK95-CN95,0)","v":0},"!",{"$f":"SUM(CR98,DB95,CT92)","v":0},null,null,null,null,"raw",0,0,0,null,{"$f":"CHOOSE(1,\"!\",\"TURN\",7,CW97,CY95,DB95)","v":"!"},0,{"$f":"CY95/DG96","v":{"$error":"#DIV/0!"}},"!",{"$f":"CO105","v":0},{"$f":"DB95/DG95","v":{"$error":"#DIV/0!"}},{"$f":"RNSE(DB95,CY95)","v":"-"},null,"!",{"$f":"SUM(DB94:DB96)","v":0},{"$f":"IF(DG95<>\"\",DG95-DJ95,0)","v":0},"!",{"$f":"SUM(DT102,DM98,DW94)","v":0},null,null,null,null,null,null,null,null,{"$f":"CHOOSE(1,\">\",\"TURN\",6,DR97,DT95,DW95)","v":">"},0,{"$f":"DT95/EC96","v":{"$error":"#DIV/0!"}},">",{"$f":"DX115","v":0},{"$f":"DW95/EC95","v":{"$error":"#DIV/0!"}},"-",null,null,"!",{"$f":"SUM(DW94:DW96)","v":0},null,null,null,null,{"$f":"IF(EG95<>\"\",EG95-EJ95,0)","v":0},"!",{"$f":"SUM(EU102,EM98,EX94)","v":0},null,null,null,null,null,null,null,null,null,{"$f":"CHOOSE(1,\">\",\"TURN\",6,ES97,EU95,EX95)","v":">"},0,{"$f":"EU95/FC96","v":{"$error":"#DIV/0!"}},">",{"$f":"EI115","v":0},{"$f":"EX95/FC95","v":{"$error":"#DIV/0!"}},"-",null,"!",{"$f":"SUM(EX94:EX96)","v":0},{"$f":"IF(FC95<>\"\",FC95-FF95,0)","v":0},"!",{"$f":"SUM(FI98,FS95,FK92)","v":0},null,null,null,"raw",0,0,0,null,{"$f":"CHOOSE(1,\"!\",\"TURN\",7,FN97,FP95,FS95)","v":"!"},0,{"$f":"FP95/FY96","v":{"$error":"#DIV/0!"}},"!",{"$f":"FV106","v":0},{"$f":"FS95/FY95","v":{"$error":"#DIV/0!"}},{"$f":"RNSE(FS95,FP95)","v":"-"},null,null,"!",{"$f":"SUM(FS94:FS96)","v":0},null,null,null,null,{"$f":"IF(GC95<>\"\",GC95-GF95,0)","v":0},"!",{"$f":"SUM(GQ102,GI98,GT94)","v":0},null,null,null,null,null,null,null,null,null,{"$f":"CHOOSE(1,\">\",\"TURN\",6,GO97,GQ95,GT95)","v":">"},0,{"$f":"GQ95/GY96","v":{"$error":"#DIV/0!"}},">",{"$f":"GE115","v":0},{"$f":"GT95/GY95","v":{"$error":"#DIV/0!"}},"-",null,"!",{"$f":"SUM(GT94:GT96)","v":0},{"$f":"IF(GY95<>\"\",GY95-HB95,0)","v":0},"!",{"$f":"SUM(HL102,HE98,HO94)","v":0},null,null,null,null,null,null,null,null,{"$f":"CHOOSE(1,\">\",\"TURN\",6,HJ97,HL95,HO95)","v":">"},0,{"$f":"HL95/HU96","v":{"$error":"#DIV/0!"}},">",{"$f":"HP115","v":0},{"$f":"HO95/HU95","v":{"$error":"#DIV/0!"}},"-",null,null,"!",{"$f":"SUM(HO94:HO96)","v":0}]
[null,null,null,null,null,null,null,null,null,null,null,null,null,null,null,null,null,null,null,null,null,null,null,null,null,null,null,null,null,null,null,null,null,null,null,null,null,null,null,null,null,{"$f":"IF(AO96<>\"\",AO96-AR96,0)","v":0},"!",{"$f":"SUM(AY98,BC95,AX95)","v":0},null,null,null,"Default St",null,{"$f":"CHOOSE(1,8,\"TURN\",12,BA97,AX95,AX92)","v":8},{"$f":"CHOOSE(1,\"9\",\"TURN\",10,BA97,AY95,AY92)","v":"9"},{"$f":"CHOOSE(1,\"M\",\"TURN\",9,BA97,AZ95,AZ92)","v":"M"},null,{"$f":"CHOOSE(1,\"N\",\"TURN\",5,BA97,BC96,BF96)","v":"N"},0,{"$f":"BC96/BK96","v":{"$error":"#DIV/0!"}},"N",{"$f":"AQ105","v":0},{"$f":"BF96/BK95","v":{"$error":"#DIV/0!"}},{"$f":"RNSE(BF96,BC96)","v":"-"},null,"!",{"$f":"SUM(BC94:BC96)","v":0},{"$f":"IF(BK96<>\"\",BK96-BN96,0)","v":0},"!",{"$f":"SUM(BT98,BX99,BX95,BS95)","v":0},null,null,null,null,{"$f":"CHOOSE(1,8,\"TURN\",12,BV97,BS95,BS92)","v":8},{"$f":"CHOOSE(1,\"9\",\"TURN\",10,BV97,BT95,BT92)","v":"9"},{"$f":"CHOOSE(1,\"M\",\"TURN\",9,BV97,BU95,BU92)","v":"M"},null,{"$f":"CHOOSE(1,\"N\",\"TURN\",5,BV97,BX96,CA96)","v":"N"},0,{"$f":"BX96/CG96","v":{"$error":"#DIV/0!"}},"N",{"$f":"CB106","v":0},{"$f":"CA96/CG95","v":{"$error":"#DIV/0!"}},{"$f":"RNSE(CA96,BX96)","v":"-"},null,null,"!",{"$f":"SUM(BX94:BX96)","v":0},null,null,null,null,{"$f":"IF(CK96<>\"\",CK96-CN96,0)","v":0},"!",{"$f":"SUM(CU98,CY95,CT95)","v":0},null,null,null,"Default St",null,{"$f":"CHOOSE(1,8,\"TURN\",12,CW97,CT95,CT92)","v":8},{"$f":"CHOOSE(1,\"9\",\"TURN\",10,CW97,CU95,CU92)","v":"9"},{"$f":"CHOOSE(1,\"M\",\"TURN\",9,CW97,CV95,CV92)","v":"M"},null,{"$f":"CHOOSE(1,\"N\",\"TURN\",5,CW97,CY96,DB96)","v":"N"},0,{"$f":"CY96/DG96","v":{"$error":"#DIV/0!"}},"N",{"$f":"CM105","v":0},{"$f":"DB96/DG95","v":{"$error":"#DIV/0!"}},{"$f":"RNSE(DB96,CY96)","v":"-"},null,"!",{"$f":"SUM(CY94:CY96)","v":0},{"$f":"IF(DG96<>\"\",DG96-DJ96,0)","v":0},"!",{"$f":"SUM(DT99,DP98,DT94)","v":0},null,null,null,null,"Default St",null,null,null,{"$f":"CHOOSE(1,\"N\",\"TURN\",5,DR97,DT96,DW96)","v":"N"},0,{"$f":"DT96/EC96","v":{"$error":"#DIV/0!"}},"N",{"$f":"DY115","v":0},{"$f":"DW96/EC95","v":{"$error":"#DIV/0!"}},"-",null,null,"!",{"$f":"SUM(DT94:DT96)","v":0},null,null,null,null,{"$f":"IF(EG96<>\"\",EG96-EJ96,0)","v":0},"!",{"$f":"SUM(EU99,EP98,EU94)","v":0},null,null,null,null,"Default St",null,null,null,null,{"$f":"CHOOSE(1,\"N\",\"TURN\",5,ES97,EU96,EX96)","v":"N"},0,{"$f":"EU96/FC96","v":{"$error":"#DIV/0!"}},"N",{"$f":"EJ115","v":0},{"$f":"EX96/FC95","v":{"$error":"#DIV/0!"}},"-",null,"!",{"$f":"SUM(EU94:EU96)","v":0},{"$f":"IF(FC96<>\"\",FC96-FF96,0)","v":0},"!",{"$f":"SUM(FL98,FP99,FP95,FK95)","v":0},null,null,null,null,{"$f":"CHOOSE(1,8,\"TURN\",12,FN97,FK95,FK92)","v":8},{"$f":"CHOOSE(1,\"9\",\"TURN\",10,FN97,FL95,FL92)","v":"9"},{"$f":"CHOOSE(1,\"M\",\"TURN\",9,FN97,FM95,FM92)","v":"M"},null,{"$f":"CHOOSE(1,\"N\",\"TURN\",5,FN97,FP96,FS96)","v":"N"},0,{"$f":"FP96/FY96","v":{"$error":"#DIV/0!"}},"N",{"$f":"FT106","v":0},{"$f":"FS96/FY95","v":{"$error":"#DIV/0!"}},{"$f":"RNSE(FS96,FP96)","v":"-"},null,null,"!",{"$f":"SUM(FP94:FP96)","v":0},null,null,null,null,{"$f":"IF(GC96<>\"\",GC96-GF96,0)","v":0},"!",{"$f":"SUM(GQ99,GL98,GQ94)","v":0},null,null,null,null,"Default St",null,null,null,null,{"$f":"CHOOSE(1,\"N\",\"TURN\",5,GO97,GQ96,GT96)","v":"N"},0,{"$f":"GQ96/GY96","v":{"$error":"#DIV/0!"}},"N",{"$f":"GF115","v":0},{"$f":"GT96/GY95","v":{"$error":"#DIV/0!"}},"-",null,"!",{"$f":"SUM(GQ94:GQ96)","v":0},{"$f":"IF(GY96<>\"\",GY96-HB96,0)","v":0},"!",{"$f":"SUM(HL99,HH98,HL94)","v":0},null,null,null,null,"Default St",null,null,null,{"$f":"CHOOSE(1,\"N\",\"TURN\",5,HJ97,HL96,HO96)","v":"N"},0,{"$f":"HL96/HU96","v":{"$error":"#DIV/0!"}},"N",{"$f":"HQ115","v":0},{"$f":"HO96/HU95","v":{"$error":"#DIV/0!"}},"-",null,null,"!",{"$f":"SUM(HL94:HL96)","v":0}]
[null,null,null,null,null,null,null,null,null,null,null,null,null,null,null,null,null,null,null,null,null,null,null,null,null,null,null,null,null,null,null,null,null,null,null,null,null,null,null,null,null,null,null,null,null,null,null,null,null,null,null,null,1,null,null,null,null,null,null,null,null,null,null,null,null,null,null,null,null,null,null,null,null,2,null,null,null,null,null,null,null,null,null,null,null,null,null,null,null,null,null,null,null,null,null,null,null,null,null,null,1,null,null,null,null,null,null,null,null,null,null,null,null,null,null,null,null,null,null,null,null,2,null,null,null,null,null,null,null,null,null,null,null,null,null,null,null,null,null,null,null,null,null,null,null,null,null,null,1,null,null,null,null,null,null,null,null,null,null,null,null,null,null,null,null,null,null,null,null,2,null,null,null,null,null,null,null,null,null,null,null,null,null,null,null,null,null,null,null,null,null,null,null,null,null,null,1,null,null,null,null,null,null,null,null,null,null,null,null,null,null,null,null,null,null,null,null,2]
[null,null,null,null,null,null,null,null,null,null,null,null,null,null,null,null,null,null,null,null,null,null,null,null,null,null,null,null,null,null,null,null,null,null,null,null,null,null,null,null,null,{"$f":"SUM(AY98:AY100)","v":0},"\"",null,null,{"$f":"RNSE(AV98,AY98)","v":"-"},{"$f":"AV98/AP99","v":{"$error":"#DIV/0!"}},{"$f":"AS107","v":0},"O",{"$f":"AY98/AP98","v":{"$error":"#DIV/0!"}},0,{"$f":"CHOOSE(1,\"O\",\"TURN\",13,BA97,AY98,AV98)","v":"O"},null,null,null,null,null,null,null,null,{"$f":"SUM(BC96,AY95,AY100)","v":0},"\"",{"$f":"IF(BL98<>\"\",BL98-BI98,0)","v":0},{"$f":"SUM(BT98:BT100)","v":0},"\"",null,{"$f":"RNSE(BQ98,BT98)","v":"-"},{"$f":"BQ98/BL99","v":{"$error":"#DIV/0!"}},{"$f":"CD108","v":0},"O",{"$f":"BT98/BL98","v":{"$error":"#DIV/0!"}},0,{"$f":"CHOOSE(1,\"O\",\"TURN\",13,BV97,BT98,BQ98)","v":"O"},null,null,"Default St",null,null,null,null,null,null,{"$f":"SUM(BX96,BT95,BT100)","v":0},"\"",{"$f":"IF(CH98<>\"\",CH98-CE98,0)","v":0},null,null,null,null,{"$f":"SUM(CU98:CU100)","v":0},"\"",null,null,{"$f":"RNSE(CR98,CU98)","v":"-"},{"$f":"CR98/CL99","v":{"$error":"#DIV/0!"}},{"$f":"CO107","v":0},"O",{"$f":"CU98/CL98","v":{"$error":"#DIV/0!"}},0,{"$f":"CHOOSE(1,\"O\",\"TURN\",13,CW97,CU98,CR98)","v":"O"},null,null,null,null,null,null,null,null,{"$f":"SUM(CY96,CU95,CU100)","v":0},"\"",{"$f":"IF(DH98<>\"\",DH98-DE98,0)","v":0},{"$f":"SUM(DP98:DP100)","v":0},"\"",null,{"$f":"RNSE(DM98,DP98)","v":"-"},{"$f":"DM98/DH99","v":{"$error":"#DIV/0!"}},{"$f":"DZ116","v":0},"O",{"$f":"DP98/DH98","v":{"$error":"#DIV/0!"}},0,{"$f":"CHOOSE(1,\"O\",\"TURN\",13,DR97,DP98,DM98)","v":"O"},null,{"$f":"CHOOSE(1,\"L\",\"TURN\",1,DR97,DS99,DS102)","v":"L"},{"$f":"CHOOSE(1,\":\",\"TURN\",2,DR97,DT99,DT102)","v":":"},{"$f":"CHOOSE(1,\";\",\"TURN\",4,DR97,DU99,DU102)","v":";"},null,null,null,null,null,{"$f":"SUM(DT96,DP99,DU99)","v":0},"\"",{"$f":"IF(ED98<>\"\",ED98-EA98,0)","v":0},null,null,null,null,{"$f":"SUM(EP98:EP100)","v":0},"\"",null,{"$f":"RNSE(EM98,EP98)","v":"-"},{"$f":"EM98/EH99","v":{"$error":"#DIV/0!"}},{"$f":"EK116","v":0},"O",{"$f":"EP98/EH98","v":{"$error":"#DIV/0!"}},0,{"$f":"CHOOSE(1,\"O\",\"TURN\",13,ES97,EP98,EM98)","v":"O"},null,null,{"$f":"CHOOSE(1,\"L\",\"TURN\",1,ES97,ET99,ET102)","v":"L"},{"$f":"CHOOSE(1,\":\",\"TURN\",2,ES97,EU99,EU102)","v":":"},{"$f":"CHOOSE(1,\";\",\"TURN\",4,ES97,EV99,EV102)","v":";"},null,null,null,null,{"$f":"SUM(EU96,EP99,EV99)","v":0},"\"",{"$f":"IF(FD98<>\"\",FD98-FA98,0)","v":0},{"$f":"SUM(FL98:FL100)","v":0},"\"",null,{"$f":"RNSE(FI98,FL98)","v":"-"},{"$f":"FI98/FD99","v":{"$error":"#DIV/0!"}},{"$f":"FV108","v":0},"O",{"$f":"FL98/FD98","v":{"$error":"#DIV/0!"}},0,{"$f":"CHOOSE(1,\"O\",\"TURN\",13,FN97,FL98,FI98)","v":"O"},null,null,"Default St",null,null,null,null,null,null,{"$f":"SUM(FP96,FL95,FL100)","v":0},"\"",{"$f":"IF(FZ98<>\"\",FZ98-FW98,0)","v":0},null,null,null,null,{"$f":"SUM(GL98:GL100)","v":0},"\"",null,{"$f":"RNSE(GI98,GL98)","v":"-"},{"$f":"GI98/GD99","v":{"$error":"#DIV/0!"}},{"$f":"GG116","v":0},"O",{"$f":"GL98/GD98","v":{"$error":"#DIV/0!"}},0,{"$f":"CHOOSE(1,\"O\",\"TURN\",13,GO97,GL98,GI98)","v":"O"},null,null,{"$f":"CHOOSE(1,\"L\",\"TURN\",1,GO97,GP99,GP102)","v":"L"},{"$f":"CHOOSE(1,\":\",\"TURN\",2,GO97,GQ99,GQ102)","v":":"},{"$f":"CHOOSE(1,\";\",\"TURN\",4,GO97,GR99,GR102)","v":";"},null,null,null,null,{"$f":"SUM(GQ96,GL99,GR99)","v":0},"\"",{"$f":"IF(GZ98<>\"\",GZ98-GW98,0)","v":0},{"$f":"SUM(HH98:HH100)","v":0},"\"",null,{"$f":"RNSE(HE98,HH98)","v":"-"},{"$f":"HE98/GZ99","v":{"$error":"#DIV/0!"}},{"$f":"HR116","v":0},"O",{"$f":"HH98/GZ98","v":{"$error":"#DIV/0!"}},0,{"$f":"CHOOSE(1,\"O\",\"TURN\",13,HJ97,HH98,HE98)","v":"O"},null,{"$f":"CHOOSE(1,\"L\",\"TURN\",1,HJ97,HK99,HK102)","v":"L"},{"$f":"CHOOSE(1,\":\",\"TURN\",2,HJ97,HL99,HL102)","v":":"},{"$f":"CHOOSE(1,\";\",\"TURN\",4,HJ97,HM99,HM102)","v":";"},null,null,null,null,null,{"$f":"SUM(HL96,HH99,HM99)","v":0},"\"",{"$f":"IF(HV98<>\"\",HV98-HS98,0)","v":0}]
[null,null,null,null,null,null,null,null,null,null,null,null,null,null,null,null,null,null,null,null,null,null,null,null,null,null,null,null,null,null,null,null,null,null,null,null,null,null,null,null,null,{"$f":"SUM(AV98:AV100)","v":0},"\"",null,null,{"$f":"RNSE(AV99,AY99)","v":"-"},{"$f":"AV99/AP99","v":{"$error":"#DIV/0!"}},{"$f":"AR107","v":0},"=",{"$f":"AY99/AP98","v":{"$error":"#DIV/0!"}},0,{"$f":"CHOOSE(1,\"=\",\"TURN\",14,BA97,AY99,AV99)","v":"="},null,null,null,null,null,null,null,null,{"$f":"SUM(BF96,AY92,AV100)","v":0},"\"",{"$f":"IF(BL99<>\"\",BL99-BI99,0)","v":0},{"$f":"SUM(BQ98:BQ100)","v":0},"\"",null,{"$f":"RNSE(BQ99,BT99)","v":"-"},{"$f":"BQ99/BL99","v":{"$error":"#DIV/0!"}},{"$f":"CC108","v":0},"=",{"$f":"BT99/BL98","v":{"$error":"#DIV/0!"}},0,{"$f":"CHOOSE(1,\"=\",\"TURN\",14,BV97,BT99,BQ99)","v":"="},null,null,null,null,null,null,null,null,null,{"$f":"SUM(CA96,BT92,BQ100)","v":0},"\"",{"$f":"IF(CH99<>\"\",CH99-CE99,0)","v":0},null,null,null,null,{"$f":"SUM(CR98:CR100)","v":0},"\"",null,null,{"$f":"RNSE(CR99,CU99)","v":"-"},{"$f":"CR99/CL99","v":{"$error":"#DIV/0!"}},{"$f":"CN107","v":0},"=",{"$f":"CU99/CL98","v":{"$error":"#DIV/0!"}},0,{"$f":"CHOOSE(1,\"=\",\"TURN\",14,CW97,CU99,CR99)","v":"="},null,null,null,null,null,null,null,null,{"$f":"SUM(DB96,CU92,CR100)","v":0},"\"",{"$f":"IF(DH99<>\"\",DH99-DE99,0)","v":0},{"$f":"SUM(DM98:DM100)","v":0},"\"",null,{"$f":"RNSE(DM99,DP99)","v":"-"},{"$f":"DM99/DH99","v":{"$error":"#DIV/0!"}},{"$f":"DY116","v":0},"\"",{"$f":"DP99/DH98","v":{"$error":"#DIV/0!"}},0,{"$f":"CHOOSE(1,\"\"\"\",\"TURN\",15,DR97,DP99,DM99)","v":"\""},null,0,0,0,"raw",null,null,null,null,{"$f":"SUM(DW96,DM99,DU102)","v":0},"\"",{"$f":"IF(ED99<>\"\",ED99-EA99,0)","v":0},null,null,null,null,{"$f":"SUM(EM98:EM100)","v":0},"\"",null,{"$f":"RNSE(EM99,EP99)","v":"-"},{"$f":"EM99/EH99","v":{"$error":"#DIV/0!"}},{"$f":"EJ116","v":0},"\"",{"$f":"EP99/EH98","v":{"$error":"#DIV/0!"}},0,{"$f":"CHOOSE(1,\"\"\"\",\"TURN\",15,ES97,EP99,EM99)","v":"\""},null,null,0,0,0,"raw",null,null,null,{"$f":"SUM(EX96,EM99,EV102)","v":0},"\"",{"$f":"IF(FD99<>\"\",FD99-FA99,0)","v":0},{"$f":"SUM(FI98:FI100)","v":0},"\"",null,{"$f":"RNSE(FI99,FL99)","v":"-"},{"$f":"FI99/FD99","v":{"$error":"#DIV/0!"}},{"$f":"FU108","v":0},"=",{"$f":"FL99/FD98","v":{"$error":"#DIV/0!"}},0,{"$f":"CHOOSE(1,\"=\",\"TURN\",14,FN97,FL99,FI99)","v":"="},null,null,null,null,null,null,null,null,null,{"$f":"SUM(FS96,FL92,FI100)","v":0},"\"",{"$f":"IF(FZ99<>\"\",FZ99-FW99,0)","v":0},null,null,null,null,{"$f":"SUM(GI98:GI100)","v":0},"\"",null,{"$f":"RNSE(GI99,GL99)","v":"-"},{"$f":"GI99/GD99","v":{"$error":"#DIV/0!"}},{"$f":"GF116","v":0},"\"",{"$f":"GL99/GD98","v":{"$error":"#DIV/0!"}},0,{"$f":"CHOOSE(1,\"\"\"\",\"TURN\",15,GO97,GL99,GI99)","v":"\""},null,null,0,0,0,"raw",null,null,null,{"$f":"SUM(GT96,GI99,GR102)","v":0},"\"",{"$f":"IF(GZ99<>\"\",GZ99-GW99,0)","v":0},{"$f":"SUM(HE98:HE100)","v":0},"\"",null,{"$f":"RNSE(HE99,HH99)","v":"-"},{"$f":"HE99/GZ99","v":{"$error":"#DIV/0!"}},{"$f":"HQ116","v":0},"\"",{"$f":"HH99/GZ98","v":{"$error":"#DIV/0!"}},0,{"$f":"CHOOSE(1,\"\"\"\",\"TURN\",15,HJ97,HH99,HE99)","v":"\""},null,0,0,0,"raw",null,null,null,null,{"$f":"SUM(HO96,HE99,HM102)","v":0},"\"",{"$f":"IF(HV99<>\"\",HV99-HS99,0)","v":0}]
[null,null,null,null,null,null,null,null,null,null,null,null,null,null,null,null,null,null,null,null,null,null,null,null,null,null,null,null,null,null,null,null,null,null,null,null,null,null,null,null,null,{"$f":"IF(AM99<>\"\",AVERAGE(AP99,AM99),AP99)","v":0},"target",null,null,{"$f":"RNSE(AV100,AY100)","v":"-"},{"$f":"AV100/AP99","v":{"$error":"#DIV/0!"}},{"$f":"AQ107","v":0},"\"",{"$f":"AY100/AP98","v":{"$error":"#DIV/0!"}},0,{"$f":"CHOOSE(1,\"\"\"\",\"TURN\",15,BA97,AY100,AV100)","v":"\""},null,null,null,null,null,null,null,null,{"$f":"IF(BL99<>\"\",AVERAGE(BI99,BL99),BI99)","v":0},"target","imbal",{"$f":"IF(BI99<>\"\",AVERAGE(BL99,BI99),BL99)","v":0},"target",null,{"$f":"RNSE(BQ100,BT100)","v":"-"},{"$f":"BQ100/BL99","v":{"$error":"#DIV/0!"}},{"$f":"CB108","v":0},"\"",{"$f":"BT100/BL98","v":{"$error":"#DIV/0!"}},0,{"$f":"CHOOSE(1,\"\"\"\",\"TURN\",15,BV97,BT100,BQ100)","v":"\""},null,null,null,null,null,null,null,null,null,{"$f":"IF(CH99<>\"\",AVERAGE(CE99,CH99),CE99)","v":0},"target","imbal",null,null,null,null,{"$f":"IF(CI99<>\"\",AVERAGE(CL99,CI99),CL99)","v":0},"target",null,null,{"$f":"RNSE(CR100,CU100)","v":"-"},{"$f":"CR100/CL99","v":{"$error":"#DIV/0!"}},{"$f":"CM107","v":0},"\"",{"$f":"CU100/CL98","v":{"$error":"#DIV/0!"}},0,{"$f":"CHOOSE(1,\"\"\"\",\"TURN\",15,CW97,CU100,CR100)","v":"\""},null,null,null,null,null,null,null,null,{"$f":"IF(DH99<>\"\",AVERAGE(DE99,DH99),DE99)","v":0},"target","imbal",{"$f":"IF(DE99<>\"\",AVERAGE(DH99,DE99),DH99)","v":0},"target",null,{"$f":"RNSE(DM100,DP100)","v":"-"},{"$f":"DM100/DH99","v":{"$error":"#DIV/0!"}},{"$f":"DX116","v":0},"?",{"$f":"DP100/DH98","v":{"$error":"#DIV/0!"}},0,{"$f":"CHOOSE(1,\"?\",\"TURN\",16,DR97,DP100,DM100)","v":"?"},null,{"$f":"DS99/DS108","v":{"$error":"#DIV/0!"}},{"$f":"DT99/DS108","v":{"$error":"#DIV/0!"}},{"$f":"DU99/DS108","v":{"$error":"#DIV/0!"}},"%",null,null,null,null,{"$f":"IF(ED99<>\"\",AVERAGE(EA99,ED99),EA99)","v":0},"target","imbal",null,null,null,null,{"$f":"IF(EE99<>\"\",AVERAGE(EH99,EE99),EH99)","v":0},"target",null,{"$f":"RNSE(EM100,EP100)","v":"-"},{"$f":"EM100/EH99","v":{"$error":"#DIV/0!"}},{"$f":"EI116","v":0},"?",{"$f":"EP100/EH98","v":{"$error":"#DIV/0!"}},0,{"$f":"CHOOSE(1,\"?\",\"TURN\",16,ES97,EP100,EM100)","v":"?"},null,null,{"$f":"ET99/ET108","v":{"$error":"#DIV/0!"}},{"$f":"EU99/ET108","v":{"$error":"#DIV/0!"}},{"$f":"EV99/ET108","v":{"$error":"#DIV/0!"}},"%",null,null,null,{"$f":"IF(FD99<>\"\",AVERAGE(FA99,FD99),FA99)","v":0},"target","imbal",{"$f":"IF(FA99<>\"\",AVERAGE(FD99,FA99),FD99)","v":0},"target",null,{"$f":"RNSE(FI100,FL100)","v":"-"},{"$f":"FI100/FD99","v":{"$error":"#DIV/0!"}},{"$f":"FT108","v":0},"\"",{"$f":"FL100/FD98","v":{"$error":"#DIV/0!"}},0,{"$f":"CHOOSE(1,\"\"\"\",\"TURN\",15,FN97,FL100,FI100)","v":"\""},null,null,null,null,null,null,null,null,null,{"$f":"IF(FZ99<>\"\",AVERAGE(FW99,FZ99),FW99)","v":0},"target","imbal",null,null,null,null,{"$f":"IF(GA99<>\"\",AVERAGE(GD99,GA99),GD99)","v":0},"target",null,{"$f":"RNSE(GI100,GL100)","v":"-"},{"$f":"GI100/GD99","v":{"$error":"#DIV/0!"}},{"$f":"GE116","v":0},"?",{"$f":"GL100/GD98","v":{"$error":"#DIV/0!"}},0,{"$f":"CHOOSE(1,\"?\",\"TURN\",16,GO97,GL100,GI100)","v":"?"},null,null,{"$f":"GP99/GP108","v":{"$error":"#DIV/0!"}},{"$f":"GQ99/GP108","v":{"$error":"#DIV/0!"}},{"$f":"GR99/GP108","v":{"$error":"#DIV/0!"}},"%",null,null,null,{"$f":"IF(GZ99<>\"\",AVERAGE(GW99,GZ99),GW99)","v":0},"target","imbal",{"$f":"IF(GW99<>\"\",AVERAGE(GZ99,GW99),GZ99)","v":0},"target",null,{"$f":"RNSE(HE100,HH100)","v":"-"},{"$f":"HE100/GZ99","v":{"$error":"#DIV/0!"}},{"$f":"HP116","v":0},"?",{"$f":"HH100/GZ98","v":{"$error":"#DIV/0!"}},0,{"$f":"CHOOSE(1,\"?\",\"TURN\",16,HJ97,HH100,HE100)","v":"?"},null,{"$f":"HK99/HK108","v":{"$error":"#DIV/0!"}},{"$f":"HL99/HK108","v":{"$error":"#DIV/0!"}},{"$f":"HM99/HK108","v":{"$error":"#DIV/0!"}},"%",null,null,null,null,{"$f":"IF(HV99<>\"\",AVERAGE(HS99,HV99),HS99)","v":0},"target","imbal"]
[null,null,null,null,null,null,null,null,null,null,null,null,null,null,null,null,null,null,null,null,null,null,null,null,null,null,null,null,null,null,null,null,null,null,null,null,null,null,null,null,null,null,null,null,null,"RNSE","%","bal",null,"%","raw",null,null,null,null,null,null,null,null,null,null,null,null,null,null,null,"RNSE","%","bal",null,"%","raw",null,null,null,null,null,null,null,null,null,null,null,null,null,null,null,null,null,null,null,null,null,"RNSE","%","bal",null,"%","raw",null,null,null,null,null,null,null,null,null,null,null,null,"",null,null,"RNSE","%","bal",null,"%","raw",null,null,"L",":",";",null,null,null,null,null,null,null,null,null,null,null,null,"",null,null,"RNSE","%","bal",null,"%","raw",null,null,null,"L",":",";",null,null,null,null,null,null,null,null,null,null,"RNSE","%","bal",null,"%","raw",null,null,null,null,null,null,null,null,null,null,null,null,null,null,null,null,null,"",null,null,"RNSE","%","bal",null,"%","raw",null,null,null,"L",":",";",null,null,null,null,null,null,null,"",null,null,"RNSE","%","bal",null,"%","raw",null,null,"L",":",";"]
[null,null,null,null,null,null,null,null,null,null,null,null,null,null,null,null,null,null,null,null,null,null,null,null,null,null,null,null,null,null,null,null,null,null,null,null,null,null,null,null,null,null,null,null,null,null,null,null,null,null,null,null,null,null,null,null,null,null,null,null,null,null,null,null,null,null,null,null,null,null,null,null,null,null,null,null,null,null,null,null,null,null,null,null,null,null,null,null,null,null,null,null,null,null,null,null,null,null,null,null,null,null,null,null,null,null,null,null,null,null,null,null,null,null,null,null,null,null,null,null,null,null,{"$f":"DX114","v":0},{"$f":"DZ114","v":0},{"$f":"DY114","v":0},"bal",null,null,null,null,null,null,null,null,null,null,null,null,null,null,null,null,null,null,null,null,null,null,null,{"$f":"EI114","v":0},{"$f":"EK114","v":0},{"$f":"EJ114","v":0},"bal",null,null,null,null,null,null,null,null,null,null,null,null,null,null,null,null,null,null,null,null,null,null,null,null,null,null,null,null,null,null,null,null,null,null,null,null,null,null,null,null,null,null,null,null,{"$f":"GE114","v":0},{"$f":"GG114","v":0},{"$f":"GF114","v":0},"bal",null,null,null,null,null,null,null,null,null,null,null,null,null,null,null,null,null,{"$f":"HP114","v":0},{"$f":"HR114","v":0},{"$f":"HQ114","v":0},"bal"]
[null,null,null,null,null,null,null,null,null,null,null,null,null,null,null,null,null,null,null,null,null,null,null,null,null,null,null,null,null,null,null,null,null,null,null,null,null,null,null,null,null,"Local OD Estimated",null,null,null,null,null,null,null,null,null,null,null,null,null,null,null,null,null,null,null,null,null,null,null,null,null,null,null,null,null,null,null,null,null,null,null,null,null,null,null,null,null,null,null,null,null,null,null,"Local OD Estimated",null,null,null,null,null,null,null,null,null,null,null,null,null,null,null,null,null,null,null,null,null,null,null,null,null,null,null,null,null,null,null,null,{"$f":"DS102/DT108","v":{"$error":"#DIV/0!"}},{"$f":"DT102/DT108","v":{"$error":"#DIV/0!"}},{"$f":"DU102/DT108","v":{"$error":"#DIV/0!"}},"%",null,null,null,null,null,null,null,null,null,null,null,null,null,null,null,null,null,null,null,null,null,null,null,{"$f":"ET102/EU108","v":{"$error":"#DIV/0!"}},{"$f":"EU102/EU108","v":{"$error":"#DIV/0!"}},{"$f":"EV102/EU108","v":{"$error":"#DIV/0!"}},"%",null,null,null,null,null,null,null,null,null,null,null,null,null,null,null,null,null,null,null,null,null,null,null,null,null,null,null,null,null,null,null,null,null,null,null,null,null,null,null,null,null,null,null,null,{"$f":"GP102/GQ108","v":{"$error":"#DIV/0!"}},{"$f":"GQ102/GQ108","v":{"$error":"#DIV/0!"}},{"$f":"GR102/GQ108","v":{"$error":"#DIV/0!"}},"%",null,null,null,null,null,null,null,null,null,null,null,null,null,null,null,null,null,{"$f":"HK102/HL108","v":{"$error":"#DIV/0!"}},{"$f":"HL102/HL108","v":{"$error":"#DIV/0!"}},{"$f":"HM102/HL108","v":{"$error":"#DIV/0!"}},"%"]
[null,null,null,null,null,null,null,null,null,null,null,null,null,null,null,null,null,null,null,null,null,null,null,null,null,null,null,null,null,null,null,null,null,null,null,null,null,null,null,null,null,{"$f":"\"local_od_est_\"&BA97","v":"local_od_est_1"},2,3,4,"est","tgt","err",null,null,null,null,null,null,null,null,null,null,null,null,null,null,null,null,null,null,null,null,null,null,null,null,null,null,null,null,null,null,"Local OD Estimated",null,null,null,null,null,null,null,null,null,null,{"$f":"\"local_od_est_\"&CW97","v":"local_od_est_1"},2,3,4,"est","tgt","err",null,null,null,null,null,null,null,null,null,null,null,null,null,null,null,null,null,null,null,null,null,null,null,null,null,null,{"$f":"RNSE(DS102,DS99)","v":"-"},"-",{"$f":"RNSE(DU102,DU99)","v":"-"},"RNSE",null,null,null,null,null,null,null,null,null,null,null,null,null,null,null,null,null,null,null,null,null,null,null,{"$f":"RNSE(ET102,ET99)","v":"-"},"-",{"$f":"RNSE(EV102,EV99)","v":"-"},"RNSE",null,null,null,null,null,null,null,null,null,null,null,null,null,null,null,null,null,null,null,null,null,"Local OD Estimated",null,null,null,null,null,null,null,null,null,null,null,null,null,null,null,null,null,null,null,null,null,null,{"$f":"RNSE(GP102,GP99)","v":"-"},"-",{"$f":"RNSE(GR102,GR99)","v":"-"},"RNSE",null,null,null,null,null,null,null,null,null,null,null,null,null,null,null,null,null,{"$f":"RNSE(HK102,HK99)","v":"-"},"-",{"$f":"RNSE(HM102,HM99)","v":"-"},"RNSE"]
[null,null,null,null,null,null,null,null,null,null,null,null,null,null,null,null,null,null,null,null,null,null,null,null,null,null,null,null,null,null,null,null,null,null,null,null,null,null,null,null,null,2,{"$f":"AQ85","v":0},0,0,{"$f":"SUM(AQ105:AS105)","v":0},{"$f":"AU85","v":0},{"$f":"IFERROR(ABS(AT105-AU105)/AU105,0)","v":0},null,null,null,null,null,null,null,null,null,null,null,null,null,null,null,null,null,null,null,null,null,null,null,null,null,null,null,null,null,null,{"$f":"\"local_od_est_\"&BV97","v":"local_od_est_2"},2,3,4,"est","tgt","err",null,null,null,null,2,{"$f":"CM85","v":0},0,0,{"$f":"SUM(CM105:CO105)","v":0},{"$f":"CQ85","v":0},{"$f":"IFERROR(ABS(CP105-CQ105)/CQ105,0)","v":0},null,null,null,null,null,null,null,null,null,null,null,null,null,null,null,null,null,null,null,null,null,null,null,null,null,null,null,null,null,null,null,null,null,null,null,null,null,null,null,null,null,null,null,null,null,null,null,null,null,null,null,null,null,null,null,null,null,null,null,null,null,null,null,null,null,null,null,null,null,null,null,null,null,null,null,null,null,null,{"$f":"\"local_od_est_\"&FN97","v":"local_od_est_2"},2,3,4,"est","tgt","err"]
[null,null,null,null,null,null,null,null,null,null,null,null,null,null,null,null,null,null,null,null,null,null,null,null,null,null,null,null,null,null,null,null,null,null,null,null,null,null,null,null,null,3,0,0,0,{"$f":"SUM(AQ106:AS106)","v":0},{"$f":"AU86","v":0},0,null,null,null,null,null,null,null,null,null,null,null,null,null,null,null,null,null,null,null,null,null,null,null,null,null,null,null,null,null,null,2,{"$f":"CB76","v":0},0,0,{"$f":"SUM(CB106:CD106)","v":0},{"$f":"CF76","v":0},{"$f":"IFERROR(ABS(CE106-CF106)/CF106,0)","v":0},null,null,null,null,3,{"$f":"CM86","v":0},0,0,{"$f":"SUM(CM106:CO106)","v":0},{"$f":"CQ86","v":0},0,null,null,null,null,null,null,null,null,null,null,null,null,null,null,null,null,null,null,null,null,null,null,null,null,null,null,null,null,null,null,null,null,null,null,null,null,null,null,null,null,null,null,null,null,null,null,null,null,null,null,null,null,null,null,null,null,null,null,null,null,null,null,null,null,null,null,null,null,null,null,null,null,null,null,null,null,null,null,2,{"$f":"FT76","v":0},0,0,{"$f":"SUM(FT106:FV106)","v":0},{"$f":"FX76","v":0},{"$f":"IFERROR(ABS(FW106-FX106)/FX106,0)","v":0}]
[null,null,null,null,null,null,null,null,null,null,null,null,null,null,null,null,null,null,null,null,null,null,null,null,null,null,null,null,null,null,null,null,null,null,null,null,null,null,null,null,null,4,0,0,0,{"$f":"SUM(AQ107:AS107)","v":0},{"$f":"AU87","v":0},0,null,"",null,null,null,null,null,null,null,null,null,null,null,null,null,null,null,null,null,null,null,null,null,null,null,null,null,null,null,null,3,0,0,0,{"$f":"SUM(CB107:CD107)","v":0},{"$f":"CF77","v":0},0,null,null,null,null,4,{"$f":"CM87","v":0},0,0,{"$f":"SUM(CM107:CO107)","v":0},{"$f":"CQ87","v":0},0,null,"",null,null,null,null,null,null,null,null,null,null,null,null,null,null,null,null,null,null,null,null,{"$f":"IF(DP110<>\"\",DP110,DP107)","v":0},{"$f":"SUM(DS102,DW95,DM100)","v":0},{"$f":"SUM(DS99,DT95,DP100)","v":0},null,"#","#","target","",null,null,null,null,null,null,null,null,null,null,null,null,null,null,null,null,null,null,null,{"$f":"IF(EQ110<>\"\",EQ110,EQ107)","v":0},{"$f":"SUM(ET102,EX95,EM100)","v":0},{"$f":"SUM(ET99,EU95,EP100)","v":0},null,"#","#","target","",null,null,null,null,null,null,null,null,null,null,null,null,null,null,null,null,null,null,null,null,null,3,0,0,0,{"$f":"SUM(FT107:FV107)","v":0},{"$f":"FX77","v":0},0,null,null,null,null,null,null,null,null,null,null,null,null,{"$f":"IF(GM110<>\"\",GM110,GM107)","v":0},{"$f":"SUM(GP102,GT95,GI100)","v":0},{"$f":"SUM(GP99,GQ95,GL100)","v":0},null,"#","#","target","",null,null,null,null,null,null,null,null,null,null,null,null,null,{"$f":"IF(HH110<>\"\",HH110,HH107)","v":0},{"$f":"SUM(HK102,HO95,HE100)","v":0},{"$f":"SUM(HK99,HL95,HH100)","v":0},null,"#","#","target",""]
[null,null,null,null,null,null,null,null,null,null,null,null,null,null,null,null,null,null,null,null,null,null,null,null,null,null,null,null,null,null,null,null,null,null,null,null,null,null,null,null,null,"est",{"$f":"SUM(AQ105:AQ107)","v":0},{"$f":"SUM(AR105:AR107)","v":0},{"$f":"SUM(AS105:AS107)","v":0},null,null,null,null,null,null,null,null,null,null,null,null,null,null,null,null,null,null,null,null,null,null,null,null,null,null,null,null,null,null,null,null,null,4,0,0,0,{"$f":"SUM(CB108:CD108)","v":0},{"$f":"CF78","v":0},0,null,null,null,null,"est",{"$f":"SUM(CM105:CM107)","v":0},{"$f":"SUM(CN105:CN107)","v":0},{"$f":"SUM(CO105:CO107)","v":0},null,null,null,null,null,null,null,null,null,null,null,null,null,null,null,null,null,null,null,null,null,null,null,null,null,"target","$","$",null,{"$f":"SUM(DS99:DU99)","v":0},{"$f":"SUM(DS102:DU102)","v":0},{"$f":"IF(DT111<>\"\",DT111,DT108)","v":0},null,null,null,null,null,null,null,null,null,null,null,null,null,null,null,null,null,null,null,null,"target","$","$",null,{"$f":"SUM(ET99:EV99)","v":0},{"$f":"SUM(ET102:EV102)","v":0},{"$f":"IF(EU111<>\"\",EU111,EU108)","v":0},null,null,null,null,null,null,null,null,null,null,null,null,null,null,null,null,null,null,null,null,null,null,4,0,0,0,{"$f":"SUM(FT108:FV108)","v":0},{"$f":"FX78","v":0},0,null,null,null,null,null,null,null,null,null,null,null,null,"target","$","$",null,{"$f":"SUM(GP99:GR99)","v":0},{"$f":"SUM(GP102:GR102)","v":0},{"$f":"IF(GQ111<>\"\",GQ111,GQ108)","v":0},null,null,null,null,null,null,null,null,null,null,null,null,null,null,"target","$","$",null,{"$f":"SUM(HK99:HM99)","v":0},{"$f":"SUM(HK102:HM102)","v":0},{"$f":"IF(HL111<>\"\",HL111,HL108)","v":0}]
[null,null,null,null,null,null,null,null,null,null,null,null,null,null,null,null,null,null,null,null,null,null,null,null,null,null,null,null,null,null,null,null,null,null,null,null,null,null,null,null,null,"tgt",{"$f":"AQ89","v":0},{"$f":"AR89","v":0},{"$f":"AS89","v":0},null,null,null,null,null,null,null,null,null,null,null,null,null,null,null,null,null,null,null,null,null,null,null,null,null,null,null,null,null,null,null,null,null,"est",{"$f":"SUM(CB106:CB108)","v":0},{"$f":"SUM(CC106:CC108)","v":0},{"$f":"SUM(CD106:CD108)","v":0},null,null,null,null,null,null,null,"tgt",{"$f":"CM89","v":0},{"$f":"CN89","v":0},{"$f":"CO89","v":0},null,null,null,null,null,null,null,null,null,null,null,null,null,null,null,null,null,null,null,null,null,null,null,null,null,"imbal",{"$f":"IF(DP110<>\"\",DP110-DP107,0)","v":0},{"$f":"IF(DP110<>\"\",DP110-DQ107,0)","v":0},null,{"$f":"IF(DT111<>\"\",DS108-DT111,0)","v":0},{"$f":"IF(DT111<>\"\",DT108-DT111,0)","v":0},"imbal",null,null,null,null,null,null,null,null,null,null,null,null,null,null,null,null,null,null,null,null,"imbal",{"$f":"IF(EQ110<>\"\",EQ110-EQ107,0)","v":0},{"$f":"IF(EQ110<>\"\",EQ110-ER107,0)","v":0},null,{"$f":"IF(EU111<>\"\",ET108-EU111,0)","v":0},{"$f":"IF(EU111<>\"\",EU108-EU111,0)","v":0},"imbal",null,null,null,null,null,null,null,null,null,null,null,null,null,null,null,null,null,null,null,null,null,null,"est",{"$f":"SUM(FT106:FT108)","v":0},{"$f":"SUM(FU106:FU108)","v":0},{"$f":"SUM(FV106:FV108)","v":0},null,null,null,null,null,null,null,null,null,null,null,null,null,null,null,"imbal",{"$f":"IF(GM110<>\"\",GM110-GM107,0)","v":0},{"$f":"IF(GM110<>\"\",GM110-GN107,0)","v":0},null,{"$f":"IF(GQ111<>\"\",GP108-GQ111,0)","v":0},{"$f":"IF(GQ111<>\"\",GQ108-GQ111,0)","v":0},"imbal",null,null,null,null,null,null,null,null,null,null,null,null,null,null,"imbal",{"$f":"IF(HH110<>\"\",HH110-HH107,0)","v":0},{"$f":"IF(HH110<>\"\",HH110-HI107,0)","v":0},null,{"$f":"IF(HL111<>\"\",HK108-HL111,0)","v":0},{"$f":"IF(HL111<>\"\",HL108-HL111,0)","v":0},"imbal"]
[null,null,null,null,null,null,null,null,null,null,null,null,null,null,null,null,null,null,null,null,null,null,null,null,null,null,null,null,null,null,null,null,null,null,null,null,null,null,null,null,null,"err",{"$f":"IFERROR(ABS(AQ108-AQ109)/AQ109,0)","v":0},0,0,null,null,{"$f":"SUM(AQ110:AS110,AV105:AV107)","v":0},null,null,null,null,null,null,null,null,null,null,null,null,null,null,null,null,null,null,null,null,null,null,null,null,null,null,null,null,null,null,"tgt",{"$f":"CB80","v":0},{"$f":"CC80","v":0},{"$f":"CD80","v":0},null,null,null,null,null,null,null,"err",{"$f":"IFERROR(ABS(CM108-CM109)/CM109,0)","v":0},0,0,null,null,{"$f":"SUM(CM110:CO110,CR105:CR107)","v":0},null,null,null,null,null,null,null,null,null,null,null,null,null,null,null,null,null,null,null,null,null,null,null,null,null,null,null,{"$f":"CHOOSE(1,\"#\",\"LINK\",DU111,DT111)","v":"#"},null,null,null,null,null,null,null,null,null,null,null,null,null,null,null,null,null,null,null,null,null,null,null,null,null,null,{"$f":"CHOOSE(1,\"#\",\"LINK\",EV111,EU111)","v":"#"},null,null,null,null,null,null,null,null,null,null,null,null,null,null,null,null,null,null,null,null,null,null,null,"tgt",{"$f":"FT80","v":0},{"$f":"FU80","v":0},{"$f":"FV80","v":0},null,null,null,null,null,null,null,null,null,null,null,null,null,null,null,null,null,null,null,null,{"$f":"CHOOSE(1,\"#\",\"LINK\",GR111,GQ111)","v":"#"},null,null,null,null,null,null,null,null,null,null,null,null,null,null,null,null,null,null,null,null,{"$f":"CHOOSE(1,\"#\",\"LINK\",HM111,HL111)","v":"#"}]
[null,null,null,null,null,null,null,null,null,null,null,null,null,null,null,null,null,null,null,null,null,null,null,null,null,null,null,null,null,null,null,null,null,null,null,null,null,null,null,null,null,null,null,null,null,null,null,null,null,null,null,null,null,null,null,null,null,null,null,null,null,null,null,null,null,null,null,null,null,null,null,null,null,null,null,null,null,null,"err",{"$f":"IFERROR(ABS(CB109-CB110)/CB110,0)","v":0},0,0,null,null,{"$f":"SUM(CB111:CD111,CG106:CG108)","v":0},null,null,null,null,null,null,null,null,null,null,null,null,null,null,null,null,null,null,null,null,null,null,null,null,null,null,null,null,null,null,null,null,null,"LINK_ID",{"$f":"CHOOSE(1,\"$\",\"LINK\",DO111,DP110)","v":"$"},null,null,null,null,"LINK_ID",null,null,null,null,null,null,null,null,null,null,null,null,null,null,null,null,null,null,null,null,"LINK_ID",{"$f":"CHOOSE(1,\"$\",\"LINK\",EP111,EQ110)","v":"$"},null,null,null,null,"LINK_ID",null,null,null,null,null,null,null,null,null,null,null,null,null,null,null,null,null,null,null,null,null,null,"err",{"$f":"IFERROR(ABS(FT109-FT110)/FT110,0)","v":0},0,0,null,null,{"$f":"SUM(FT111:FV111,FY106:FY108)","v":0},null,null,null,null,null,null,null,null,null,null,null,null,"LINK_ID",{"$f":"CHOOSE(1,\"$\",\"LINK\",GL111,GM110)","v":"$"},null,null,null,null,"LINK_ID",null,null,null,null,null,null,null,null,null,null,null,null,null,null,"LINK_ID",{"$f":"CHOOSE(1,\"$\",\"LINK\",HG111,HH110)","v":"$"},null,null,null,null,"LINK_ID"]
[null,null,null,null,null,null,null,null,null,null,null,null,null,null,null,null,null,null,null,null,null,null,null,null,null,null,null,null,null,null,null,null,null,null,null,null,null,null,null,null,null,null,null,null,null,null,null,null,null,null,null,null,null,null,null,null,null,null,null,null,null,null,null,null,null,null,null,null,null,null,null,null,null,null,null,null,null,null,null,null,null,null,null,null,null,null,null,null,null,null,null,null,null,null,null,null,null,null,null,null,null,null,null,null,null,null,null,null,null,null,null,null,null,null,null,null,null,null,null,null,null,null,null,null,null,null,"Local OD Estimated",null,null,null,null,null,null,null,null,null,null,"Local OD Estimated",null,null,null,null,null,null,null,null,null,null,null,null,null,null,null,null,null,null,null,null,null,null,null,null,null,null,null,null,null,null,null,null,null,null,null,null,null,null,null,null,null,null,null,null,null,null,null,"Local OD Estimated",null,null,null,null,null,null,null,null,null,null,null,null,null,null,null,null,null,null,null,null,null,null,null,null,null,null,null,null,null,null,null,null,null,null,null,null,"Local OD Estimated"]
[null,null,null,null,null,null,null,null,null,null,null,null,null,null,null,null,null,null,null,null,null,null,null,null,null,null,null,null,null,null,null,null,null,null,null,null,null,null,null,null,null,null,null,null,null,null,null,null,null,null,null,null,null,null,null,null,null,null,null,null,null,null,null,null,null,null,null,null,null,null,null,null,null,null,null,null,null,null,null,null,null,null,null,null,null,null,null,null,null,null,null,null,null,null,null,null,null,null,null,null,null,null,null,null,null,null,null,null,null,null,null,null,null,null,null,null,null,null,null,null,null,null,null,null,null,null,{"$f":"\"local_od_est_\"&DR97","v":"local_od_est_2"},1,2,4,"est","tgt","err",null,null,null,null,{"$f":"\"local_od_est_\"&ES97","v":"local_od_est_1"},1,2,4,"est","tgt","err",null,null,null,null,null,null,null,null,null,null,null,null,null,null,null,null,null,null,null,null,null,null,null,null,null,null,null,null,null,null,null,null,null,null,null,null,null,null,null,null,null,{"$f":"\"local_od_est_\"&GO97","v":"local_od_est_1"},1,2,4,"est","tgt","err",null,null,null,null,null,null,null,null,null,null,null,null,null,null,null,null,null,null,null,null,null,null,null,null,null,null,null,null,null,null,{"$f":"\"local_od_est_\"&HJ97","v":"local_od_est_2"},1,2,4,"est","tgt","err"]
[null,null,null,null,null,null,null,null,null,null,null,null,null,null,null,null,null,null,null,null,null,null,null,null,null,null,null,null,null,null,null,null,null,null,null,null,null,null,null,null,null,null,null,null,null,null,null,null,null,null,null,null,null,null,null,null,null,null,null,null,null,null,null,null,null,null,null,null,null,null,null,null,null,null,null,null,null,null,null,null,null,null,null,null,null,null,null,null,null,null,null,null,null,null,null,null,null,null,null,null,null,null,null,null,null,null,null,null,null,null,null,null,null,null,null,null,null,null,null,null,null,null,null,null,null,null,1,{"$f":"DX85","v":0},0,0,{"$f":"SUM(DX114:DZ114)","v":0},{"$f":"EB85","v":0},{"$f":"IFERROR(ABS(EA114-EB114)/EB114,0)","v":0},null,null,null,null,1,{"$f":"EI85","v":0},0,0,{"$f":"SUM(EI114:EK114)","v":0},{"$f":"EM85","v":0},{"$f":"IFERROR(ABS(EL114-EM114)/EM114,0)","v":0},null,null,null,null,null,null,null,null,null,null,null,null,null,null,null,null,null,null,null,null,null,null,null,null,null,null,null,null,null,null,null,null,null,null,null,null,null,null,null,null,null,1,{"$f":"GE85","v":0},0,0,{"$f":"SUM(GE114:GG114)","v":0},{"$f":"GI85","v":0},{"$f":"IFERROR(ABS(GH114-GI114)/GI114,0)","v":0},null,null,null,null,null,null,null,null,null,null,null,null,null,null,null,null,null,null,null,null,null,null,null,null,null,null,null,null,null,null,1,{"$f":"HP85","v":0},0,0,{"$f":"SUM(HP114:HR114)","v":0},{"$f":"HT85","v":0},{"$f":"IFERROR(ABS(HS114-HT114)/HT114,0)","v":0}]
[null,null,null,null,null,null,null,null,null,null,null,null,null,null,null,null,null,null,null,null,null,null,null,null,null,null,null,null,null,null,null,null,null,null,null,null,null,null,null,null,null,null,null,null,null,null,null,null,null,null,null,null,null,null,null,null,null,null,null,null,null,null,null,null,null,null,null,null,null,null,null,null,null,null,null,null,null,null,null,null,null,null,null,null,null,null,null,null,null,null,null,null,null,null,null,null,null,null,null,null,null,null,null,null,null,null,null,null,null,null,null,null,null,null,null,null,null,null,null,null,null,null,null,null,null,null,2,0,0,0,{"$f":"SUM(DX115:DZ115)","v":0},{"$f":"EB86","v":0},{"$f":"IFERROR(ABS(EA115-EB115)/EB115,0)","v":0},null,null,null,null,2,0,0,0,{"$f":"SUM(EI115:EK115)","v":0},{"$f":"EM86","v":0},{"$f":"IFERROR(ABS(EL115-EM115)/EM115,0)","v":0},null,null,null,null,null,null,null,null,null,null,null,null,null,null,null,null,null,null,null,null,null,null,null,null,null,null,null,null,null,null,null,null,null,null,null,null,null,null,null,null,null,2,0,0,0,{"$f":"SUM(GE115:GG115)","v":0},{"$f":"GI86","v":0},{"$f":"IFERROR(ABS(GH115-GI115)/GI115,0)","v":0},null,null,null,null,null,null,null,null,null,null,null,null,null,null,null,null,null,null,null,null,null,null,null,null,null,null,null,null,null,null,2,0,0,0,{"$f":"SUM(HP115:HR115)","v":0},{"$f":"HT86","v":0},{"$f":"IFERROR(ABS(HS115-HT115)/HT115,0)","v":0}]
[null,null,null,null,null,null,null,null,null,null,null,null,null,null,null,null,null,null,null,null,null,null,null,null,null,null,null,null,null,null,null,null,null,null,null,null,null,null,null,null,null,null,null,null,null,null,null,null,null,null,null,null,null,null,null,null,null,null,null,null,null,null,null,null,null,null,null,null,null,null,null,null,null,null,null,null,null,null,null,null,null,null,null,null,null,null,null,null,null,null,null,null,null,null,null,null,null,null,null,null,null,null,null,null,null,null,null,null,null,null,null,null,null,null,null,null,null,null,null,null,null,null,null,null,null,null,4,0,0,0,{"$f":"SUM(DX116:DZ116)","v":0},{"$f":"EB87","v":0},{"$f":"IFERROR(ABS(EA116-EB116)/EB116,0)","v":0},null,null,null,null,4,0,0,0,{"$f":"SUM(EI116:EK116)","v":0},{"$f":"EM87","v":0},{"$f":"IFERROR(ABS(EL116-EM116)/EM116,0)","v":0},null,null,null,null,null,null,null,null,null,null,null,null,null,null,null,null,null,null,null,null,null,null,null,null,null,null,null,null,null,null,null,null,null,null,null,null,null,null,null,null,null,4,0,0,0,{"$f":"SUM(GE116:GG116)","v":0},{"$f":"GI87","v":0},{"$f":"IFERROR(ABS(GH116-GI116)/GI116,0)","v":0},null,null,null,null,null,null,null,null,null,null,null,null,null,null,null,null,null,null,null,null,null,null,null,null,null,null,null,null,null,null,4,0,0,0,{"$f":"SUM(HP116:HR116)","v":0},{"$f":"HT87","v":0},{"$f":"IFERROR(ABS(HS116-HT116)/HT116,0)","v":0}]
[null,null,null,null,null,null,null,null,null,null,null,null,null,null,null,null,null,null,null,null,null,null,null,null,null,null,null,null,null,null,null,null,null,null,null,null,null,null,null,null,null,null,null,null,null,null,null,null,null,null,null,null,null,null,null,null,null,null,null,null,null,null,null,null,null,null,null,null,null,null,null,null,null,null,null,null,null,null,null,null,null,null,null,null,null,null,null,null,null,null,null,null,null,null,null,null,null,null,null,null,null,null,null,null,null,null,null,null,null,null,null,null,null,null,null,null,null,null,null,null,null,null,null,null,null,null,"est",{"$f":"SUM(DX114:DX116)","v":0},{"$f":"SUM(DY114:DY116)","v":0},{"$f":"SUM(DZ114:DZ116)","v":0},null,null,null,null,null,null,null,"est",{"$f":"SUM(EI114:EI116)","v":0},{"$f":"SUM(EJ114:EJ116)","v":0},{"$f":"SUM(EK114:EK116)","v":0},null,null,null,null,null,null,null,null,null,null,null,null,null,null,null,null,null,null,null,null,null,null,null,null,null,null,null,null,null,null,null,null,null,null,null,null,null,null,null,null,null,null,null,null,"est",{"$f":"SUM(GE114:GE116)","v":0},{"$f":"SUM(GF114:GF116)","v":0},{"$f":"SUM(GG114:GG116)","v":0},null,null,null,null,null,null,null,null,null,null,null,null,null,null,null,null,null,null,null,null,null,null,null,null,null,null,null,null,null,null,null,null,null,"est",{"$f":"SUM(HP114:HP116)","v":0},{"$f":"SUM(HQ114:HQ116)","v":0},{"$f":"SUM(HR114:HR116)","v":0}]
[null,null,null,null,null,null,null,null,null,null,null,null,null,null,null,null,null,null,null,null,null,null,null,null,null,null,null,null,null,null,null,null,null,null,null,null,null,null,null,null,null,null,null,null,null,null,null,null,null,null,null,null,null,null,null,null,null,null,null,null,null,null,null,null,null,null,null,null,null,null,null,null,null,null,null,null,null,null,null,null,null,null,null,null,null,null,null,null,null,null,null,null,null,null,null,null,null,null,null,null,null,null,null,null,null,null,null,null,null,null,null,null,null,null,null,null,null,null,null,null,null,null,null,null,null,null,"tgt",{"$f":"DX89","v":0},{"$f":"DY89","v":0},{"$f":"DZ89","v":0},null,null,null,null,null,null,null,"tgt",{"$f":"EI89","v":0},{"$f":"EJ89","v":0},{"$f":"EK89","v":0},null,null,null,null,null,null,null,null,null,null,null,null,null,null,null,null,null,null,null,null,null,null,null,null,null,null,null,null,null,null,null,null,null,null,null,null,null,null,null,null,null,null,null,null,"tgt",{"$f":"GE89","v":0},{"$f":"GF89","v":0},{"$f":"GG89","v":0},null,null,null,null,null,null,null,null,null,null,null,null,null,null,null,null,null,null,null,null,null,null,null,null,null,null,null,null,null,null,null,null,null,"tgt",{"$f":"HP89","v":0},{"$f":"HQ89","v":0},{"$f":"HR89","v":0}]
[null,null,null,null,null,null,null,null,null,null,null,null,null,null,null,null,null,null,null,null,null,null,null,null,null,null,null,null,null,null,null,null,null,null,null,null,null,null,null,null,null,null,null,null,null,null,null,null,null,null,null,null,null,null,null,null,null,null,null,null,null,null,null,null,null,null,null,null,null,null,null,null,null,null,null,null,null,null,null,null,null,null,null,null,null,null,null,null,null,null,null,null,null,null,null,null,null,null,null,null,null,null,null,null,null,null,null,null,null,null,null,null,null,null,null,null,null,null,null,null,null,null,null,null,null,null,"err",{"$f":"IFERROR(ABS(DX117-DX118)/DX118,0)","v":0},{"$f":"IFERROR(ABS(DY117-DY118)/DY118,0)","v":0},{"$f":"IFERROR(ABS(DZ117-DZ118)/DZ118,0)","v":0},null,null,{"$f":"SUM(DX119:DZ119,EC114:EC116)","v":0},null,null,null,null,"err",{"$f":"IFERROR(ABS(EI117-EI118)/EI118,0)","v":0},{"$f":"IFERROR(ABS(EJ117-EJ118)/EJ118,0)","v":0},{"$f":"IFERROR(ABS(EK117-EK118)/EK118,0)","v":0},null,null,{"$f":"SUM(EI119:EK119,EN114:EN116)","v":0},null,null,null,null,null,null,null,null,null,null,null,null,null,null,null,null,null,null,null,null,null,null,null,null,null,null,null,null,null,null,null,null,null,null,null,null,null,null,null,null,null,"err",{"$f":"IFERROR(ABS(GE117-GE118)/GE118,0)","v":0},{"$f":"IFERROR(ABS(GF117-GF118)/GF118,0)","v":0},{"$f":"IFERROR(ABS(GG117-GG118)/GG118,0)","v":0},null,null,{"$f":"SUM(GE119:GG119,GJ114:GJ116)","v":0},null,null,null,null,null,null,null,null,null,null,null,null,null,null,null,null,null,null,null,null,null,null,null,null,null,null,null,null,null,null,"err",{"$f":"IFERROR(ABS(HP117-HP118)/HP118,0)","v":0},{"$f":"IFERROR(ABS(HQ117-HQ118)/HQ118,0)","v":0},{"$f":"IFERROR(ABS(HR117-HR118)/HR118,0)","v":0},null,null,{"$f":"SUM(HP119:HR119,HU114:HU116)","v":0}]
[]
[]
[]
[]
[]
[]
[]
[]
[]
[]
[]
[]
[]
[]
[]
[]
[]
[]
[]
[]
[]
[]
[]
[]
[]
[]
[]
[]
[]
[]
[]
[]
[]
[]
[]
[]
[]
[]
[]
[]
[]
[]
[]
[]
[]
[]
[]
[]
[]
[]
[]
[]
[]
[]
[]
[]
[]
[]
[]
[]
[]
[]
[null,null,null,null,null,null,null,null,null,null,null,null,null,null,null,null,null,null,null,null,null,null,null,null,null,null,null,null,null,null,null,null,null,null,null,null,null,null,null,null,null,null,null,{"$f":"CHOOSE(1,BA207&\":\",\"IX_NAME\",AS182)","v":"1:"},"Default St & SB I-999 Ramps",null,null,null,null,null,null,null,null,null,null,null,null,null,null,null,null,null,null,null,null,null,null,null,null,null,null,null,null,{"$f":"CHOOSE(1,BV207&\":\",\"IX_NAME\",BW182)","v":"2:"},"Default St & NB I-999 Ramps",null,null,null,null,null,null,null,null,null,null,null,null,null,null,null,null,null,null,null,null,null,null,{"$f":"CHOOSE(1,CW207&\":\",\"IX_NAME\",CU182)","v":"1:"},"Default St & SB I-999 Ramps",null,null,null,null,null,null,null,null,null,null,null,null,null,null,null,null,null,null,null,null,null,null,{"$f":"CHOOSE(1,DR207&\":\",\"IX_NAME\",DS182)","v":"2:"},"Default St & NB I-999 Ramps",null,null,null,null,null,null,null,null,null,null,null,null,null,null,null,null,null,null,{"$f":"CHOOSE(1,ES207&\":\",\"IX_NAME\",EM182)","v":"1:"},"Default St & SB I-999 Ramps",null,null,null,null,null,null,null,null,null,null,null,null,null,null,null,null,null,null,null,null,null,null,null,null,null,null,null,null,{"$f":"CHOOSE(1,FN207&\":\",\"IX_NAME\",FQ182)","v":"2:"},"Default St & NB I-999 Ramps",null,null,null,null,null,null,null,null,null,null,null,null,null,null,null,null,{"$f":"CHOOSE(1,GO207&\":\",\"IX_NAME\",GI182)","v":"1:"},"Default St & SB I-999 Ramps",null,null,null,null,null,null,null,null,null,null,null,null,null,null,null,null,null,null,null,null,null,null,null,null,{"$f":"CHOOSE(1,HJ207&\":\",\"IX_NAME\",HI182)","v":"2:"},"Default St & NB I-999 Ramps"]
[null,null,null,null,null,null,null,null,null,null,null,null,null,null,null,null,null,null,null,null,null,null,null,null,null,null,null,null,null,null,null,null,null,null,null,null,null,null,null,null,null,null,null,null,"Raw Count Date:",null,null,null,null,null,null,null,null,null,null,null,null,null,null,null,null,null,null,null,null,null,null,null,null,null,null,null,null,null,"Raw Count Date:",null,null,null,null,null,null,null,null,null,null,null,null,null,null,null,null,null,null,null,null,null,null,null,"Raw Count Date:",null,null,null,null,null,null,null,null,null,null,null,null,null,null,null,null,null,null,null,null,null,null,null,"Raw Count Date:",null,null,null,null,null,null,null,null,null,null,null,null,null,null,null,null,null,null,null,"Raw Count Date:",null,null,null,null,null,null,null,null,null,null,null,null,null,null,null,null,null,null,null,null,null,null,null,null,null,null,null,null,null,"Raw Count Date:",null,null,null,null,null,null,null,null,null,null,null,null,null,null,null,null,null,"Raw Count Date:",null,null,null,null,null,null,null,null,null,null,null,null,null,null,null,null,null,null,null,null,null,null,null,null,null,"Raw Count Date:"]
[null,null,null,null,null,null,null,null,null,null,null,null,null,null,null,null,null,null,null,null,null,null,null,null,null,null,null,null,null,null,null,null,null,null,null,null,null,null,null,null,null,null,null,null,null,null,null,null,null,null,null,null,null,null,null,null,null,null,null,null,null,null,null,null,null,null,null,null,null,null,null,null,null,null,null,null,null,"Local OD Raw",null,null,null,null,null,null,null,null,null,null,null,null,null,null,null,null,null,null,null,null,null,null,null,null,null,null,null,null,null,null,null,null,null,null,null,null,null,null,null,null,null,null,null,null,null,null,null,"Local OD Raw",null,null,null,null,null,null,null,null,null,null,null,"Local OD Raw",null,null,null,null,null,null,null,null,null,null,null,null,null,null,null,null,null,null,null,null,null,null,null,null,null,null,null,null,null,null,null,null,null,null,null,null,"Local OD Raw",null,null,null,null,null,null,null,null,null,null,"Local OD Raw"]
[null,null,null,null,null,null,null,null,null,null,null,null,null,null,null,null,null,null,null,null,null,null,null,null,null,null,null,null,null,null,null,null,null,null,null,null,null,null,null,null,null,null,null,null,null,null,null,null,null,null,null,null,null,null,null,null,null,null,null,null,null,null,null,null,null,null,null,null,null,null,null,null,null,null,null,null,null,{"$f":"\"local_od_raw_\"&BV207","v":"local_od_raw_2"},1,2,3,4,"est","tgt","err",null,null,null,null,null,null,null,null,null,null,null,null,null,null,null,null,null,null,null,null,null,null,null,null,null,null,null,null,null,null,null,null,null,null,null,null,null,null,null,null,{"$f":"\"local_od_raw_\"&DR207","v":"local_od_raw_2"},1,2,3,4,"est","tgt","err",null,null,null,null,{"$f":"\"local_od_raw_\"&ES207","v":"local_od_raw_1"},1,2,3,4,"est","tgt","err",null,null,null,null,null,null,null,null,null,null,null,null,null,null,null,null,null,null,null,null,null,null,null,null,null,null,null,null,null,{"$f":"\"local_od_raw_\"&FN207","v":"local_od_raw_2"},2,3,4,"est","tgt","err",null,null,null,null,{"$f":"\"local_od_raw_\"&GO207","v":"local_od_raw_1"},1,2,3,4,"est","tgt","err"]
[null,null,null,null,null,null,null,null,null,null,null,null,null,null,null,null,null,null,null,null,null,null,null,null,null,null,null,null,null,null,null,null,null,null,null,null,null,null,null,null,null,null,null,null,null,null,null,null,null,null,null,null,null,null,null,null,null,null,null,null,null,null,null,null,null,null,null,null,null,null,null,null,null,null,null,null,null,1,0,{"$f":"BY209","v":0},{"$f":"BX209","v":0},{"$f":"BW209","v":0},{"$f":"SUM(CA186:CD186)","v":0},{"$f":"BY218","v":0},{"$f":"IFERROR(ABS(CE186-CF186)/CF186,0)","v":0},null,null,null,null,null,null,null,null,null,null,null,null,null,null,null,null,null,null,null,null,null,null,null,null,null,null,null,null,null,null,null,null,null,null,null,null,null,null,null,null,1,0,{"$f":"DU209","v":0},{"$f":"DT209","v":0},{"$f":"DS209","v":0},{"$f":"SUM(DW186:DZ186)","v":0},{"$f":"DU218","v":0},{"$f":"IFERROR(ABS(EA186-EB186)/EB186,0)","v":0},null,null,null,null,1,0,0,0,0,{"$f":"SUM(EI186:EL186)","v":0},0,{"$f":"IFERROR(ABS(EM186-EN186)/EN186,0)","v":0},null,null,null,null,null,null,null,null,null,null,null,null,null,null,null,null,null,null,null,null,null,null,null,null,null,null,null,null,null,2,{"$f":"FP206","v":0},{"$f":"FP204","v":0},{"$f":"FP205","v":0},{"$f":"SUM(FT186:FV186)","v":0},{"$f":"FY204","v":0},{"$f":"IFERROR(ABS(FW186-FX186)/FX186,0)","v":0},null,null,null,null,1,0,0,0,0,{"$f":"SUM(GE186:GH186)","v":0},0,{"$f":"IFERROR(ABS(GI186-GJ186)/GJ186,0)","v":0}]
[null,null,null,null,null,null,null,null,null,null,null,null,null,null,null,null,null,null,null,null,null,null,null,null,null,null,null,null,null,null,null,null,null,null,null,null,null,null,null,null,null,null,null,null,null,null,null,null,null,null,null,null,null,null,null,null,null,null,null,null,null,null,null,null,null,null,null,null,null,null,null,null,null,null,null,null,null,2,0,{"$f":"BX206","v":0},{"$f":"BX204","v":0},{"$f":"BX205","v":0},{"$f":"SUM(CA187:CD187)","v":0},{"$f":"CG204","v":0},{"$f":"IFERROR(ABS(CE187-CF187)/CF187,0)","v":0},null,null,null,null,null,null,null,null,null,null,null,null,null,null,null,null,null,null,null,null,null,null,null,null,null,null,null,null,null,null,null,null,null,null,null,null,null,null,null,null,2,0,{"$f":"DT206","v":0},{"$f":"DT204","v":0},{"$f":"DT205","v":0},{"$f":"SUM(DW187:DZ187)","v":0},{"$f":"EC204","v":0},{"$f":"IFERROR(ABS(EA187-EB187)/EB187,0)","v":0},null,null,null,null,2,{"$f":"EU205","v":0},{"$f":"EU206","v":0},0,{"$f":"EU204","v":0},{"$f":"SUM(EI187:EL187)","v":0},{"$f":"FC204","v":0},{"$f":"IFERROR(ABS(EM187-EN187)/EN187,0)","v":0},null,null,null,null,null,null,null,null,null,null,null,null,null,null,null,null,null,null,null,null,null,null,null,null,null,null,null,null,null,3,{"$f":"FL205","v":0},{"$f":"FM205","v":0},{"$f":"FK205","v":0},{"$f":"SUM(FT187:FV187)","v":0},{"$f":"FK196","v":0},0,null,null,null,null,2,{"$f":"GQ205","v":0},{"$f":"GQ206","v":0},0,{"$f":"GQ204","v":0},{"$f":"SUM(GE187:GH187)","v":0},{"$f":"GY204","v":0},{"$f":"IFERROR(ABS(GI187-GJ187)/GJ187,0)","v":0}]
[null,null,null,null,null,null,null,null,null,null,null,null,null,null,null,null,null,null,null,null,null,null,null,null,null,null,null,null,null,null,null,null,null,null,null,null,null,null,null,null,null,null,null,null,null,null,null,null,null,null,null,null,null,null,null,null,null,null,null,null,null,null,null,null,null,null,null,null,null,null,null,null,null,null,null,null,null,3,0,0,0,0,{"$f":"SUM(CA188:CD188)","v":0},0,0,null,null,null,null,null,null,null,null,null,null,null,null,null,null,null,null,null,null,null,null,null,null,null,null,null,null,null,null,null,null,null,null,null,null,null,null,null,null,null,null,3,0,0,0,0,{"$f":"SUM(DW188:DZ188)","v":0},0,0,null,null,null,null,3,{"$f":"EQ205","v":0},{"$f":"ER205","v":0},0,{"$f":"EP205","v":0},{"$f":"SUM(EI188:EL188)","v":0},{"$f":"EP196","v":0},0,null,null,null,null,null,null,null,null,null,null,null,null,null,null,null,null,null,null,null,null,null,null,null,null,null,null,null,null,null,4,{"$f":"FL210","v":0},{"$f":"FL209","v":0},{"$f":"FL208","v":0},{"$f":"SUM(FT188:FV188)","v":0},{"$f":"FD210","v":0},0,null,null,null,null,3,{"$f":"GM205","v":0},{"$f":"GN205","v":0},0,{"$f":"GL205","v":0},{"$f":"SUM(GE188:GH188)","v":0},{"$f":"GL196","v":0},0]
[null,null,null,null,null,null,null,null,null,null,null,null,null,null,null,null,null,null,null,null,null,null,null,null,null,null,null,null,null,null,null,null,null,null,null,null,null,null,null,null,null,null,null,null,null,null,null,null,null,null,null,null,null,null,null,null,null,null,null,null,null,null,null,null,null,null,null,null,null,null,null,null,null,null,null,null,null,4,0,{"$f":"BT210","v":0},{"$f":"BT209","v":0},{"$f":"BT208","v":0},{"$f":"SUM(CA189:CD189)","v":0},{"$f":"BL210","v":0},0,null,null,null,null,null,null,null,null,null,null,null,null,null,null,null,null,null,null,null,null,null,null,null,null,null,null,null,null,null,null,null,null,null,null,null,null,null,null,null,null,4,0,{"$f":"DP210","v":0},{"$f":"DP209","v":0},{"$f":"DP208","v":0},{"$f":"SUM(DW189:DZ189)","v":0},{"$f":"DH210","v":0},0,null,null,null,null,4,{"$f":"EQ210","v":0},{"$f":"EQ209","v":0},0,{"$f":"EQ208","v":0},{"$f":"SUM(EI189:EL189)","v":0},{"$f":"EH210","v":0},0,null,null,null,null,null,null,null,null,null,null,null,null,null,null,null,null,null,null,null,null,null,null,null,null,null,null,null,null,null,"est",{"$f":"SUM(FT186:FT188)","v":0},{"$f":"SUM(FU186:FU188)","v":0},{"$f":"SUM(FV186:FV188)","v":0},null,null,null,null,null,null,null,4,{"$f":"GM210","v":0},{"$f":"GM209","v":0},0,{"$f":"GM208","v":0},{"$f":"SUM(GE189:GH189)","v":0},{"$f":"GD210","v":0},0]
[null,null,null,null,null,null,null,null,null,null,null,null,null,null,null,null,null,null,null,null,null,null,null,null,null,null,null,null,null,null,null,null,null,null,null,null,null,null,null,null,null,null,null,null,null,null,null,null,null,null,null,null,null,null,null,null,null,null,null,null,null,null,null,null,null,null,null,null,null,null,null,null,null,null,null,null,null,"est",{"$f":"SUM(CA186:CA189)","v":0},{"$f":"SUM(CB186:CB189)","v":0},{"$f":"SUM(CC186:CC189)","v":0},{"$f":"SUM(CD186:CD189)","v":0},null,null,null,null,null,null,null,null,null,null,null,null,null,null,null,null,null,null,null,null,null,null,null,null,null,null,null,null,null,null,null,null,null,null,null,null,null,null,null,null,null,null,null,"est",{"$f":"SUM(DW186:DW189)","v":0},{"$f":"SUM(DX186:DX189)","v":0},{"$f":"SUM(DY186:DY189)","v":0},{"$f":"SUM(DZ186:DZ189)","v":0},null,null,null,null,null,null,null,"est",{"$f":"SUM(EI186:EI189)","v":0},{"$f":"SUM(EJ186:EJ189)","v":0},{"$f":"SUM(EK186:EK189)","v":0},{"$f":"SUM(EL186:EL189)","v":0},null,null,null,null,null,null,null,null,null,null,null,null,null,null,null,null,null,null,null,null,null,null,null,null,null,null,null,null,null,null,null,null,"tgt",{"$f":"FW210","v":0},{"$f":"FQ197","v":0},{"$f":"FF204","v":0},null,null,null,null,null,null,null,"est",{"$f":"SUM(GE186:GE189)","v":0},{"$f":"SUM(GF186:GF189)","v":0},{"$f":"SUM(GG186:GG189)","v":0},{"$f":"SUM(GH186:GH189)","v":0}]
[null,null,null,null,null,null,null,null,null,null,null,null,null,null,null,null,null,null,null,null,null,null,null,null,null,null,null,null,null,null,null,null,null,null,null,null,null,null,null,null,null,null,null,null,null,null,null,null,null,null,null,null,null,null,null,null,null,null,null,null,null,null,null,null,null,null,null,null,null,null,null,null,null,null,null,null,null,"tgt",0,{"$f":"CE210","v":0},{"$f":"BX197","v":0},{"$f":"BN204","v":0},null,null,null,null,null,null,null,null,null,null,null,null,null,null,null,null,null,null,null,null,null,null,null,null,null,null,null,null,null,null,null,null,null,null,null,null,null,null,null,null,null,null,null,"tgt",0,{"$f":"EA210","v":0},{"$f":"DT197","v":0},{"$f":"DJ204","v":0},null,null,null,null,null,null,null,"tgt",{"$f":"EP218","v":0},{"$f":"FA210","v":0},0,{"$f":"EJ204","v":0},null,null,null,null,null,null,null,null,null,null,null,null,null,null,null,null,null,null,null,null,null,null,null,null,null,null,null,null,null,null,null,null,"err",{"$f":"IFERROR(ABS(FT189-FT190)/FT190,0)","v":0},0,0,null,null,{"$f":"SUM(FT191:FV191,FY186:FY188)","v":0},null,null,null,null,"tgt",{"$f":"GL218","v":0},{"$f":"GW210","v":0},0,{"$f":"GF204","v":0}]
[null,null,null,null,null,null,null,null,null,null,null,null,null,null,null,null,null,null,null,null,null,null,null,null,null,null,null,null,null,null,null,null,null,null,null,null,null,null,null,null,null,null,null,null,null,null,null,null,null,null,null,null,null,null,null,null,null,null,null,null,null,null,null,null,null,null,null,null,null,null,null,null,null,null,null,null,null,"err",{"$f":"IFERROR(ABS(CA190-CA191)/CA191,0)","v":0},{"$f":"IFERROR(ABS(CB190-CB191)/CB191,0)","v":0},0,0,null,null,{"$f":"SUM(CA192:CD192,CG186:CG189)","v":0},null,null,null,null,null,null,null,null,null,null,null,null,null,null,null,null,null,null,null,null,null,null,null,null,null,null,null,null,null,null,null,null,null,null,null,null,null,null,null,null,"err",{"$f":"IFERROR(ABS(DW190-DW191)/DW191,0)","v":0},{"$f":"IFERROR(ABS(DX190-DX191)/DX191,0)","v":0},0,0,null,null,{"$f":"SUM(DW192:DZ192,EC186:EC189)","v":0},null,null,null,null,"err",{"$f":"IFERROR(ABS(EI190-EI191)/EI191,0)","v":0},{"$f":"IFERROR(ABS(EJ190-EJ191)/EJ191,0)","v":0},0,0,null,null,{"$f":"SUM(EI192:EL192,EO186:EO189)","v":0},null,null,null,null,null,null,null,null,null,null,null,null,null,null,null,null,null,null,null,null,null,null,null,null,null,null,null,null,null,null,null,null,null,null,null,null,null,null,null,null,"err",{"$f":"IFERROR(ABS(GE190-GE191)/GE191,0)","v":0},{"$f":"IFERROR(ABS(GF190-GF191)/GF191,0)","v":0},0,0,null,null,{"$f":"SUM(GE192:GH192,GK186:GK189)","v":0}]
[null,null,null,null,null,null,null,null,null,null,null,null,null,null,null,null,null,null,null,null,null,null,null,null,null,null,null,null,null,null,null,null,null,null,null,null,null,null,null,null,null,"Local OD Raw",null,null,null,null,null,null,null,"LINK_ID",null,null,null,null,{"$f":"CHOOSE(1,\"#\",\"LINK\",BD193,BC194)","v":"#"},"LINK_ID",null,null,null,null,null,null,null,null,null,null,null,null,null,null,null,null,null,null,{"$f":"CHOOSE(1,\"#\",\"LINK\",BX193,BW194)","v":"#"},"LINK_ID",null,null,null,null,null,null,null,null,null,null,null,null,null,"Local OD Raw",null,null,null,null,null,null,null,null,null,null,null,null,null,null,null,null,null,null,null,null,null,null,null,null,null,null,null,null,null,null,null,null,{"$f":"CHOOSE(1,\"#\",\"LINK\",DT193,DS194)","v":"#"},"LINK_ID",null,null,null,null,null,null,null,null,null,null,null,null,null,null,null,null,null,null,null,null,null,"LINK_ID",null,null,null,null,null,null,null,null,null,null,null,null,null,null,null,null,null,null,null,null,"LINK_ID",null,null,null,null,{"$f":"CHOOSE(1,\"#\",\"LINK\",FQ193,FP194)","v":"#"},"LINK_ID",null,null,null,null,null,null,null,null,null,null,null,null,null,null,null,null,null,null,null,null,"LINK_ID",null,null,null,null,null,null,null,null,null,null,null,null,null,null,null,null,null,null,null,null,null,null,null,null,null,null,null,null,"Local OD Raw"]
[null,null,null,null,null,null,null,null,null,null,null,null,null,null,null,null,null,null,null,null,null,null,null,null,null,null,null,null,null,null,null,null,null,null,null,null,null,null,null,null,null,{"$f":"\"local_od_raw_\"&BA207","v":"local_od_raw_1"},2,3,4,"est","tgt","err",null,null,{"$f":"CHOOSE(1,\"$\",\"LINK\",AX193,AY193)","v":"$"},null,null,null,null,null,null,null,null,null,null,null,null,null,null,null,null,null,null,null,null,null,null,null,null,null,null,null,null,null,null,null,null,null,null,null,null,null,null,{"$f":"\"local_od_raw_\"&CW207","v":"local_od_raw_1"},1,2,4,"est","tgt","err",null,null,null,null,null,null,null,null,null,null,null,null,null,null,null,null,null,null,null,null,null,null,null,null,null,null,null,null,null,null,null,null,null,null,null,null,null,null,null,null,null,null,null,null,null,null,null,null,null,null,{"$f":"CHOOSE(1,\"$\",\"LINK\",EP193,EQ193)","v":"$"},null,null,null,null,null,null,null,null,null,null,null,null,null,null,null,null,null,null,null,null,{"$f":"CHOOSE(1,\"$\",\"LINK\",FK193,FL193)","v":"$"},null,null,null,null,null,null,null,null,null,null,null,null,null,null,null,null,null,null,null,null,null,null,null,null,null,null,{"$f":"CHOOSE(1,\"$\",\"LINK\",GL193,GM193)","v":"$"},null,null,null,null,null,null,null,null,null,null,null,null,null,null,null,null,null,null,null,null,null,null,null,null,null,null,null,{"$f":"\"local_od_raw_\"&HJ207","v":"local_od_raw_2"},1,2,4,"est","tgt","err"]
[null,null,null,null,null,null,null,null,null,null,null,null,null,null,null,null,null,null,null,null,null,null,null,null,null,null,null,null,null,null,null,null,null,null,null,null,null,null,null,null,null,2,{"$f":"BC206","v":0},{"$f":"BC204","v":0},{"$f":"BC205","v":0},{"$f":"SUM(AQ195:AS195)","v":0},{"$f":"BK204","v":0},{"$f":"IFERROR(ABS(AT195-AU195)/AU195,0)","v":0},null,"imbal",{"$f":"IF(AY193<>\"\",AY196-AY193,0)","v":0},{"$f":"IF(AY193<>\"\",AZ196-AY193,0)","v":0},null,{"$f":"IF(BC194<>\"\",BC194-BB197,0)","v":0},{"$f":"IF(BC194<>\"\",BC194-BC197,0)","v":0},"imbal",null,null,null,null,null,null,null,null,null,null,null,null,null,null,null,null,null,{"$f":"IF(BW194<>\"\",BW194-BV197,0)","v":0},{"$f":"IF(BW194<>\"\",BW194-BW197,0)","v":0},"imbal",null,null,null,null,null,null,null,null,null,null,null,null,null,1,{"$f":"CX209","v":0},{"$f":"CZ209","v":0},{"$f":"CY209","v":0},{"$f":"SUM(CM195:CO195)","v":0},{"$f":"CZ218","v":0},{"$f":"IFERROR(ABS(CP195-CQ195)/CQ195,0)","v":0},null,null,null,null,null,null,null,null,null,null,null,null,null,null,null,null,null,null,null,null,null,null,null,null,null,{"$f":"IF(DS194<>\"\",DS194-DR197,0)","v":0},{"$f":"IF(DS194<>\"\",DS194-DS197,0)","v":0},"imbal",null,null,null,null,null,null,null,null,null,null,null,null,null,null,null,null,null,null,null,null,null,"imbal",{"$f":"IF(EQ193<>\"\",EQ196-EQ193,0)","v":0},{"$f":"IF(EQ193<>\"\",ER196-EQ193,0)","v":0},null,null,null,null,null,null,null,null,null,null,null,null,null,null,null,null,null,null,"imbal",{"$f":"IF(FL193<>\"\",FL196-FL193,0)","v":0},{"$f":"IF(FL193<>\"\",FM196-FL193,0)","v":0},null,{"$f":"IF(FP194<>\"\",FP194-FO197,0)","v":0},{"$f":"IF(FP194<>\"\",FP194-FP197,0)","v":0},"imbal",null,null,null,null,null,null,null,null,null,null,null,null,null,null,null,null,null,null,null,null,"imbal",{"$f":"IF(GM193<>\"\",GM196-GM193,0)","v":0},{"$f":"IF(GM193<>\"\",GN196-GM193,0)","v":0},null,null,null,null,null,null,null,null,null,null,null,null,null,null,null,null,null,null,null,null,null,null,null,null,null,null,1,{"$f":"HK209","v":0},{"$f":"HM209","v":0},{"$f":"HL209","v":0},{"$f":"SUM(HP195:HR195)","v":0},{"$f":"HM218","v":0},{"$f":"IFERROR(ABS(HS195-HT195)/HT195,0)","v":0}]
[null,null,null,null,null,null,null,null,null,null,null,null,null,null,null,null,null,null,null,null,null,null,null,null,null,null,null,null,null,null,null,null,null,null,null,null,null,null,null,null,null,3,{"$f":"AY205","v":0},{"$f":"AZ205","v":0},{"$f":"AX205","v":0},{"$f":"SUM(AQ196:AS196)","v":0},{"$f":"AX196","v":0},0,null,{"$f":"IF(AY193<>\"\",AY193,AY196)","v":0},{"$f":"SUM(AX202:AZ202)","v":0},{"$f":"SUM(AX205:AZ205)","v":0},null,"#","#","target",null,null,null,null,null,null,null,null,null,null,null,null,null,null,null,null,null,"#","#","target",null,null,null,null,null,null,null,null,null,null,null,null,null,2,{"$f":"CY205","v":0},{"$f":"CY206","v":0},{"$f":"CY204","v":0},{"$f":"SUM(CM196:CO196)","v":0},{"$f":"DG204","v":0},{"$f":"IFERROR(ABS(CP196-CQ196)/CQ196,0)","v":0},null,null,null,null,null,null,null,null,null,null,null,null,null,null,null,null,null,null,null,null,null,null,null,null,null,"#","#","target",null,null,null,null,null,null,null,null,null,null,null,null,null,null,null,null,null,null,null,null,null,{"$f":"IF(EQ193<>\"\",EQ193,EQ196)","v":0},{"$f":"SUM(EP202:ER202)","v":0},{"$f":"SUM(EP205:ER205)","v":0},null,null,null,null,null,null,null,null,null,null,null,null,null,null,null,null,null,null,{"$f":"IF(FL193<>\"\",FL193,FL196)","v":0},{"$f":"SUM(FK202:FM202)","v":0},{"$f":"SUM(FK205:FM205)","v":0},null,"#","#","target",null,null,null,null,null,null,null,null,null,null,null,null,null,null,null,null,null,null,null,null,{"$f":"IF(GM193<>\"\",GM193,GM196)","v":0},{"$f":"SUM(GL202:GN202)","v":0},{"$f":"SUM(GL205:GN205)","v":0},null,null,null,null,null,null,null,null,null,null,null,null,null,null,null,null,null,null,null,null,null,null,null,null,null,null,2,{"$f":"HL205","v":0},{"$f":"HL206","v":0},{"$f":"HL204","v":0},{"$f":"SUM(HP196:HR196)","v":0},{"$f":"HU204","v":0},{"$f":"IFERROR(ABS(HS196-HT196)/HT196,0)","v":0}]
[null,null,null,null,null,null,null,null,null,null,null,null,null,null,null,null,null,null,null,null,null,null,null,null,null,null,null,null,null,null,null,null,null,null,null,null,null,null,null,null,null,4,{"$f":"AY210","v":0},{"$f":"AY209","v":0},{"$f":"AY208","v":0},{"$f":"SUM(AQ197:AS197)","v":0},{"$f":"AP210","v":0},0,null,"target","$","$",null,{"$f":"SUM(AZ205,AY209,BC204)","v":0},{"$f":"SUM(AZ202,AV209,BF204)","v":0},{"$f":"IF(BC194<>\"\",BC194,BC197)","v":0},null,null,null,null,null,null,null,null,null,null,null,null,null,null,null,null,null,{"$f":"SUM(BT209,BX209,BX204)","v":0},{"$f":"SUM(BQ209,BX212,CA204)","v":0},{"$f":"IF(BW194<>\"\",BW194,BW197)","v":0},null,null,null,null,null,null,null,null,null,null,null,null,null,4,{"$f":"CT210","v":0},{"$f":"CT209","v":0},{"$f":"CT208","v":0},{"$f":"SUM(CM197:CO197)","v":0},{"$f":"CL210","v":0},{"$f":"IFERROR(ABS(CP197-CQ197)/CQ197,0)","v":0},null,null,null,null,null,null,null,null,null,null,null,null,null,null,null,null,null,null,null,null,null,null,null,null,null,{"$f":"SUM(DP209,DT209,DT204)","v":0},{"$f":"SUM(DM209,DT212,DW204)","v":0},{"$f":"IF(DS194<>\"\",DS194,DS197)","v":0},null,null,null,null,null,null,null,null,null,null,null,null,null,null,null,null,null,null,null,null,null,"target","$","$",null,null,null,null,null,null,null,null,null,null,null,null,null,null,null,null,null,null,"target","$","$",null,{"$f":"SUM(FM205,FL209,FP204)","v":0},{"$f":"SUM(FM202,FI209,FS204)","v":0},{"$f":"IF(FP194<>\"\",AVERAGE(FP197,FP194),FP197)","v":0},null,null,null,null,null,null,null,null,null,null,null,null,null,null,null,null,null,null,null,null,"target","$","$",null,null,null,null,null,null,null,null,null,null,null,null,null,null,null,null,null,"",null,null,null,null,null,null,null,null,4,{"$f":"HH210","v":0},{"$f":"HH209","v":0},{"$f":"HH208","v":0},{"$f":"SUM(HP197:HR197)","v":0},{"$f":"GZ210","v":0},{"$f":"IFERROR(ABS(HS197-HT197)/HT197,0)","v":0}]
[null,null,null,null,null,null,null,null,null,null,null,null,null,null,null,null,null,null,null,null,null,null,null,null,null,null,null,null,null,null,null,null,null,null,null,null,null,null,null,null,null,"est",{"$f":"SUM(AQ195:AQ197)","v":0},{"$f":"SUM(AR195:AR197)","v":0},{"$f":"SUM(AS195:AS197)","v":0},null,null,null,null,null,null,null,null,null,null,null,null,null,null,null,null,null,null,null,null,null,null,null,null,null,null,null,null,null,null,null,null,null,null,null,null,null,null,null,null,null,null,null,null,"est",{"$f":"SUM(CM195:CM197)","v":0},{"$f":"SUM(CN195:CN197)","v":0},{"$f":"SUM(CO195:CO197)","v":0},null,null,null,null,null,null,null,null,null,null,null,null,null,null,null,null,null,null,null,null,null,null,null,null,null,null,null,null,null,null,null,null,null,null,null,null,null,null,null,null,null,null,null,null,null,null,null,null,null,null,null,null,null,null,null,null,null,null,null,null,null,null,null,null,null,null,null,null,null,null,null,null,null,null,null,null,null,null,null,null,null,null,null,null,null,null,null,null,null,null,null,null,null,null,null,null,null,null,null,null,null,null,null,null,null,null,null,null,null,null,null,null,null,null,null,null,null,null,null,null,null,null,null,null,null,null,null,null,null,"est",{"$f":"SUM(HP195:HP197)","v":0},{"$f":"SUM(HQ195:HQ197)","v":0},{"$f":"SUM(HR195:HR197)","v":0}]
[null,null,null,null,null,null,null,null,null,null,null,null,null,null,null,null,null,null,null,null,null,null,null,null,null,null,null,null,null,null,null,null,null,null,null,null,null,null,null,null,null,"tgt",{"$f":"BI210","v":0},{"$f":"BD197","v":0},{"$f":"AR204","v":0},null,null,null,null,null,null,null,null,null,null,null,null,null,null,null,null,null,null,null,null,null,null,null,null,null,null,null,null,null,null,null,null,null,null,null,null,null,null,null,null,null,null,null,null,"tgt",{"$f":"CT217","v":0},{"$f":"DE210","v":0},{"$f":"CN204","v":0},null,null,null,null,null,null,null,null,null,null,null,null,null,null,null,null,null,null,null,null,null,null,null,null,null,null,null,null,null,null,null,null,null,null,null,null,null,null,null,null,null,null,null,null,null,null,null,null,null,null,null,null,null,null,null,null,null,null,null,null,null,null,null,null,null,null,null,null,null,null,null,null,null,null,null,null,null,null,null,null,null,null,null,null,null,null,null,null,null,null,null,null,null,null,null,null,null,null,null,null,null,null,null,null,null,null,null,null,null,null,null,null,null,null,null,null,null,null,null,null,null,null,null,null,null,null,null,null,null,"tgt",{"$f":"HG217","v":0},{"$f":"HS210","v":0},{"$f":"HB204","v":0}]
[null,null,null,null,null,null,null,null,null,null,null,null,null,null,null,null,null,null,null,null,null,null,null,null,null,null,null,null,null,null,null,null,null,null,null,null,null,null,null,null,null,"err",{"$f":"IFERROR(ABS(AQ198-AQ199)/AQ199,0)","v":0},0,0,null,null,{"$f":"SUM(AQ200:AS200,AV195:AV197)","v":0},"RNSE",{"$f":"RNSE(AX202,AX205)","v":"-"},{"$f":"RNSE(AY202,AY205)","v":"-"},{"$f":"RNSE(AZ202,AZ205)","v":"-"},null,null,null,null,null,null,null,null,null,null,null,null,null,null,null,null,null,null,null,null,null,null,null,null,null,null,null,null,null,null,null,null,null,null,null,null,null,"err",{"$f":"IFERROR(ABS(CM198-CM199)/CM199,0)","v":0},{"$f":"IFERROR(ABS(CN198-CN199)/CN199,0)","v":0},{"$f":"IFERROR(ABS(CO198-CO199)/CO199,0)","v":0},null,null,{"$f":"SUM(CM200:CO200,CR195:CR197)","v":0},null,null,null,null,null,null,null,null,null,null,null,null,null,null,null,null,null,null,null,null,null,null,null,null,null,null,null,null,null,null,null,null,null,null,null,null,null,null,null,null,null,null,null,null,null,null,null,null,"RNSE",{"$f":"RNSE(EP202,EP205)","v":"-"},{"$f":"RNSE(EQ202,EQ205)","v":"-"},"-",null,null,null,null,null,null,null,null,null,null,null,null,null,null,null,null,null,"RNSE",{"$f":"RNSE(FK202,FK205)","v":"-"},{"$f":"RNSE(FL202,FL205)","v":"-"},{"$f":"RNSE(FM202,FM205)","v":"-"},null,null,null,null,null,null,null,null,null,null,null,null,null,null,null,null,null,null,null,null,null,null,null,"RNSE",{"$f":"RNSE(GL202,GL205)","v":"-"},{"$f":"RNSE(GM202,GM205)","v":"-"},"-",null,null,null,null,null,null,null,null,null,null,null,null,null,null,null,null,null,null,null,null,null,null,null,null,null,null,"err",{"$f":"IFERROR(ABS(HP198-HP199)/HP199,0)","v":0},{"$f":"IFERROR(ABS(HQ198-HQ199)/HQ199,0)","v":0},{"$f":"IFERROR(ABS(HR198-HR199)/HR199,0)","v":0},null,null,{"$f":"SUM(HP200:HR200,HU195:HU197)","v":0}]
[null,null,null,null,null,null,null,null,null,null,null,null,null,null,null,null,null,null,null,null,null,null,null,null,null,null,null,null,null,null,null,null,null,null,null,null,null,null,null,null,null,null,null,null,null,null,null,null,"%",{"$f":"AX202/AY196","v":{"$error":"#DIV/0!"}},{"$f":"AY202/AY196","v":{"$error":"#DIV/0!"}},{"$f":"AZ202/AY196","v":{"$error":"#DIV/0!"}},null,null,null,null,null,null,null,null,null,null,null,null,null,null,null,null,null,null,null,null,null,null,null,null,null,null,null,null,null,null,null,null,null,null,null,null,null,null,null,null,null,null,null,null,null,null,null,null,null,null,null,null,null,null,null,null,null,null,null,null,null,null,null,null,null,null,null,null,null,null,null,null,null,null,null,null,null,null,null,null,null,null,null,null,null,null,null,null,null,null,null,null,"%",{"$f":"EP202/EQ196","v":{"$error":"#DIV/0!"}},{"$f":"EQ202/EQ196","v":{"$error":"#DIV/0!"}},{"$f":"ER202/EQ196","v":{"$error":"#DIV/0!"}},null,null,null,null,null,null,null,null,null,null,null,null,null,null,null,null,null,"%",{"$f":"FK202/FL196","v":{"$error":"#DIV/0!"}},{"$f":"FL202/FL196","v":{"$error":"#DIV/0!"}},{"$f":"FM202/FL196","v":{"$error":"#DIV/0!"}},null,null,null,null,null,null,null,null,null,null,null,null,null,null,null,null,null,null,null,null,null,null,null,"%",{"$f":"GL202/GM196","v":{"$error":"#DIV/0!"}},{"$f":"GM202/GM196","v":{"$error":"#DIV/0!"}},{"$f":"GN202/GM196","v":{"$error":"#DIV/0!"}}]
[null,null,null,null,null,null,null,null,null,null,null,null,null,null,null,null,null,null,null,null,null,null,null,null,null,null,null,null,null,null,null,null,null,null,null,null,null,null,null,null,null,null,null,null,null,null,null,null,"bal",{"$f":"AS216","v":0},{"$f":"AQ216","v":0},{"$f":"AR216","v":0},null,null,null,null,null,null,null,null,null,null,null,null,null,null,null,null,null,null,null,null,null,null,null,null,null,null,null,null,null,null,null,null,null,null,null,null,null,null,null,null,null,null,null,null,null,null,null,null,null,null,null,null,null,null,null,null,null,null,null,null,null,null,null,null,null,null,null,null,null,null,null,null,null,null,null,null,null,null,null,null,null,null,null,null,null,null,null,null,null,null,null,null,"bal",{"$f":"EL227","v":0},{"$f":"EI227","v":0},{"$f":"EJ227","v":0},null,null,null,null,null,null,null,null,null,null,null,null,null,null,null,null,null,"bal",{"$f":"FV217","v":0},{"$f":"FT217","v":0},{"$f":"FU217","v":0},null,null,null,null,null,null,null,null,null,null,null,null,null,null,null,null,null,null,null,null,null,null,null,"bal",{"$f":"GH227","v":0},{"$f":"GE227","v":0},{"$f":"GF227","v":0}]
[null,null,null,null,null,null,null,null,null,null,null,null,null,null,null,null,null,null,null,null,null,null,null,null,null,null,null,null,null,null,null,null,null,null,null,null,null,null,null,null,null,null,null,null,null,null,null,null,null,8,9,"M",null,null,"raw","%",null,"bal","%","RNSE",null,null,null,null,null,null,null,null,null,null,null,null,null,null,null,"raw","%",null,"bal","%","RNSE",null,null,null,null,null,null,null,null,null,null,null,null,null,null,null,null,null,null,null,null,null,"raw","%",null,"bal","%","RNSE",null,null,null,null,null,null,null,null,null,null,null,null,null,null,null,"raw","%",null,"bal","%","RNSE",null,null,null,null,null,null,null,null,null,null,null,null,null,null,null,null,8,"$",9,null,null,"raw","%",null,"bal","%","RNSE",null,null,null,null,null,null,null,null,null,null,8,9,"M",null,null,"raw","%",null,"bal","%","RNSE",null,null,null,null,null,null,null,null,null,null,null,null,null,null,null,null,8,"$",9,null,null,"raw","%",null,"bal","%","RNSE",null,null,null,null,null,null,null,null,null,null,null,null,null,null,null,"raw","%",null,"bal","%","RNSE"]
[null,null,null,null,null,null,null,null,null,null,null,null,null,null,null,null,null,null,null,null,null,null,null,null,null,null,null,null,null,null,null,null,null,null,null,null,null,null,null,null,null,"imbal","target",{"$f":"IF(AO205<>\"\",AVERAGE(AR205,AO205),AR205)","v":0},null,null,null,null,"%",{"$f":"AX205/AZ196","v":{"$error":"#DIV/0!"}},{"$f":"AY205/AZ196","v":{"$error":"#DIV/0!"}},{"$f":"AZ205/AZ196","v":{"$error":"#DIV/0!"}},null,{"$f":"CHOOSE(1,\"<\",\"TURN\",8,BA207,BC204,BF204)","v":"<"},0,{"$f":"BC204/BK206","v":{"$error":"#DIV/0!"}},"<",{"$f":"AR215","v":0},{"$f":"BF204/BK205","v":{"$error":"#DIV/0!"}},{"$f":"RNSE(BF204,BC204)","v":"-"},null,"target",{"$f":"IF(BN205<>\"\",AVERAGE(BK205,BN205),BK205)","v":0},"imbal","target",{"$f":"IF(BK205<>\"\",AVERAGE(BN205,BK205),BN205)","v":0},null,null,null,null,null,null,null,null,{"$f":"CHOOSE(1,\"<\",\"TURN\",8,BV207,BX204,CA204)","v":"<"},0,{"$f":"BX204/CG206","v":{"$error":"#DIV/0!"}},"<",{"$f":"CC226","v":0},{"$f":"CA204/CG205","v":{"$error":"#DIV/0!"}},{"$f":"RNSE(CA204,BX204)","v":"-"},null,null,"target",{"$f":"IF(CJ205<>\"\",AVERAGE(CG205,CJ205),CG205)","v":0},null,null,null,null,"imbal","target",{"$f":"IF(CK205<>\"\",AVERAGE(CN205,CK205),CN205)","v":0},null,null,null,null,null,null,null,null,null,{"$f":"CHOOSE(1,\"!\",\"TURN\",7,CW207,CY204,DB204)","v":"!"},0,{"$f":"CY204/DG206","v":{"$error":"#DIV/0!"}},"!",{"$f":"CO225","v":0},{"$f":"DB204/DG205","v":{"$error":"#DIV/0!"}},{"$f":"RNSE(DB204,CY204)","v":"-"},null,"target",{"$f":"IF(DJ205<>\"\",AVERAGE(DG205,DJ205),DG205)","v":0},"imbal","target",{"$f":"IF(DG205<>\"\",AVERAGE(DJ205,DG205),DJ205)","v":0},null,null,null,null,null,null,null,null,{"$f":"CHOOSE(1,\"<\",\"TURN\",8,DR207,DT204,DW204)","v":"<"},0,{"$f":"DT204/EC206","v":{"$error":"#DIV/0!"}},"<",{"$f":"DY226","v":0},{"$f":"DW204/EC205","v":{"$error":"#DIV/0!"}},{"$f":"RNSE(DW204,DT204)","v":"-"},null,null,"target",{"$f":"IF(EF205<>\"\",AVERAGE(EC205,EF205),EC205)","v":0},null,null,null,null,"imbal","target",{"$f":"IF(EG205<>\"\",AVERAGE(EJ205,EG205),EJ205)","v":0},null,null,null,null,"%",{"$f":"EP205/ER196","v":{"$error":"#DIV/0!"}},{"$f":"EQ205/ER196","v":{"$error":"#DIV/0!"}},{"$f":"ER205/ER196","v":{"$error":"#DIV/0!"}},null,{"$f":"CHOOSE(1,\"!\",\"TURN\",7,ES207,EU204,EX204)","v":"!"},0,{"$f":"EU204/FC206","v":{"$error":"#DIV/0!"}},"!",{"$f":"EL226","v":0},{"$f":"EX204/FC205","v":{"$error":"#DIV/0!"}},{"$f":"RNSE(EX204,EU204)","v":"-"},null,"target",{"$f":"IF(FF205<>\"\",AVERAGE(FC205,FF205),FC205)","v":0},"imbal","target",{"$f":"IF(FC205<>\"\",AVERAGE(FF205,FC205),FF205)","v":0},null,null,null,"%",{"$f":"FK205/FM196","v":{"$error":"#DIV/0!"}},{"$f":"FL205/FM196","v":{"$error":"#DIV/0!"}},{"$f":"FM205/FM196","v":{"$error":"#DIV/0!"}},null,{"$f":"CHOOSE(1,\"<\",\"TURN\",8,FN207,FP204,FS204)","v":"<"},0,{"$f":"FP204/FY206","v":{"$error":"#DIV/0!"}},"<",{"$f":"FU216","v":0},{"$f":"FS204/FY205","v":{"$error":"#DIV/0!"}},{"$f":"RNSE(FS204,FP204)","v":"-"},null,null,"target",{"$f":"IF(GB205<>\"\",AVERAGE(FY205,GB205),FY205)","v":0},null,null,null,null,"imbal","target",{"$f":"IF(GC205<>\"\",AVERAGE(GF205,GC205),GF205)","v":0},null,null,null,null,"%",{"$f":"GL205/GN196","v":{"$error":"#DIV/0!"}},{"$f":"GM205/GN196","v":{"$error":"#DIV/0!"}},{"$f":"GN205/GN196","v":{"$error":"#DIV/0!"}},null,{"$f":"CHOOSE(1,\"!\",\"TURN\",7,GO207,GQ204,GT204)","v":"!"},0,{"$f":"GQ204/GY206","v":{"$error":"#DIV/0!"}},"!",{"$f":"GH226","v":0},{"$f":"GT204/GY205","v":{"$error":"#DIV/0!"}},{"$f":"RNSE(GT204,GQ204)","v":"-"},null,"target",{"$f":"IF(HB205<>\"\",AVERAGE(GY205,HB205),GY205)","v":0},"imbal","target",{"$f":"IF(GY205<>\"\",AVERAGE(HB205,GY205),HB205)","v":0},null,null,null,null,null,null,null,null,{"$f":"CHOOSE(1,\"!\",\"TURN\",7,HJ207,HL204,HO204)","v":"!"},0,{"$f":"HL204/HU206","v":{"$error":"#DIV/0!"}},"!",{"$f":"HR225","v":0},{"$f":"HO204/HU205","v":{"$error":"#DIV/0!"}},{"$f":"RNSE(HO204,HL204)","v":"-"},null,null,"target",{"$f":"IF(HX205<>\"\",AVERAGE(HU205,HX205),HU205)","v":0}]
[null,null,null,null,null,null,null,null,null,null,null,null,null,null,null,null,null,null,null,null,null,null,null,null,null,null,null,null,null,null,null,null,null,null,null,null,null,null,null,null,null,{"$f":"IF(AO205<>\"\",AO205-AR205,0)","v":0},"!",{"$f":"SUM(AV208,BF205,AX202)","v":0},null,null,null,null,"raw",0,0,0,null,{"$f":"CHOOSE(1,\"!\",\"TURN\",7,BA207,BC205,BF205)","v":"!"},0,{"$f":"BC205/BK206","v":{"$error":"#DIV/0!"}},"!",{"$f":"AS215","v":0},{"$f":"BF205/BK205","v":{"$error":"#DIV/0!"}},{"$f":"RNSE(BF205,BC205)","v":"-"},null,"!",{"$f":"SUM(BF204:BF206)","v":0},{"$f":"IF(BK205<>\"\",BK205-BN205,0)","v":0},"!",{"$f":"SUM(BW212,CA205,BQ208)","v":0},null,null,null,null,null,null,null,null,{"$f":"CHOOSE(1,\"!\",\"TURN\",7,BV207,BX205,CA205)","v":"!"},0,{"$f":"BX205/CG206","v":{"$error":"#DIV/0!"}},"!",{"$f":"CD226","v":0},{"$f":"CA205/CG205","v":{"$error":"#DIV/0!"}},{"$f":"RNSE(CA205,BX205)","v":"-"},null,null,"!",{"$f":"SUM(CA204:CA206)","v":0},null,null,null,null,{"$f":"IF(CK205<>\"\",CK205-CN205,0)","v":0},"!",{"$f":"SUM(CY212,CQ208,DB204)","v":0},null,null,null,null,null,null,null,null,null,{"$f":"CHOOSE(1,\">\",\"TURN\",6,CW207,CY205,DB205)","v":">"},0,{"$f":"CY205/DG206","v":{"$error":"#DIV/0!"}},">",{"$f":"CM225","v":0},{"$f":"DB205/DG205","v":{"$error":"#DIV/0!"}},"-",null,"!",{"$f":"SUM(DB204:DB206)","v":0},{"$f":"IF(DG205<>\"\",DG205-DJ205,0)","v":0},"!",{"$f":"SUM(DS212,DW205,DM208)","v":0},null,null,null,null,null,null,null,null,{"$f":"CHOOSE(1,\"!\",\"TURN\",7,DR207,DT205,DW205)","v":"!"},0,{"$f":"DT205/EC206","v":{"$error":"#DIV/0!"}},"!",{"$f":"DZ226","v":0},{"$f":"DW205/EC205","v":{"$error":"#DIV/0!"}},{"$f":"RNSE(DW205,DT205)","v":"-"},null,null,"!",{"$f":"SUM(DW204:DW206)","v":0},null,null,null,null,{"$f":"IF(EG205<>\"\",EG205-EJ205,0)","v":0},"!",{"$f":"SUM(EP202,EN208,EX204)","v":0},null,null,null,null,"raw",0,0,0,null,{"$f":"CHOOSE(1,\">\",\"TURN\",6,ES207,EU205,EX205)","v":">"},0,{"$f":"EU205/FC206","v":{"$error":"#DIV/0!"}},">",{"$f":"EI226","v":0},{"$f":"EX205/FC205","v":{"$error":"#DIV/0!"}},"-",null,"!",{"$f":"SUM(EX204:EX206)","v":0},{"$f":"IF(FC205<>\"\",FC205-FF205,0)","v":0},"!",{"$f":"SUM(FI208,FS205,FK202)","v":0},null,null,null,"raw",0,0,0,null,{"$f":"CHOOSE(1,\"!\",\"TURN\",7,FN207,FP205,FS205)","v":"!"},0,{"$f":"FP205/FY206","v":{"$error":"#DIV/0!"}},"!",{"$f":"FV216","v":0},{"$f":"FS205/FY205","v":{"$error":"#DIV/0!"}},{"$f":"RNSE(FS205,FP205)","v":"-"},null,null,"!",{"$f":"SUM(FS204:FS206)","v":0},null,null,null,null,{"$f":"IF(GC205<>\"\",GC205-GF205,0)","v":0},"!",{"$f":"SUM(GL202,GJ208,GT204)","v":0},null,null,null,null,"raw",0,0,0,null,{"$f":"CHOOSE(1,\">\",\"TURN\",6,GO207,GQ205,GT205)","v":">"},0,{"$f":"GQ205/GY206","v":{"$error":"#DIV/0!"}},">",{"$f":"GE226","v":0},{"$f":"GT205/GY205","v":{"$error":"#DIV/0!"}},"-",null,"!",{"$f":"SUM(GT204:GT206)","v":0},{"$f":"IF(GY205<>\"\",GY205-HB205,0)","v":0},"!",{"$f":"SUM(HL212,HE208,HO204)","v":0},null,null,null,null,null,null,null,null,{"$f":"CHOOSE(1,\">\",\"TURN\",6,HJ207,HL205,HO205)","v":">"},0,{"$f":"HL205/HU206","v":{"$error":"#DIV/0!"}},">",{"$f":"HP225","v":0},{"$f":"HO205/HU205","v":{"$error":"#DIV/0!"}},"-",null,null,"!",{"$f":"SUM(HO204:HO206)","v":0}]
[null,null,null,null,null,null,null,null,null,null,null,null,null,null,null,null,null,null,null,null,null,null,null,null,null,null,null,null,null,null,null,null,null,null,null,null,null,null,null,null,null,{"$f":"IF(AO206<>\"\",AO206-AR206,0)","v":0},"!",{"$f":"SUM(AY208,BC205,AX205)","v":0},null,null,null,"Default St",null,{"$f":"CHOOSE(1,8,\"TURN\",12,BA207,AX205,AX202)","v":8},{"$f":"CHOOSE(1,\"9\",\"TURN\",10,BA207,AY205,AY202)","v":"9"},{"$f":"CHOOSE(1,\"M\",\"TURN\",9,BA207,AZ205,AZ202)","v":"M"},null,{"$f":"CHOOSE(1,\"N\",\"TURN\",5,BA207,BC206,BF206)","v":"N"},0,{"$f":"BC206/BK206","v":{"$error":"#DIV/0!"}},"N",{"$f":"AQ215","v":0},{"$f":"BF206/BK205","v":{"$error":"#DIV/0!"}},{"$f":"RNSE(BF206,BC206)","v":"-"},null,"!",{"$f":"SUM(BC204:BC206)","v":0},{"$f":"IF(BK206<>\"\",BK206-BN206,0)","v":0},"!",{"$f":"SUM(BW209,BX205,BT208)","v":0},null,null,null,null,null,"Default St",null,null,{"$f":"CHOOSE(1,\"N\",\"TURN\",5,BV207,BX206,CA206)","v":"N"},0,{"$f":"BX206/CG206","v":{"$error":"#DIV/0!"}},"N",{"$f":"CB226","v":0},{"$f":"CA206/CG205","v":{"$error":"#DIV/0!"}},{"$f":"RNSE(CA206,BX206)","v":"-"},null,null,"!",{"$f":"SUM(BX204:BX206)","v":0},null,null,null,null,{"$f":"IF(CK206<>\"\",CK206-CN206,0)","v":0},"!",{"$f":"SUM(CY209,CT208,CY204)","v":0},null,null,null,null,"Default St",null,null,null,null,{"$f":"CHOOSE(1,\"N\",\"TURN\",5,CW207,CY206,DB206)","v":"N"},0,{"$f":"CY206/DG206","v":{"$error":"#DIV/0!"}},"N",{"$f":"CN225","v":0},{"$f":"DB206/DG205","v":{"$error":"#DIV/0!"}},"-",null,"!",{"$f":"SUM(CY204:CY206)","v":0},{"$f":"IF(DG206<>\"\",DG206-DJ206,0)","v":0},"!",{"$f":"SUM(DS209,DT205,DP208)","v":0},null,null,null,null,null,"Default St",null,null,{"$f":"CHOOSE(1,\"N\",\"TURN\",5,DR207,DT206,DW206)","v":"N"},0,{"$f":"DT206/EC206","v":{"$error":"#DIV/0!"}},"N",{"$f":"DX226","v":0},{"$f":"DW206/EC205","v":{"$error":"#DIV/0!"}},{"$f":"RNSE(DW206,DT206)","v":"-"},null,null,"!",{"$f":"SUM(DT204:DT206)","v":0},null,null,null,null,{"$f":"IF(EG206<>\"\",EG206-EJ206,0)","v":0},"!",{"$f":"SUM(EP205,EQ208,EU204)","v":0},null,null,null,"Default St",null,{"$f":"CHOOSE(1,8,\"TURN\",12,ES207,EP205,EP202)","v":8},{"$f":"CHOOSE(1,\"$\",\"TURN\",11,ES207,EQ205,EQ202)","v":"$"},{"$f":"CHOOSE(1,\"9\",\"TURN\",10,ES207,ER205,ER202)","v":"9"},null,{"$f":"CHOOSE(1,\"N\",\"TURN\",5,ES207,EU206,EX206)","v":"N"},0,{"$f":"EU206/FC206","v":{"$error":"#DIV/0!"}},"N",{"$f":"EJ226","v":0},{"$f":"EX206/FC205","v":{"$error":"#DIV/0!"}},"-",null,"!",{"$f":"SUM(EU204:EU206)","v":0},{"$f":"IF(FC206<>\"\",FC206-FF206,0)","v":0},"!",{"$f":"SUM(FL208,FP209,FP205,FK205)","v":0},null,null,null,null,{"$f":"CHOOSE(1,8,\"TURN\",12,FN207,FK205,FK202)","v":8},{"$f":"CHOOSE(1,\"9\",\"TURN\",10,FN207,FL205,FL202)","v":"9"},{"$f":"CHOOSE(1,\"M\",\"TURN\",9,FN207,FM205,FM202)","v":"M"},null,{"$f":"CHOOSE(1,\"N\",\"TURN\",5,FN207,FP206,FS206)","v":"N"},0,{"$f":"FP206/FY206","v":{"$error":"#DIV/0!"}},"N",{"$f":"FT216","v":0},{"$f":"FS206/FY205","v":{"$error":"#DIV/0!"}},{"$f":"RNSE(FS206,FP206)","v":"-"},null,null,"!",{"$f":"SUM(FP204:FP206)","v":0},null,null,null,null,{"$f":"IF(GC206<>\"\",GC206-GF206,0)","v":0},"!",{"$f":"SUM(GL205,GM208,GQ204)","v":0},null,null,null,"Default St",null,{"$f":"CHOOSE(1,8,\"TURN\",12,GO207,GL205,GL202)","v":8},{"$f":"CHOOSE(1,\"$\",\"TURN\",11,GO207,GM205,GM202)","v":"$"},{"$f":"CHOOSE(1,\"9\",\"TURN\",10,GO207,GN205,GN202)","v":"9"},null,{"$f":"CHOOSE(1,\"N\",\"TURN\",5,GO207,GQ206,GT206)","v":"N"},0,{"$f":"GQ206/GY206","v":{"$error":"#DIV/0!"}},"N",{"$f":"GF226","v":0},{"$f":"GT206/GY205","v":{"$error":"#DIV/0!"}},"-",null,"!",{"$f":"SUM(GQ204:GQ206)","v":0},{"$f":"IF(GY206<>\"\",GY206-HB206,0)","v":0},"!",{"$f":"SUM(HL209,HH208,HL204)","v":0},null,null,null,null,null,"Default St",null,null,{"$f":"CHOOSE(1,\"N\",\"TURN\",5,HJ207,HL206,HO206)","v":"N"},0,{"$f":"HL206/HU206","v":{"$error":"#DIV/0!"}},"N",{"$f":"HQ225","v":0},{"$f":"HO206/HU205","v":{"$error":"#DIV/0!"}},"-",null,null,"!",{"$f":"SUM(HL204:HL206)","v":0}]
[null,null,null,null,null,null,null,null,null,null,null,null,null,null,null,null,null,null,null,null,null,null,null,null,null,null,null,null,null,null,null,null,null,null,null,null,null,null,null,null,null,null,null,null,null,null,null,null,null,null,null,null,1,null,null,null,null,null,null,null,null,null,null,null,null,null,null,null,null,null,null,null,null,2,null,null,null,null,null,null,null,null,null,null,null,null,null,null,null,null,null,null,null,null,null,null,null,null,null,null,1,null,null,null,null,null,null,null,null,null,null,null,null,null,null,null,null,null,null,null,null,2,null,null,null,null,null,null,null,null,null,null,null,null,null,null,null,null,null,null,null,null,null,null,null,null,null,null,1,null,null,null,null,null,null,null,null,null,null,null,null,null,null,null,null,null,null,null,null,2,null,null,null,null,null,null,null,null,null,null,null,null,null,null,null,null,null,null,null,null,null,null,null,null,null,null,1,null,null,null,null,null,null,null,null,null,null,null,null,null,null,null,null,null,null,null,null,2]
[null,null,null,null,null,null,null,null,null,null,null,null,null,null,null,null,null,null,null,null,null,null,null,null,null,null,null,null,null,null,null,null,null,null,null,null,null,null,null,null,null,{"$f":"SUM(AY208:AY210)","v":0},"\"",null,null,{"$f":"RNSE(AV208,AY208)","v":"-"},{"$f":"AV208/AP209","v":{"$error":"#DIV/0!"}},{"$f":"AS217","v":0},"O",{"$f":"AY208/AP208","v":{"$error":"#DIV/0!"}},0,{"$f":"CHOOSE(1,\"O\",\"TURN\",13,BA207,AY208,AV208)","v":"O"},null,null,null,null,null,null,null,null,{"$f":"SUM(BC206,AY205,AY210)","v":0},"\"",{"$f":"IF(BL208<>\"\",BL208-BI208,0)","v":0},{"$f":"SUM(BT208:BT210)","v":0},"\"",null,{"$f":"RNSE(BQ208,BT208)","v":"-"},{"$f":"BQ208/BL209","v":{"$error":"#DIV/0!"}},{"$f":"CD228","v":0},"O",{"$f":"BT208/BL208","v":{"$error":"#DIV/0!"}},0,{"$f":"CHOOSE(1,\"O\",\"TURN\",13,BV207,BT208,BQ208)","v":"O"},null,{"$f":"CHOOSE(1,\":\",\"TURN\",2,BV207,BW209,BW212)","v":":"},{"$f":"CHOOSE(1,\"#\",\"TURN\",3,BV207,BX209,BX212)","v":"#"},{"$f":"CHOOSE(1,\";\",\"TURN\",4,BV207,BY209,BY212)","v":";"},null,null,null,null,null,{"$f":"SUM(BX206,BT210,BY209)","v":0},"\"",{"$f":"IF(CH208<>\"\",CH208-CE208,0)","v":0},null,null,null,null,{"$f":"SUM(CT208:CT210)","v":0},"\"",null,{"$f":"RNSE(CQ208,CT208)","v":"-"},{"$f":"CQ208/CL209","v":{"$error":"#DIV/0!"}},{"$f":"CO226","v":0},"O",{"$f":"CT208/CL208","v":{"$error":"#DIV/0!"}},0,{"$f":"CHOOSE(1,\"O\",\"TURN\",13,CW207,CT208,CQ208)","v":"O"},null,null,{"$f":"CHOOSE(1,\"L\",\"TURN\",1,CW207,CX209,CX212)","v":"L"},{"$f":"CHOOSE(1,\":\",\"TURN\",2,CW207,CY209,CY212)","v":":"},{"$f":"CHOOSE(1,\";\",\"TURN\",4,CW207,CZ209,CZ212)","v":";"},null,null,null,null,{"$f":"SUM(CY206,CT209,CZ209)","v":0},"\"",{"$f":"IF(DH208<>\"\",DH208-DE208,0)","v":0},{"$f":"SUM(DP208:DP210)","v":0},"\"",null,{"$f":"RNSE(DM208,DP208)","v":"-"},{"$f":"DM208/DH209","v":{"$error":"#DIV/0!"}},{"$f":"DZ228","v":0},"O",{"$f":"DP208/DH208","v":{"$error":"#DIV/0!"}},0,{"$f":"CHOOSE(1,\"O\",\"TURN\",13,DR207,DP208,DM208)","v":"O"},null,{"$f":"CHOOSE(1,\":\",\"TURN\",2,DR207,DS209,DS212)","v":":"},{"$f":"CHOOSE(1,\"#\",\"TURN\",3,DR207,DT209,DT212)","v":"#"},{"$f":"CHOOSE(1,\";\",\"TURN\",4,DR207,DU209,DU212)","v":";"},null,null,null,null,null,{"$f":"SUM(DT206,DP210,DU209)","v":0},"\"",{"$f":"IF(ED208<>\"\",ED208-EA208,0)","v":0},null,null,null,null,{"$f":"SUM(EQ208:EQ210)","v":0},"\"",null,null,{"$f":"RNSE(EN208,EQ208)","v":"-"},{"$f":"EN208/EH209","v":{"$error":"#DIV/0!"}},{"$f":"EL228","v":0},"O",{"$f":"EQ208/EH208","v":{"$error":"#DIV/0!"}},0,{"$f":"CHOOSE(1,\"O\",\"TURN\",13,ES207,EQ208,EN208)","v":"O"},null,null,null,null,null,null,null,null,{"$f":"SUM(EU206,ER205,EQ209)","v":0},"\"",{"$f":"IF(FD208<>\"\",FD208-FA208,0)","v":0},{"$f":"SUM(FL208:FL210)","v":0},"\"",null,{"$f":"RNSE(FI208,FL208)","v":"-"},{"$f":"FI208/FD209","v":{"$error":"#DIV/0!"}},{"$f":"FV218","v":0},"O",{"$f":"FL208/FD208","v":{"$error":"#DIV/0!"}},0,{"$f":"CHOOSE(1,\"O\",\"TURN\",13,FN207,FL208,FI208)","v":"O"},null,null,"Default St",null,null,null,null,null,null,{"$f":"SUM(FP206,FL205,FL210)","v":0},"\"",{"$f":"IF(FZ208<>\"\",FZ208-FW208,0)","v":0},null,null,null,null,{"$f":"SUM(GM208:GM210)","v":0},"\"",null,null,{"$f":"RNSE(GJ208,GM208)","v":"-"},{"$f":"GJ208/GD209","v":{"$error":"#DIV/0!"}},{"$f":"GH228","v":0},"O",{"$f":"GM208/GD208","v":{"$error":"#DIV/0!"}},0,{"$f":"CHOOSE(1,\"O\",\"TURN\",13,GO207,GM208,GJ208)","v":"O"},null,null,null,null,null,null,null,null,{"$f":"SUM(GQ206,GN205,GM209)","v":0},"\"",{"$f":"IF(GZ208<>\"\",GZ208-GW208,0)","v":0},{"$f":"SUM(HH208:HH210)","v":0},"\"",null,{"$f":"RNSE(HE208,HH208)","v":"-"},{"$f":"HE208/GZ209","v":{"$error":"#DIV/0!"}},{"$f":"HR226","v":0},"O",{"$f":"HH208/GZ208","v":{"$error":"#DIV/0!"}},0,{"$f":"CHOOSE(1,\"O\",\"TURN\",13,HJ207,HH208,HE208)","v":"O"},null,{"$f":"CHOOSE(1,\"L\",\"TURN\",1,HJ207,HK209,HK212)","v":"L"},{"$f":"CHOOSE(1,\":\",\"TURN\",2,HJ207,HL209,HL212)","v":":"},{"$f":"CHOOSE(1,\";\",\"TURN\",4,HJ207,HM209,HM212)","v":";"},null,null,null,null,null,{"$f":"SUM(HL206,HH209,HM209)","v":0},"\"",{"$f":"IF(HV208<>\"\",HV208-HS208,0)","v":0}]
[null,null,null,null,null,null,null,null,null,null,null,null,null,null,null,null,null,null,null,null,null,null,null,null,null,null,null,null,null,null,null,null,null,null,null,null,null,null,null,null,null,{"$f":"SUM(AV208:AV210)","v":0},"\"",null,null,{"$f":"RNSE(AV209,AY209)","v":"-"},{"$f":"AV209/AP209","v":{"$error":"#DIV/0!"}},{"$f":"AR217","v":0},"=",{"$f":"AY209/AP208","v":{"$error":"#DIV/0!"}},0,{"$f":"CHOOSE(1,\"=\",\"TURN\",14,BA207,AY209,AV209)","v":"="},null,null,null,null,null,null,null,null,{"$f":"SUM(BF206,AY202,AV210)","v":0},"\"",{"$f":"IF(BL209<>\"\",BL209-BI209,0)","v":0},{"$f":"SUM(BQ208:BQ210)","v":0},"\"",null,"-",{"$f":"BQ209/BL209","v":{"$error":"#DIV/0!"}},{"$f":"CC228","v":0},"=",{"$f":"BT209/BL208","v":{"$error":"#DIV/0!"}},0,{"$f":"CHOOSE(1,\"=\",\"TURN\",14,BV207,BT209,BQ209)","v":"="},null,0,0,0,"raw",null,null,null,null,{"$f":"SUM(CA206,BQ210,BY212)","v":0},"\"",{"$f":"IF(CH209<>\"\",CH209-CE209,0)","v":0},null,null,null,null,{"$f":"SUM(CQ208:CQ210)","v":0},"\"",null,{"$f":"RNSE(CQ209,CT209)","v":"-"},{"$f":"CQ209/CL209","v":{"$error":"#DIV/0!"}},{"$f":"CN226","v":0},"\"",{"$f":"CT209/CL208","v":{"$error":"#DIV/0!"}},0,{"$f":"CHOOSE(1,\"\"\"\",\"TURN\",15,CW207,CT209,CQ209)","v":"\""},null,null,0,0,0,"raw",null,null,null,{"$f":"SUM(DB206,CQ209,CZ212)","v":0},"\"",{"$f":"IF(DH209<>\"\",DH209-DE209,0)","v":0},{"$f":"SUM(DM208:DM210)","v":0},"\"",null,"-",{"$f":"DM209/DH209","v":{"$error":"#DIV/0!"}},{"$f":"DY228","v":0},"=",{"$f":"DP209/DH208","v":{"$error":"#DIV/0!"}},0,{"$f":"CHOOSE(1,\"=\",\"TURN\",14,DR207,DP209,DM209)","v":"="},null,0,0,0,"raw",null,null,null,null,{"$f":"SUM(DW206,DM210,DU212)","v":0},"\"",{"$f":"IF(ED209<>\"\",ED209-EA209,0)","v":0},null,null,null,null,{"$f":"SUM(EN208:EN210)","v":0},"\"",null,null,{"$f":"RNSE(EN209,EQ209)","v":"-"},{"$f":"EN209/EH209","v":{"$error":"#DIV/0!"}},{"$f":"EJ228","v":0},"\"",{"$f":"EQ209/EH208","v":{"$error":"#DIV/0!"}},0,{"$f":"CHOOSE(1,\"\"\"\",\"TURN\",15,ES207,EQ209,EN209)","v":"\""},null,null,null,null,null,null,null,null,{"$f":"SUM(EX206,ER202,EN209)","v":0},"\"",{"$f":"IF(FD209<>\"\",FD209-FA209,0)","v":0},{"$f":"SUM(FI208:FI210)","v":0},"\"",null,{"$f":"RNSE(FI209,FL209)","v":"-"},{"$f":"FI209/FD209","v":{"$error":"#DIV/0!"}},{"$f":"FU218","v":0},"=",{"$f":"FL209/FD208","v":{"$error":"#DIV/0!"}},0,{"$f":"CHOOSE(1,\"=\",\"TURN\",14,FN207,FL209,FI209)","v":"="},null,null,null,null,null,null,null,null,null,{"$f":"SUM(FS206,FL202,FI210)","v":0},"\"",{"$f":"IF(FZ209<>\"\",FZ209-FW209,0)","v":0},null,null,null,null,{"$f":"SUM(GJ208:GJ210)","v":0},"\"",null,null,{"$f":"RNSE(GJ209,GM209)","v":"-"},{"$f":"GJ209/GD209","v":{"$error":"#DIV/0!"}},{"$f":"GF228","v":0},"\"",{"$f":"GM209/GD208","v":{"$error":"#DIV/0!"}},0,{"$f":"CHOOSE(1,\"\"\"\",\"TURN\",15,GO207,GM209,GJ209)","v":"\""},null,null,null,null,null,null,null,null,{"$f":"SUM(GT206,GN202,GJ209)","v":0},"\"",{"$f":"IF(GZ209<>\"\",GZ209-GW209,0)","v":0},{"$f":"SUM(HE208:HE210)","v":0},"\"",null,{"$f":"RNSE(HE209,HH209)","v":"-"},{"$f":"HE209/GZ209","v":{"$error":"#DIV/0!"}},{"$f":"HQ226","v":0},"\"",{"$f":"HH209/GZ208","v":{"$error":"#DIV/0!"}},0,{"$f":"CHOOSE(1,\"\"\"\",\"TURN\",15,HJ207,HH209,HE209)","v":"\""},null,0,0,0,"raw",null,null,null,null,{"$f":"SUM(HO206,HE209,HM212)","v":0},"\"",{"$f":"IF(HV209<>\"\",HV209-HS209,0)","v":0}]
[null,null,null,null,null,null,null,null,null,null,null,null,null,null,null,null,null,null,null,null,null,null,null,null,null,null,null,null,null,null,null,null,null,null,null,null,null,null,null,null,null,{"$f":"IF(AM209<>\"\",AVERAGE(AP209,AM209),AP209)","v":0},"target",null,null,{"$f":"RNSE(AV210,AY210)","v":"-"},{"$f":"AV210/AP209","v":{"$error":"#DIV/0!"}},{"$f":"AQ217","v":0},"\"",{"$f":"AY210/AP208","v":{"$error":"#DIV/0!"}},0,{"$f":"CHOOSE(1,\"\"\"\",\"TURN\",15,BA207,AY210,AV210)","v":"\""},null,null,null,null,null,null,null,null,{"$f":"IF(BL209<>\"\",AVERAGE(BI209,BL209),BI209)","v":0},"target","imbal",{"$f":"IF(BI209<>\"\",AVERAGE(BL209,BI209),BL209)","v":0},"target",null,"-",{"$f":"BQ210/BL209","v":{"$error":"#DIV/0!"}},{"$f":"CB228","v":0},"\"",{"$f":"BT210/BL208","v":{"$error":"#DIV/0!"}},0,{"$f":"CHOOSE(1,\"\"\"\",\"TURN\",15,BV207,BT210,BQ210)","v":"\""},null,{"$f":"BW209/BW218","v":{"$error":"#DIV/0!"}},{"$f":"BX209/BW218","v":{"$error":"#DIV/0!"}},{"$f":"BY209/BW218","v":{"$error":"#DIV/0!"}},"%",null,null,null,null,{"$f":"IF(CH209<>\"\",AVERAGE(CE209,CH209),CE209)","v":0},"target","imbal",null,null,null,null,{"$f":"IF(CI209<>\"\",AVERAGE(CL209,CI209),CL209)","v":0},"target",null,{"$f":"RNSE(CQ210,CT210)","v":"-"},{"$f":"CQ210/CL209","v":{"$error":"#DIV/0!"}},{"$f":"CM226","v":0},"?",{"$f":"CT210/CL208","v":{"$error":"#DIV/0!"}},0,{"$f":"CHOOSE(1,\"?\",\"TURN\",16,CW207,CT210,CQ210)","v":"?"},null,null,{"$f":"CX209/CX218","v":{"$error":"#DIV/0!"}},{"$f":"CY209/CX218","v":{"$error":"#DIV/0!"}},{"$f":"CZ209/CX218","v":{"$error":"#DIV/0!"}},"%",null,null,null,{"$f":"IF(DH209<>\"\",AVERAGE(DE209,DH209),DE209)","v":0},"target","imbal",{"$f":"IF(DE209<>\"\",AVERAGE(DH209,DE209),DH209)","v":0},"target",null,"-",{"$f":"DM210/DH209","v":{"$error":"#DIV/0!"}},{"$f":"DX228","v":0},"\"",{"$f":"DP210/DH208","v":{"$error":"#DIV/0!"}},0,{"$f":"CHOOSE(1,\"\"\"\",\"TURN\",15,DR207,DP210,DM210)","v":"\""},null,{"$f":"DS209/DS218","v":{"$error":"#DIV/0!"}},{"$f":"DT209/DS218","v":{"$error":"#DIV/0!"}},{"$f":"DU209/DS218","v":{"$error":"#DIV/0!"}},"%",null,null,null,null,{"$f":"IF(ED209<>\"\",AVERAGE(EA209,ED209),EA209)","v":0},"target","imbal",null,null,null,null,{"$f":"IF(EE209<>\"\",AVERAGE(EH209,EE209),EH209)","v":0},"target",null,null,{"$f":"RNSE(EN210,EQ210)","v":"-"},{"$f":"EN210/EH209","v":{"$error":"#DIV/0!"}},{"$f":"EI228","v":0},"?",{"$f":"EQ210/EH208","v":{"$error":"#DIV/0!"}},0,{"$f":"CHOOSE(1,\"?\",\"TURN\",16,ES207,EQ210,EN210)","v":"?"},null,null,null,null,null,null,null,null,{"$f":"IF(FD209<>\"\",AVERAGE(FA209,FD209),FA209)","v":0},"target","imbal",{"$f":"IF(FA209<>\"\",AVERAGE(FD209,FA209),FD209)","v":0},"target",null,{"$f":"RNSE(FI210,FL210)","v":"-"},{"$f":"FI210/FD209","v":{"$error":"#DIV/0!"}},{"$f":"FT218","v":0},"\"",{"$f":"FL210/FD208","v":{"$error":"#DIV/0!"}},0,{"$f":"CHOOSE(1,\"\"\"\",\"TURN\",15,FN207,FL210,FI210)","v":"\""},null,null,null,null,null,null,null,null,null,{"$f":"IF(FZ209<>\"\",AVERAGE(FW209,FZ209),FW209)","v":0},"target","imbal",null,null,null,null,{"$f":"IF(GA209<>\"\",AVERAGE(GD209,GA209),GD209)","v":0},"target",null,null,{"$f":"RNSE(GJ210,GM210)","v":"-"},{"$f":"GJ210/GD209","v":{"$error":"#DIV/0!"}},{"$f":"GE228","v":0},"?",{"$f":"GM210/GD208","v":{"$error":"#DIV/0!"}},0,{"$f":"CHOOSE(1,\"?\",\"TURN\",16,GO207,GM210,GJ210)","v":"?"},null,null,null,null,null,null,null,null,{"$f":"IF(GZ209<>\"\",AVERAGE(GW209,GZ209),GW209)","v":0},"target","imbal",{"$f":"IF(GW209<>\"\",AVERAGE(GZ209,GW209),GZ209)","v":0},"target",null,{"$f":"RNSE(HE210,HH210)","v":"-"},{"$f":"HE210/GZ209","v":{"$error":"#DIV/0!"}},{"$f":"HP226","v":0},"?",{"$f":"HH210/GZ208","v":{"$error":"#DIV/0!"}},0,{"$f":"CHOOSE(1,\"?\",\"TURN\",16,HJ207,HH210,HE210)","v":"?"},null,{"$f":"HK209/HK218","v":{"$error":"#DIV/0!"}},{"$f":"HL209/HK218","v":{"$error":"#DIV/0!"}},{"$f":"HM209/HK218","v":{"$error":"#DIV/0!"}},"%",null,null,null,null,{"$f":"IF(HV209<>\"\",AVERAGE(HS209,HV209),HS209)","v":0},"target","imbal"]
[null,null,null,null,null,null,null,null,null,null,null,null,null,null,null,null,null,null,null,null,null,null,null,null,null,null,null,null,null,null,null,null,null,null,null,null,null,null,null,null,null,null,null,null,null,"RNSE","%","bal",null,"%","raw",null,null,null,null,null,null,null,null,null,null,null,null,null,null,null,"RNSE","%","bal",null,"%","raw",null,null,":","#",";",null,null,null,null,null,null,null,null,null,null,null,null,"",null,null,"RNSE","%","bal",null,"%","raw",null,null,null,"L",":",";",null,null,null,null,null,null,null,null,null,null,"RNSE","%","bal",null,"%","raw",null,null,":","#",";",null,null,null,null,null,null,null,null,null,null,null,null,null,null,null,null,"RNSE","%","bal",null,"%","raw",null,null,null,null,null,null,null,null,null,null,null,null,null,null,null,"RNSE","%","bal",null,"%","raw",null,null,null,null,null,null,null,null,null,null,null,null,null,null,null,null,null,null,null,null,null,"RNSE","%","bal",null,"%","raw",null,null,null,null,null,null,null,null,null,null,null,null,"",null,null,"RNSE","%","bal",null,"%","raw",null,null,"L",":",";"]
[null,null,null,null,null,null,null,null,null,null,null,null,null,null,null,null,null,null,null,null,null,null,null,null,null,null,null,null,null,null,null,null,null,null,null,null,null,null,null,null,null,null,null,null,null,null,null,null,null,null,null,null,null,null,null,null,null,null,null,null,null,null,null,null,null,null,null,null,null,null,null,null,null,null,{"$f":"CD225","v":0},{"$f":"CC225","v":0},{"$f":"CB225","v":0},"bal",null,null,null,null,null,null,null,null,null,null,null,null,null,null,null,null,null,null,null,null,null,null,null,{"$f":"CM224","v":0},{"$f":"CO224","v":0},{"$f":"CN224","v":0},"bal",null,null,null,null,null,null,null,null,null,null,null,null,null,null,null,null,null,{"$f":"DZ225","v":0},{"$f":"DY225","v":0},{"$f":"DX225","v":0},"bal",null,null,null,null,null,null,null,null,null,null,null,null,null,null,null,null,null,null,null,null,null,null,null,null,null,null,null,null,null,null,null,null,null,null,null,null,null,null,null,null,null,null,null,null,null,null,null,null,null,null,null,null,null,null,null,null,null,null,null,null,null,null,null,null,null,null,null,null,null,null,null,null,null,null,null,null,null,null,null,null,null,null,null,null,null,null,null,null,null,null,null,null,{"$f":"HP224","v":0},{"$f":"HR224","v":0},{"$f":"HQ224","v":0},"bal"]
[null,null,null,null,null,null,null,null,null,null,null,null,null,null,null,null,null,null,null,null,null,null,null,null,null,null,null,null,null,null,null,null,null,null,null,null,null,null,null,null,null,"Local OD Estimated",null,null,null,null,null,null,null,null,null,null,null,null,null,null,null,null,null,null,null,null,null,null,null,null,null,null,null,null,null,null,null,null,{"$f":"BW212/BX218","v":{"$error":"#DIV/0!"}},{"$f":"BX212/BX218","v":{"$error":"#DIV/0!"}},{"$f":"BY212/BX218","v":{"$error":"#DIV/0!"}},"%",null,null,null,null,null,null,null,null,null,null,null,null,null,null,null,null,null,null,null,null,null,null,null,{"$f":"CX212/CY218","v":{"$error":"#DIV/0!"}},{"$f":"CY212/CY218","v":{"$error":"#DIV/0!"}},{"$f":"CZ212/CY218","v":{"$error":"#DIV/0!"}},"%",null,null,null,null,null,null,null,null,null,null,null,null,null,null,null,null,null,{"$f":"DS212/DT218","v":{"$error":"#DIV/0!"}},{"$f":"DT212/DT218","v":{"$error":"#DIV/0!"}},{"$f":"DU212/DT218","v":{"$error":"#DIV/0!"}},"%",null,null,null,null,null,null,null,null,null,null,null,null,null,null,null,null,null,null,null,null,null,null,null,null,null,null,null,null,null,null,null,null,null,null,null,null,null,null,null,null,null,null,null,null,null,null,null,null,null,null,null,null,null,null,null,null,null,null,null,null,null,null,null,null,null,null,null,null,null,null,null,null,null,null,null,null,null,null,null,null,null,null,null,null,null,null,null,null,null,null,null,null,{"$f":"HK212/HL218","v":{"$error":"#DIV/0!"}},{"$f":"HL212/HL218","v":{"$error":"#DIV/0!"}},{"$f":"HM212/HL218","v":{"$error":"#DIV/0!"}},"%"]
[null,null,null,null,null,null,null,null,null,null,null,null,null,null,null,null,null,null,null,null,null,null,null,null,null,null,null,null,null,null,null,null,null,null,null,null,null,null,null,null,null,{"$f":"\"local_od_est_\"&BA207","v":"local_od_est_1"},2,3,4,"est","tgt","err",null,null,null,null,null,null,null,null,null,null,null,null,null,null,null,null,null,null,null,null,null,null,null,null,null,null,{"$f":"RNSE(BW212,BW209)","v":"-"},{"$f":"RNSE(BX212,BX209)","v":"-"},{"$f":"RNSE(BY212,BY209)","v":"-"},"RNSE",null,null,null,null,null,null,null,null,null,null,null,null,null,null,null,null,null,null,null,null,null,null,null,{"$f":"RNSE(CX212,CX209)","v":"-"},"-",{"$f":"RNSE(CZ212,CZ209)","v":"-"},"RNSE",null,null,null,null,null,null,null,null,null,null,null,null,null,null,null,null,null,{"$f":"RNSE(DS212,DS209)","v":"-"},{"$f":"RNSE(DT212,DT209)","v":"-"},{"$f":"RNSE(DU212,DU209)","v":"-"},"RNSE",null,null,null,null,null,null,null,null,null,null,null,null,null,null,null,null,null,null,null,null,null,null,null,null,null,null,null,null,null,null,null,null,null,null,null,null,null,null,null,null,null,null,null,null,null,null,null,null,"Local OD Estimated",null,null,null,null,null,null,null,null,null,null,null,null,null,null,null,null,null,null,null,null,null,null,null,null,null,null,null,null,null,null,null,null,null,null,null,null,null,null,null,null,null,null,null,{"$f":"RNSE(HK212,HK209)","v":"-"},"-",{"$f":"RNSE(HM212,HM209)","v":"-"},"RNSE"]
[null,null,null,null,null,null,null,null,null,null,null,null,null,null,null,null,null,null,null,null,null,null,null,null,null,null,null,null,null,null,null,null,null,null,null,null,null,null,null,null,null,2,{"$f":"AQ195","v":0},0,0,{"$f":"SUM(AQ215:AS215)","v":0},{"$f":"AU195","v":0},{"$f":"IFERROR(ABS(AT215-AU215)/AU215,0)","v":0},null,null,null,null,null,null,null,null,null,null,null,null,null,null,null,null,null,null,null,null,null,null,null,null,null,null,null,null,null,null,null,null,null,null,null,null,null,null,null,null,null,null,null,null,null,null,null,null,null,null,null,null,null,null,null,null,null,null,null,null,null,null,null,null,null,null,null,null,null,null,null,null,null,null,null,null,null,null,null,null,null,null,null,null,null,null,null,null,null,null,null,null,null,null,null,null,null,null,null,null,null,null,null,null,null,null,null,null,null,null,null,null,null,null,null,null,null,null,null,null,null,null,null,null,null,null,{"$f":"\"local_od_est_\"&FN207","v":"local_od_est_2"},2,3,4,"est","tgt","err"]
[null,null,null,null,null,null,null,null,null,null,null,null,null,null,null,null,null,null,null,null,null,null,null,null,null,null,null,null,null,null,null,null,null,null,null,null,null,null,null,null,null,3,{"$f":"AQ196","v":0},0,0,{"$f":"SUM(AQ216:AS216)","v":0},{"$f":"AU196","v":0},0,null,null,null,null,null,null,null,null,null,null,null,null,null,null,null,null,null,null,null,null,null,null,null,null,null,null,null,null,null,null,null,null,null,null,null,null,null,null,null,null,null,null,null,null,null,null,null,null,null,null,null,null,null,null,null,null,null,null,null,null,null,null,null,null,null,null,null,null,null,null,null,null,null,null,null,null,null,null,null,null,null,null,null,null,null,null,null,null,null,null,null,null,null,null,null,null,null,null,null,null,null,null,null,null,null,null,null,null,null,null,null,null,null,null,null,null,null,null,null,null,null,null,null,null,null,null,2,{"$f":"FT186","v":0},0,0,{"$f":"SUM(FT216:FV216)","v":0},{"$f":"FX186","v":0},{"$f":"IFERROR(ABS(FW216-FX216)/FX216,0)","v":0}]
[null,null,null,null,null,null,null,null,null,null,null,null,null,null,null,null,null,null,null,null,null,null,null,null,null,null,null,null,null,null,null,null,null,null,null,null,null,null,null,null,null,4,{"$f":"AQ197","v":0},0,0,{"$f":"SUM(AQ217:AS217)","v":0},{"$f":"AU197","v":0},0,null,"",null,null,null,null,null,null,null,null,null,null,null,null,null,null,null,null,null,null,null,null,null,null,null,null,"#","#","target",null,null,null,null,null,null,null,null,null,null,null,null,null,null,null,null,null,null,null,null,{"$f":"IF(CU220<>\"\",CU220,CU217)","v":0},{"$f":"SUM(CX212,DB205,CQ210)","v":0},{"$f":"SUM(CX209,CY205,CT210)","v":0},null,"#","#","target","",null,null,null,null,null,null,null,null,null,null,null,null,null,null,null,null,null,"#","#","target",null,null,null,null,null,null,null,null,null,null,null,null,null,null,null,null,null,null,null,null,null,null,null,null,null,null,null,null,null,null,null,null,null,null,null,null,null,null,null,null,null,null,null,null,null,null,null,null,null,3,0,0,0,{"$f":"SUM(FT217:FV217)","v":0},{"$f":"FX187","v":0},0,null,null,null,null,null,null,null,null,null,null,null,null,null,null,null,null,null,null,null,null,null,null,null,null,null,null,null,null,null,null,null,null,null,{"$f":"IF(HH220<>\"\",HH220,HH217)","v":0},{"$f":"SUM(HK212,HO205,HE210)","v":0},{"$f":"SUM(HK209,HL205,HH210)","v":0},null,"#","#","target",""]
[null,null,null,null,null,null,null,null,null,null,null,null,null,null,null,null,null,null,null,null,null,null,null,null,null,null,null,null,null,null,null,null,null,null,null,null,null,null,null,null,null,"est",{"$f":"SUM(AQ215:AQ217)","v":0},{"$f":"SUM(AR215:AR217)","v":0},{"$f":"SUM(AS215:AS217)","v":0},null,null,null,null,null,null,null,null,null,null,null,null,null,null,null,null,null,null,null,null,null,null,null,null,null,null,null,null,null,{"$f":"SUM(BW209:BY209)","v":0},{"$f":"SUM(BW212:BY212)","v":0},{"$f":"IF(BX221<>\"\",BX221,BX218)","v":0},null,null,null,null,null,null,null,null,null,null,null,null,null,null,null,null,null,null,null,null,"target","$","$",null,{"$f":"SUM(CX209:CZ209)","v":0},{"$f":"SUM(CX212:CZ212)","v":0},{"$f":"IF(CY221<>\"\",CY221,CY218)","v":0},null,null,null,null,null,null,null,null,null,null,null,null,null,null,null,null,null,null,{"$f":"SUM(DS209:DU209)","v":0},{"$f":"SUM(DS212:DU212)","v":0},{"$f":"IF(DT221<>\"\",DT221,DT218)","v":0},null,null,null,null,null,null,null,null,null,null,null,null,null,null,null,null,null,null,null,null,{"$f":"IF(EQ221<>\"\",EQ221,EQ218)","v":0},{"$f":"SUM(EN210,EQ202,EX205)","v":0},{"$f":"SUM(EQ210,EQ205,EU205)","v":0},null,null,null,null,null,null,null,null,null,null,null,null,null,null,null,null,null,null,null,null,null,null,null,null,null,null,4,0,0,0,{"$f":"SUM(FT218:FV218)","v":0},{"$f":"FX188","v":0},0,null,null,null,null,null,null,null,null,null,null,null,null,{"$f":"IF(GM221<>\"\",GM221,GM218)","v":0},{"$f":"SUM(GJ210,GM202,GT205)","v":0},{"$f":"SUM(GM210,GM205,GQ205)","v":0},null,null,null,null,null,null,null,null,null,null,null,null,null,null,null,null,null,null,"target","$","$",null,{"$f":"SUM(HK209:HM209)","v":0},{"$f":"SUM(HK212:HM212)","v":0},{"$f":"IF(HL221<>\"\",HL221,HL218)","v":0}]
[null,null,null,null,null,null,null,null,null,null,null,null,null,null,null,null,null,null,null,null,null,null,null,null,null,null,null,null,null,null,null,null,null,null,null,null,null,null,null,null,null,"tgt",{"$f":"AQ199","v":0},{"$f":"AR199","v":0},{"$f":"AS199","v":0},null,null,null,null,null,null,null,null,null,null,null,null,null,null,null,null,null,null,null,null,null,null,null,null,null,null,null,null,null,{"$f":"IF(BX221<>\"\",BW218-BX221,0)","v":0},{"$f":"IF(BX221<>\"\",BX218-BX221,0)","v":0},"imbal",null,null,null,null,null,null,null,null,null,null,null,null,null,null,null,null,null,null,null,null,"imbal",{"$f":"IF(CU220<>\"\",CU220-CU217,0)","v":0},{"$f":"IF(CU220<>\"\",CU220-CV217,0)","v":0},null,{"$f":"IF(CY221<>\"\",CX218-CY221,0)","v":0},{"$f":"IF(CY221<>\"\",CY218-CY221,0)","v":0},"imbal",null,null,null,null,null,null,null,null,null,null,null,null,null,null,null,null,null,null,{"$f":"IF(DT221<>\"\",DS218-DT221,0)","v":0},{"$f":"IF(DT221<>\"\",DT218-DT221,0)","v":0},"imbal",null,null,null,null,null,null,null,null,null,null,null,null,null,null,null,null,null,null,null,null,"target","$","$",null,null,null,null,null,null,null,null,null,null,null,null,null,null,null,null,null,null,null,null,null,null,null,null,null,null,"est",{"$f":"SUM(FT216:FT218)","v":0},{"$f":"SUM(FU216:FU218)","v":0},{"$f":"SUM(FV216:FV218)","v":0},null,null,null,null,null,null,null,null,null,null,null,null,null,null,null,"target","$","$",null,null,null,null,null,null,null,null,null,null,null,null,null,null,null,null,null,null,"imbal",{"$f":"IF(HH220<>\"\",HH220-HH217,0)","v":0},{"$f":"IF(HH220<>\"\",HH220-HI217,0)","v":0},null,{"$f":"IF(HL221<>\"\",HK218-HL221,0)","v":0},{"$f":"IF(HL221<>\"\",HL218-HL221,0)","v":0},"imbal"]
[null,null,null,null,null,null,null,null,null,null,null,null,null,null,null,null,null,null,null,null,null,null,null,null,null,null,null,null,null,null,null,null,null,null,null,null,null,null,null,null,null,"err",{"$f":"IFERROR(ABS(AQ218-AQ219)/AQ219,0)","v":0},0,0,null,null,{"$f":"SUM(AQ220:AS220,AV215:AV217)","v":0},null,null,null,null,null,null,null,null,null,null,null,null,null,null,null,null,null,null,null,null,null,null,null,null,null,null,null,{"$f":"CHOOSE(1,\"#\",\"LINK\",BY221,BX221)","v":"#"},null,null,null,null,null,null,null,null,null,null,null,null,null,null,null,null,null,null,null,null,null,null,null,null,null,null,{"$f":"CHOOSE(1,\"#\",\"LINK\",CZ221,CY221)","v":"#"},null,null,null,null,null,null,null,null,null,null,null,null,null,null,null,null,null,null,null,null,{"$f":"CHOOSE(1,\"#\",\"LINK\",DU221,DT221)","v":"#"},null,null,null,null,null,null,null,null,null,null,null,null,null,null,null,null,null,null,null,null,null,"imbal",{"$f":"IF(EQ221<>\"\",EQ221-EQ218,0)","v":0},{"$f":"IF(EQ221<>\"\",EQ221-ER218,0)","v":0},null,null,null,null,null,null,null,null,null,null,null,null,null,null,null,null,null,null,null,null,null,null,null,null,null,null,"tgt",{"$f":"FT190","v":0},{"$f":"FU190","v":0},{"$f":"FV190","v":0},null,null,null,null,null,null,null,null,null,null,null,null,null,null,null,"imbal",{"$f":"IF(GM221<>\"\",GM221-GM218,0)","v":0},{"$f":"IF(GM221<>\"\",GM221-GN218,0)","v":0},null,null,null,null,null,null,null,null,null,null,null,null,null,null,null,null,null,null,null,null,null,null,null,{"$f":"CHOOSE(1,\"#\",\"LINK\",HM221,HL221)","v":"#"}]
[null,null,null,null,null,null,null,null,null,null,null,null,null,null,null,null,null,null,null,null,null,null,null,null,null,null,null,null,null,null,null,null,null,null,null,null,null,null,null,null,null,null,null,null,null,null,null,null,null,null,null,null,null,null,null,null,null,null,null,null,null,null,null,null,null,null,null,null,null,null,null,null,null,null,null,null,"LINK_ID",null,null,null,null,null,null,null,null,null,null,null,null,null,null,null,null,null,null,null,null,"LINK_ID",{"$f":"CHOOSE(1,\"$\",\"LINK\",CT221,CU220)","v":"$"},null,null,null,null,"LINK_ID",null,null,null,null,null,null,null,null,null,null,null,null,null,null,null,null,null,null,null,null,"LINK_ID",null,null,null,null,null,null,null,null,null,null,null,null,null,null,null,null,null,null,null,null,null,null,null,null,null,null,null,null,null,null,null,null,null,null,null,null,null,null,null,null,null,null,null,null,null,null,null,null,null,"err",{"$f":"IFERROR(ABS(FT219-FT220)/FT220,0)","v":0},0,0,null,null,{"$f":"SUM(FT221:FV221,FY216:FY218)","v":0},null,null,null,null,null,null,null,null,null,null,null,null,null,null,null,null,null,null,null,null,null,null,null,null,null,null,null,null,null,null,null,null,null,"LINK_ID",{"$f":"CHOOSE(1,\"$\",\"LINK\",HG221,HH220)","v":"$"},null,null,null,null,"LINK_ID"]
[null,null,null,null,null,null,null,null,null,null,null,null,null,null,null,null,null,null,null,null,null,null,null,null,null,null,null,null,null,null,null,null,null,null,null,null,null,null,null,null,null,null,null,null,null,null,null,null,null,null,null,null,null,null,null,null,null,null,null,null,null,null,null,null,null,null,null,null,null,null,null,null,null,null,null,null,null,null,null,null,null,null,null,null,null,null,null,null,null,"Local OD Estimated",null,null,null,null,null,null,null,null,null,null,null,null,null,null,null,null,null,null,null,null,null,null,null,null,null,null,null,null,null,null,null,null,null,null,null,null,null,null,null,null,null,null,null,null,null,null,null,null,null,null,null,null,null,null,null,"LINK_ID",{"$f":"CHOOSE(1,\"$\",\"LINK\",EP222,EQ221)","v":"$"},null,null,null,null,null,null,null,null,null,null,null,null,null,null,null,null,null,null,null,null,null,null,null,null,null,null,null,null,null,null,null,null,null,null,null,null,null,null,null,null,null,null,null,null,null,null,"LINK_ID",{"$f":"CHOOSE(1,\"$\",\"LINK\",GL222,GM221)","v":"$"},null,null,null,null,null,null,null,null,null,null,null,null,null,null,null,null,null,null,null,null,null,null,null,null,null,null,null,"Local OD Estimated"]
[null,null,null,null,null,null,null,null,null,null,null,null,null,null,null,null,null,null,null,null,null,null,null,null,null,null,null,null,null,null,null,null,null,null,null,null,null,null,null,null,null,null,null,null,null,null,null,null,null,null,null,null,null,null,null,null,null,null,null,null,null,null,null,null,null,null,null,null,null,null,null,null,null,null,null,null,null,"Local OD Estimated",null,null,null,null,null,null,null,null,null,null,null,{"$f":"\"local_od_est_\"&CW207","v":"local_od_est_1"},1,2,4,"est","tgt","err",null,null,null,null,null,null,null,null,null,null,null,null,null,null,null,null,null,null,null,null,null,null,null,null,null,null,null,null,null,"Local OD Estimated",null,null,null,null,null,null,null,null,null,null,null,"Local OD Estimated",null,null,null,null,null,null,null,null,null,null,null,null,null,null,null,null,null,null,null,null,null,null,null,null,null,null,null,null,null,null,null,null,null,null,null,null,null,null,null,null,null,null,null,null,null,null,null,"Local OD Estimated",null,null,null,null,null,null,null,null,null,null,null,null,null,null,null,null,null,null,null,null,null,null,null,null,null,null,null,null,null,null,null,null,null,null,null,null,{"$f":"\"local_od_est_\"&HJ207","v":"local_od_est_2"},1,2,4,"est","tgt","err"]
[null,null,null,null,null,null,null,null,null,null,null,null,null,null,null,null,null,null,null,null,null,null,null,null,null,null,null,null,null,null,null,null,null,null,null,null,null,null,null,null,null,null,null,null,null,null,null,null,null,null,null,null,null,null,null,null,null,null,null,null,null,null,null,null,null,null,null,null,null,null,null,null,null,null,null,null,null,{"$f":"\"local_od_est_\"&BV207","v":"local_od_est_2"},1,2,3,4,"est","tgt","err",null,null,null,null,1,{"$f":"CM195","v":0},0,0,{"$f":"SUM(CM224:CO224)","v":0},{"$f":"CQ195","v":0},{"$f":"IFERROR(ABS(CP224-CQ224)/CQ224,0)","v":0},null,null,null,null,null,null,null,null,null,null,null,null,null,null,null,null,null,null,null,null,null,null,null,null,null,null,null,null,null,{"$f":"\"local_od_est_\"&DR207","v":"local_od_est_2"},1,2,3,4,"est","tgt","err",null,null,null,null,{"$f":"\"local_od_est_\"&ES207","v":"local_od_est_1"},1,2,3,4,"est","tgt","err",null,null,null,null,null,null,null,null,null,null,null,null,null,null,null,null,null,null,null,null,null,null,null,null,null,null,null,null,null,null,null,null,null,null,null,null,null,null,null,null,{"$f":"\"local_od_est_\"&GO207","v":"local_od_est_1"},1,2,3,4,"est","tgt","err",null,null,null,null,null,null,null,null,null,null,null,null,null,null,null,null,null,null,null,null,null,null,null,null,null,null,null,null,null,1,{"$f":"HP195","v":0},0,0,{"$f":"SUM(HP224:HR224)","v":0},{"$f":"HT195","v":0},{"$f":"IFERROR(ABS(HS224-HT224)/HT224,0)","v":0}]
[null,null,null,null,null,null,null,null,null,null,null,null,null,null,null,null,null,null,null,null,null,null,null,null,null,null,null,null,null,null,null,null,null,null,null,null,null,null,null,null,null,null,null,null,null,null,null,null,null,null,null,null,null,null,null,null,null,null,null,null,null,null,null,null,null,null,null,null,null,null,null,null,null,null,null,null,null,1,{"$f":"CA186","v":0},0,0,0,{"$f":"SUM(CA225:CD225)","v":0},{"$f":"CF186","v":0},{"$f":"IFERROR(ABS(CE225-CF225)/CF225,0)","v":0},null,null,null,null,2,0,0,0,{"$f":"SUM(CM225:CO225)","v":0},{"$f":"CQ196","v":0},{"$f":"IFERROR(ABS(CP225-CQ225)/CQ225,0)","v":0},null,null,null,null,null,null,null,null,null,null,null,null,null,null,null,null,null,null,null,null,null,null,null,null,null,null,null,null,null,1,{"$f":"DW186","v":0},0,0,0,{"$f":"SUM(DW225:DZ225)","v":0},{"$f":"EB186","v":0},{"$f":"IFERROR(ABS(EA225-EB225)/EB225,0)","v":0},null,null,null,null,1,{"$f":"EI186","v":0},0,0,0,{"$f":"SUM(EI225:EL225)","v":0},{"$f":"EN186","v":0},{"$f":"IFERROR(ABS(EM225-EN225)/EN225,0)","v":0},null,null,null,null,null,null,null,null,null,null,null,null,null,null,null,null,null,null,null,null,null,null,null,null,null,null,null,null,null,null,null,null,null,null,null,null,null,null,null,null,1,{"$f":"GE186","v":0},0,0,0,{"$f":"SUM(GE225:GH225)","v":0},{"$f":"GJ186","v":0},{"$f":"IFERROR(ABS(GI225-GJ225)/GJ225,0)","v":0},null,null,null,null,null,null,null,null,null,null,null,null,null,null,null,null,null,null,null,null,null,null,null,null,null,null,null,null,null,2,0,0,0,{"$f":"SUM(HP225:HR225)","v":0},{"$f":"HT196","v":0},{"$f":"IFERROR(ABS(HS225-HT225)/HT225,0)","v":0}]
[null,null,null,null,null,null,null,null,null,null,null,null,null,null,null,null,null,null,null,null,null,null,null,null,null,null,null,null,null,null,null,null,null,null,null,null,null,null,null,null,null,null,null,null,null,null,null,null,null,null,null,null,null,null,null,null,null,null,null,null,null,null,null,null,null,null,null,null,null,null,null,null,null,null,null,null,null,2,0,0,0,0,{"$f":"SUM(CA226:CD226)","v":0},{"$f":"CF187","v":0},{"$f":"IFERROR(ABS(CE226-CF226)/CF226,0)","v":0},null,null,null,null,4,0,0,0,{"$f":"SUM(CM226:CO226)","v":0},{"$f":"CQ197","v":0},{"$f":"IFERROR(ABS(CP226-CQ226)/CQ226,0)","v":0},null,null,null,null,null,null,null,null,null,null,null,null,null,null,null,null,null,null,null,null,null,null,null,null,null,null,null,null,null,2,0,0,0,0,{"$f":"SUM(DW226:DZ226)","v":0},{"$f":"EB187","v":0},{"$f":"IFERROR(ABS(EA226-EB226)/EB226,0)","v":0},null,null,null,null,2,0,0,0,0,{"$f":"SUM(EI226:EL226)","v":0},{"$f":"EN187","v":0},{"$f":"IFERROR(ABS(EM226-EN226)/EN226,0)","v":0},null,null,null,null,null,null,null,null,null,null,null,null,null,null,null,null,null,null,null,null,null,null,null,null,null,null,null,null,null,null,null,null,null,null,null,null,null,null,null,null,2,0,0,0,0,{"$f":"SUM(GE226:GH226)","v":0},{"$f":"GJ187","v":0},{"$f":"IFERROR(ABS(GI226-GJ226)/GJ226,0)","v":0},null,null,null,null,null,null,null,null,null,null,null,null,null,null,null,null,null,null,null,null,null,null,null,null,null,null,null,null,null,4,0,0,0,{"$f":"SUM(HP226:HR226)","v":0},{"$f":"HT197","v":0},{"$f":"IFERROR(ABS(HS226-HT226)/HT226,0)","v":0}]
[null,null,null,null,null,null,null,null,null,null,null,null,null,null,null,null,null,null,null,null,null,null,null,null,null,null,null,null,null,null,null,null,null,null,null,null,null,null,null,null,null,null,null,null,null,null,null,null,null,null,null,null,null,null,null,null,null,null,null,null,null,null,null,null,null,null,null,null,null,null,null,null,null,null,null,null,null,3,0,0,0,0,0,{"$f":"CF188","v":0},0,null,null,null,null,"est",{"$f":"SUM(CM224:CM226)","v":0},{"$f":"SUM(CN224:CN226)","v":0},{"$f":"SUM(CO224:CO226)","v":0},null,null,null,null,null,null,null,null,null,null,null,null,null,null,null,null,null,null,null,null,null,null,null,null,null,null,null,null,null,null,null,null,3,0,0,0,0,0,{"$f":"EB188","v":0},0,null,null,null,null,3,0,0,0,0,0,{"$f":"EN188","v":0},0,null,null,null,null,null,null,null,null,null,null,null,null,null,null,null,null,null,null,null,null,null,null,null,null,null,null,null,null,null,null,null,null,null,null,null,null,null,null,null,null,3,0,0,0,0,0,{"$f":"GJ188","v":0},0,null,null,null,null,null,null,null,null,null,null,null,null,null,null,null,null,null,null,null,null,null,null,null,null,null,null,null,null,null,"est",{"$f":"SUM(HP224:HP226)","v":0},{"$f":"SUM(HQ224:HQ226)","v":0},{"$f":"SUM(HR224:HR226)","v":0}]
[null,null,null,null,null,null,null,null,null,null,null,null,null,null,null,null,null,null,null,null,null,null,null,null,null,null,null,null,null,null,null,null,null,null,null,null,null,null,null,null,null,null,null,null,null,null,null,null,null,null,null,null,null,null,null,null,null,null,null,null,null,null,null,null,null,null,null,null,null,null,null,null,null,null,null,null,null,4,0,0,0,0,0,{"$f":"CF189","v":0},0,null,null,null,null,"tgt",{"$f":"CM199","v":0},{"$f":"CN199","v":0},{"$f":"CO199","v":0},null,null,null,null,null,null,null,null,null,null,null,null,null,null,null,null,null,null,null,null,null,null,null,null,null,null,null,null,null,null,null,null,4,0,0,0,0,0,{"$f":"EB189","v":0},0,null,null,null,null,4,0,0,0,0,0,{"$f":"EN189","v":0},0,null,null,null,null,null,null,null,null,null,null,null,null,null,null,null,null,null,null,null,null,null,null,null,null,null,null,null,null,null,null,null,null,null,null,null,null,null,null,null,null,4,0,0,0,0,0,{"$f":"GJ189","v":0},0,null,null,null,null,null,null,null,null,null,null,null,null,null,null,null,null,null,null,null,null,null,null,null,null,null,null,null,null,null,"tgt",{"$f":"HP199","v":0},{"$f":"HQ199","v":0},{"$f":"HR199","v":0}]
[null,null,null,null,null,null,null,null,null,null,null,null,null,null,null,null,null,null,null,null,null,null,null,null,null,null,null,null,null,null,null,null,null,null,null,null,null,null,null,null,null,null,null,null,null,null,null,null,null,null,null,null,null,null,null,null,null,null,null,null,null,null,null,null,null,null,null,null,null,null,null,null,null,null,null,null,null,"est",{"$f":"SUM(CA225:CA228)","v":0},{"$f":"SUM(CB225:CB228)","v":0},0,0,null,null,null,null,null,null,null,"err",{"$f":"IFERROR(ABS(CM227-CM228)/CM228,0)","v":0},{"$f":"IFERROR(ABS(CN227-CN228)/CN228,0)","v":0},{"$f":"IFERROR(ABS(CO227-CO228)/CO228,0)","v":0},null,null,{"$f":"SUM(CM229:CO229,CR224:CR226)","v":0},null,null,null,null,null,null,null,null,null,null,null,null,null,null,null,null,null,null,null,null,null,null,null,null,null,null,null,null,null,"est",{"$f":"SUM(DW225:DW228)","v":0},{"$f":"SUM(DX225:DX228)","v":0},0,0,null,null,null,null,null,null,null,"est",{"$f":"SUM(EI225:EI228)","v":0},{"$f":"SUM(EJ225:EJ228)","v":0},0,0,null,null,null,null,null,null,null,null,null,null,null,null,null,null,null,null,null,null,null,null,null,null,null,null,null,null,null,null,null,null,null,null,null,null,null,null,null,null,null,null,null,null,null,"est",{"$f":"SUM(GE225:GE228)","v":0},{"$f":"SUM(GF225:GF228)","v":0},0,0,null,null,null,null,null,null,null,null,null,null,null,null,null,null,null,null,null,null,null,null,null,null,null,null,null,null,null,null,null,null,null,null,"err",{"$f":"IFERROR(ABS(HP227-HP228)/HP228,0)","v":0},{"$f":"IFERROR(ABS(HQ227-HQ228)/HQ228,0)","v":0},{"$f":"IFERROR(ABS(HR227-HR228)/HR228,0)","v":0},null,null,{"$f":"SUM(HP229:HR229,HU224:HU226)","v":0}]
[null,null,null,null,null,null,null,null,null,null,null,null,null,null,null,null,null,null,null,null,null,null,null,null,null,null,null,null,null,null,null,null,null,null,null,null,null,null,null,null,null,null,null,null,null,null,null,null,null,null,null,null,null,null,null,null,null,null,null,null,null,null,null,null,null,null,null,null,null,null,null,null,null,null,null,null,null,"tgt",{"$f":"CA191","v":0},{"$f":"CB191","v":0},{"$f":"CC191","v":0},{"$f":"CD191","v":0},null,null,null,null,null,null,null,null,null,null,null,null,null,null,null,null,null,null,null,null,null,null,null,null,null,null,null,null,null,null,null,null,null,null,null,null,null,null,null,null,null,null,null,"tgt",{"$f":"DW191","v":0},{"$f":"DX191","v":0},{"$f":"DY191","v":0},{"$f":"DZ191","v":0},null,null,null,null,null,null,null,"tgt",{"$f":"EI191","v":0},{"$f":"EJ191","v":0},{"$f":"EK191","v":0},{"$f":"EL191","v":0},null,null,null,null,null,null,null,null,null,null,null,null,null,null,null,null,null,null,null,null,null,null,null,null,null,null,null,null,null,null,null,null,null,null,null,null,null,null,null,null,null,null,null,"tgt",{"$f":"GE191","v":0},{"$f":"GF191","v":0},{"$f":"GG191","v":0},{"$f":"GH191","v":0}]
[null,null,null,null,null,null,null,null,null,null,null,null,null,null,null,null,null,null,null,null,null,null,null,null,null,null,null,null,null,null,null,null,null,null,null,null,null,null,null,null,null,null,null,null,null,null,null,null,null,null,null,null,null,null,null,null,null,null,null,null,null,null,null,null,null,null,null,null,null,null,null,null,null,null,null,null,null,"err",{"$f":"IFERROR(ABS(CA229-CA230)/CA230,0)","v":0},{"$f":"IFERROR(ABS(CB229-CB230)/CB230,0)","v":0},0,0,null,null,{"$f":"SUM(CA231:CD231,CG225:CG228)","v":0},null,null,null,null,null,null,null,null,null,null,null,null,null,null,null,null,null,null,null,null,null,null,null,null,null,null,null,null,null,null,null,null,null,null,null,null,null,null,null,null,"err",{"$f":"IFERROR(ABS(DW229-DW230)/DW230,0)","v":0},{"$f":"IFERROR(ABS(DX229-DX230)/DX230,0)","v":0},0,0,null,null,{"$f":"SUM(DW231:DZ231,EC225:EC228)","v":0},null,null,null,null,"err",{"$f":"IFERROR(ABS(EI229-EI230)/EI230,0)","v":0},{"$f":"IFERROR(ABS(EJ229-EJ230)/EJ230,0)","v":0},0,0,null,null,{"$f":"SUM(EI231:EL231,EO225:EO228)","v":0},null,null,null,null,null,null,null,null,null,null,null,null,null,null,null,null,null,null,null,null,null,null,null,null,null,null,null,null,null,null,null,null,null,null,null,null,null,null,null,null,"err",{"$f":"IFERROR(ABS(GE229-GE230)/GE230,0)","v":0},{"$f":"IFERROR(ABS(GF229-GF230)/GF230,0)","v":0},0,0,null,null,{"$f":"SUM(GE231:GH231,GK225:GK228)","v":0}]

{"sheet":"PARCLO E-W","index":6,"n_rows":192,"n_cols":270,"rows_kept":192,"cut":false,"hidden":false,"merged":[]}
[]
[]
[]
[]
[]
[]
[]
[]
[]
[]
[]
[]
[]
[]
[]
[]
[]
[]
[]
[]
[]
[]
[]
[]
[]
[]
[]
[]
[]
[]
[]
[]
[]
[]
[]
[]
[null,null,null,null,null,null,null,null,null,null,null,null,null,null,null,null,null,null,null,null,null,null,null,null,null,null,null,null,null,null,null,null,null,null,null,null,null,null,null,null,null,null,null,null,null,null,null,null,null,{"$f":"IF(AY34<>\"\",AVERAGE(AY37,AY34),AY37)","v":0},{"$f":"SUM(AX49:AZ49)","v":0},{"$f":"SUM(AX52:AZ52)","v":0},null,{"$f":"IF(BB36<>\"\",BB36-BB39,0)","v":0},{"$f":"IF(BC36<>\"\",BC36-BC39,0)","v":0},"imbal",null,null,null,null,null,null,null,null,null,null,null,null,null,null,null,null,null,null,null,null,null,null,null,null,null,null,null,null,null,null,null,null,null,null,null,null,null,null,null,null,null,null,null,null,null,null,null,null,null,null,null,null,null,null,null,null,null,{"$f":"IF(DK34<>\"\",AVERAGE(DK37,DK34),DK37)","v":0},{"$f":"SUM(DJ49:DL49)","v":0},{"$f":"SUM(DJ52:DL52)","v":0},null,{"$f":"IF(DN36<>\"\",DN36-DN39,0)","v":0},{"$f":"IF(DO36<>\"\",DO36-DO39,0)","v":0},"imbal",null,null,null,null,null,null,null,null,null,null,null,null,null,null,null,null,null,null,null,null,null,null,null,null,null,null,null,null,null,null,null,null,null,null,null,null,null,null,null,null,null,null,null,null,null,null,null,null,null,null,null,null,null,null,null,null,null,{"$f":"IF(FW34<>\"\",AVERAGE(FW37,FW34),FW37)","v":0},{"$f":"SUM(FV49:FX49)","v":0},{"$f":"SUM(FV52:FX52)","v":0},null,{"$f":"IF(FZ36<>\"\",FZ36-FZ39,0)","v":0},{"$f":"IF(GA36<>\"\",GA36-GA39,0)","v":0},"imbal",null,null,null,null,null,null,null,null,null,null,null,null,null,null,null,null,null,null,null,null,null,null,null,null,null,null,null,null,null,null,null,null,null,null,null,null,null,null,null,null,null,null,null,null,null,null,null,null,null,null,null,null,null,null,null,null,null,{"$f":"IF(II34<>\"\",AVERAGE(II37,II34),II37)","v":0},{"$f":"SUM(IH49:IJ49)","v":0},{"$f":"SUM(IH52:IJ52)","v":0},null,{"$f":"IF(IL36<>\"\",IL36-IL39,0)","v":0},{"$f":"IF(IM36<>\"\",IM36-IM39,0)","v":0},"imbal"]
[null,null,null,null,null,null,null,null,null,null,null,null,null,null,null,null,null,null,null,null,null,null,null,null,null,null,null,null,null,null,null,null,null,null,null,null,null,null,null,null,null,null,null,null,null,null,null,null,null,"target","$","$",null,"#","#","target",null,null,null,null,null,null,null,null,null,null,null,null,null,null,null,null,null,null,null,null,null,null,null,null,null,null,null,null,null,null,null,null,null,null,null,null,null,null,null,null,null,null,null,null,null,null,null,null,null,null,null,null,null,null,null,null,null,"target","$","$",null,"#","#","target",null,null,null,null,null,null,null,null,null,null,null,null,null,null,null,null,null,null,null,null,null,null,null,null,null,null,null,null,null,null,null,null,null,null,null,null,null,null,null,null,null,null,null,null,null,null,null,null,null,null,null,null,null,null,null,null,null,"target","$","$",null,"#","#","target",null,null,null,null,null,null,null,null,null,null,null,null,null,null,null,null,null,null,null,null,null,null,null,null,null,null,null,null,null,null,null,null,null,null,null,null,null,null,null,null,null,null,null,null,null,null,null,null,null,null,null,null,null,null,null,null,null,"target","$","$",null,"#","#","target"]
[null,null,null,null,null,null,null,null,null,null,null,null,null,null,null,null,null,null,null,null,null,null,null,null,null,null,null,null,null,null,null,null,null,null,null,null,null,null,null,null,null,null,null,null,null,null,null,null,null,null,null,null,null,{"$f":"SUM(AZ52,AY56,BD56)","v":0},{"$f":"SUM(AZ49,AV56,BD59)","v":0},{"$f":"IF(BC36<>\"\",AVERAGE(BC39,BC36),BC39)","v":0},null,null,null,null,null,null,null,null,null,null,null,null,null,null,null,null,null,null,null,null,null,null,null,null,null,null,null,null,null,null,null,null,null,null,null,null,null,null,null,null,null,null,null,null,null,null,null,null,null,null,null,null,null,null,null,null,null,null,null,null,null,{"$f":"SUM(DL52,DK56,DP56)","v":0},{"$f":"SUM(DL49,DH56,DP59)","v":0},{"$f":"IF(DO36<>\"\",AVERAGE(DO39,DO36),DO39)","v":0},null,null,null,null,null,null,null,null,null,null,null,null,null,null,null,null,null,null,null,null,null,null,null,null,null,null,null,null,null,null,null,null,null,null,null,null,null,null,null,null,null,null,null,null,null,null,null,null,null,null,null,null,null,null,null,null,null,null,null,null,null,{"$f":"SUM(FX52,FW56,GB56)","v":0},{"$f":"SUM(FX49,FT56,GB59)","v":0},{"$f":"IF(GA36<>\"\",AVERAGE(GA39,GA36),GA39)","v":0},null,null,null,null,null,null,null,null,null,null,null,null,null,null,null,null,null,null,null,null,null,null,null,null,null,null,null,null,null,null,null,null,null,null,null,null,null,null,null,null,null,null,null,null,null,null,null,null,null,null,null,null,null,null,null,null,null,null,null,null,null,{"$f":"SUM(IJ52,IN56,IM51)","v":0},{"$f":"SUM(IJ49,IN59,IP51)","v":0},{"$f":"IF(IM36<>\"\",AVERAGE(IM39,IM36),IM39)","v":0}]
[null,null,null,null,null,null,null,null,null,null,null,null,null,null,null,null,null,null,null,null,null,null,null,null,null,null,null,null,null,null,null,null,null,null,null,null,null,null,{"$f":"CHOOSE(1,BA54&\":\",\"IX_NAME\",AN40)","v":"1:"},"Default St & WB I-888 Ramps",null,null,null,null,null,null,null,null,null,null,null,null,null,null,null,null,null,null,null,null,null,"Local OD Raw",null,null,null,null,null,null,null,null,null,null,null,null,null,null,null,null,null,null,null,null,null,null,null,null,null,null,null,null,null,null,null,null,null,null,null,null,null,null,null,null,{"$f":"CHOOSE(1,DM54&\":\",\"IX_NAME\",CZ40)","v":"1:"},"Default St & WB I-888 Ramps",null,null,null,null,null,null,null,null,null,null,null,null,null,null,null,null,null,null,null,null,null,"Local OD Raw",null,null,null,null,null,null,null,null,null,null,null,null,null,null,null,null,null,null,null,null,null,null,null,null,null,null,null,null,null,null,null,null,null,null,null,null,null,null,null,null,{"$f":"CHOOSE(1,FY54&\":\",\"IX_NAME\",FL40)","v":"1:"},"Default St & WB I-888 Ramps",null,null,null,null,null,null,null,null,null,null,null,null,null,null,null,null,null,null,null,null,null,"Local OD Raw",null,null,null,null,null,null,null,null,null,null,null,null,null,null,null,null,null,null,null,null,null,null,null,null,null,null,null,null,null,null,null,null,null,null,null,null,null,null,null,null,{"$f":"CHOOSE(1,IK54&\":\",\"IX_NAME\",HX40)","v":"1:"},"Default St & WB I-888 Ramps",null,null,null,null,null,null,null,null,null,null,null,null,null,null,null,null,null,null,null,null,null,"Local OD Raw",null,null,null,null,null,null,null,null,"Local OD Estimated"]
[null,null,null,null,null,null,null,null,null,null,null,null,null,null,null,null,null,null,null,null,null,null,null,null,null,null,null,null,null,null,null,null,null,null,null,null,null,null,null,"Raw Count Date:",null,null,null,null,null,null,null,null,null,null,null,null,null,null,null,null,null,null,null,null,null,{"$f":"\"local_od_raw_\"&BA54","v":"local_od_raw_1"},1,3,4,"est","tgt","err",null,null,null,null,null,null,null,null,null,null,null,null,null,null,null,null,null,null,null,null,null,null,null,null,null,null,null,null,null,null,null,null,null,null,null,"Raw Count Date:",null,null,null,null,null,null,null,null,null,null,null,null,null,null,null,null,null,null,null,null,null,{"$f":"\"local_od_raw_\"&DM54","v":"local_od_raw_1"},1,3,4,"est","tgt","err",null,null,null,null,null,null,null,null,null,null,null,null,null,null,null,null,null,null,null,null,null,null,null,null,null,null,null,null,null,null,null,null,null,null,null,"Raw Count Date:",null,null,null,null,null,null,null,null,null,null,null,null,null,null,null,null,null,null,null,null,null,{"$f":"\"local_od_raw_\"&FY54","v":"local_od_raw_1"},1,3,4,"est","tgt","err",null,null,null,null,null,null,null,null,null,null,null,null,null,null,null,null,null,null,null,null,null,null,null,null,null,null,null,null,null,null,null,null,null,null,null,"Raw Count Date:",null,null,null,null,null,null,null,null,null,null,null,null,null,null,null,null,null,null,null,null,null,{"$f":"\"local_od_raw_\"&IK54","v":"local_od_raw_1"},1,2,3,4,"est","tgt","err",null,{"$f":"\"local_od_est_\"&IK54","v":"local_od_est_1"},1,2,3,4,"est","tgt","err"]
[null,null,null,null,null,null,null,null,null,null,null,null,null,null,null,null,null,null,null,null,null,null,null,null,null,null,null,null,null,null,null,null,null,null,null,null,null,null,null,null,null,null,null,null,null,null,null,null,null,null,null,null,null,null,null,null,null,null,null,null,null,1,{"$f":"BB56","v":0},{"$f":"BD56","v":0},{"$f":"BC56","v":0},{"$f":"SUM(BK42:BM42)","v":0},{"$f":"BD71","v":0},{"$f":"IFERROR(ABS(BN42-BO42)/BO42,0)","v":0},null,null,null,null,null,null,null,null,null,null,null,null,null,null,null,null,null,null,null,null,null,null,null,null,null,null,null,null,null,null,null,null,null,null,null,null,null,null,null,null,null,null,null,null,null,null,null,null,null,null,null,null,null,null,null,null,null,1,{"$f":"DN56","v":0},{"$f":"DP56","v":0},{"$f":"DO56","v":0},{"$f":"SUM(DW42:DY42)","v":0},{"$f":"DP71","v":0},{"$f":"IFERROR(ABS(DZ42-EA42)/EA42,0)","v":0},null,null,null,null,null,null,null,null,null,null,null,null,null,null,null,null,null,null,null,null,null,null,null,null,null,null,null,null,null,null,null,null,null,null,null,null,null,null,null,null,null,null,null,null,null,null,null,null,null,null,null,null,null,null,null,null,null,1,{"$f":"FZ56","v":0},{"$f":"GB56","v":0},{"$f":"GA56","v":0},{"$f":"SUM(GI42:GK42)","v":0},{"$f":"GB71","v":0},{"$f":"IFERROR(ABS(GL42-GM42)/GM42,0)","v":0},null,null,null,null,null,null,null,null,null,null,null,null,null,null,null,null,null,null,null,null,null,null,null,null,null,null,null,null,null,null,null,null,null,null,null,null,null,null,null,null,null,null,null,null,null,null,null,null,null,null,null,null,null,null,null,null,null,1,{"$f":"IL56","v":0},0,{"$f":"IN56","v":0},{"$f":"IM56","v":0},{"$f":"SUM(IU42:IX42)","v":0},{"$f":"IN71","v":0},{"$f":"IFERROR(ABS(IY42-IZ42)/IZ42,0)","v":0},null,1,{"$f":"IU42","v":0},0,0,0,{"$f":"SUM(JD42:JG42)","v":0},{"$f":"IZ42","v":0},{"$f":"IFERROR(ABS(JH42-JI42)/JI42,0)","v":0}]
[null,null,null,null,null,null,null,null,null,null,null,null,null,null,null,null,null,null,null,null,null,null,null,null,null,null,null,null,null,null,null,null,null,null,null,null,null,null,null,null,null,null,null,null,null,null,null,null,null,null,null,null,null,"Default St",null,null,null,null,null,null,null,3,{"$f":"AY52","v":0},{"$f":"AZ52","v":0},{"$f":"AX52","v":0},{"$f":"SUM(BK43:BM43)","v":0},{"$f":"AX37","v":0},{"$f":"IFERROR(ABS(BN43-BO43)/BO43,0)","v":0},null,null,null,null,null,null,null,null,null,null,null,null,null,null,null,null,null,null,null,null,null,null,null,null,null,null,null,null,null,null,null,null,null,null,null,null,null,null,null,null,null,null,null,null,null,null,null,null,null,"Default St",null,null,null,null,null,null,null,3,{"$f":"DK52","v":0},{"$f":"DL52","v":0},{"$f":"DJ52","v":0},{"$f":"SUM(DW43:DY43)","v":0},{"$f":"DJ37","v":0},{"$f":"IFERROR(ABS(DZ43-EA43)/EA43,0)","v":0},null,null,null,null,null,null,null,null,null,null,null,null,null,null,null,null,null,null,null,null,null,null,null,null,null,null,null,null,null,null,null,null,null,null,null,null,null,null,null,null,null,null,null,null,null,null,null,null,null,"Default St",null,null,null,null,null,null,null,3,{"$f":"FW52","v":0},{"$f":"FX52","v":0},{"$f":"FV52","v":0},{"$f":"SUM(GI43:GK43)","v":0},{"$f":"FV37","v":0},{"$f":"IFERROR(ABS(GL43-GM43)/GM43,0)","v":0},null,null,null,null,null,null,null,null,null,null,null,null,null,null,null,null,null,null,null,null,null,null,null,null,null,null,null,null,null,null,null,null,null,null,null,null,null,null,null,null,null,null,null,null,null,null,null,"Default St",null,null,null,null,null,null,null,null,null,2,{"$f":"IM53","v":0},0,{"$f":"IM51","v":0},{"$f":"IM52","v":0},{"$f":"SUM(IU43:IX43)","v":0},{"$f":"IV54","v":0},{"$f":"IFERROR(ABS(IY43-IZ43)/IZ43,0)","v":0},null,2,0,0,0,0,{"$f":"SUM(JD43:JG43)","v":0},{"$f":"IZ43","v":0},{"$f":"IFERROR(ABS(JH43-JI43)/JI43,0)","v":0}]
[null,null,null,null,null,null,null,null,null,null,null,null,null,null,null,null,null,null,null,null,null,null,null,null,null,null,null,null,null,null,null,null,null,null,null,null,null,null,null,null,null,null,null,null,null,null,null,null,"",null,null,null,null,null,null,null,null,null,null,null,null,4,{"$f":"AY57","v":0},{"$f":"AY56","v":0},{"$f":"AY55","v":0},{"$f":"SUM(BK44:BM44)","v":0},{"$f":"AS62","v":0},0,null,null,null,null,null,null,null,null,null,null,null,null,null,null,null,null,null,null,null,null,null,null,null,null,null,null,null,null,null,null,null,null,null,null,null,null,null,null,null,null,null,null,null,null,"",null,null,null,null,null,null,null,null,null,null,null,null,4,{"$f":"DK57","v":0},{"$f":"DK56","v":0},{"$f":"DK55","v":0},{"$f":"SUM(DW44:DY44)","v":0},{"$f":"DE62","v":0},0,null,null,null,null,null,null,null,null,null,null,null,null,null,null,null,null,null,null,null,null,null,null,null,null,null,null,null,null,null,null,null,null,null,null,null,null,null,null,null,null,null,null,null,null,"",null,null,null,null,null,null,null,null,null,null,null,null,4,{"$f":"FW57","v":0},{"$f":"FW56","v":0},{"$f":"FW55","v":0},{"$f":"SUM(GI44:GK44)","v":0},{"$f":"FQ62","v":0},0,null,null,null,null,null,null,null,null,null,null,null,null,null,null,null,null,null,null,null,null,null,null,null,null,null,null,null,null,null,null,null,null,null,null,null,null,null,null,null,null,null,null,null,null,"",null,null,null,null,null,null,null,null,null,null,null,null,3,{"$f":"II52","v":0},0,{"$f":"IJ52","v":0},{"$f":"IH52","v":0},{"$f":"SUM(IU44:IX44)","v":0},{"$f":"IH37","v":0},0,null,3,0,0,0,0,0,{"$f":"IZ44","v":0},0]
[null,null,null,null,null,null,null,null,null,null,null,null,null,null,null,null,null,null,null,null,null,null,null,null,null,null,null,null,null,null,null,null,null,null,null,null,null,null,null,null,null,null,null,null,null,null,null,null,null,null,null,null,null,null,null,null,null,null,null,null,null,"est",{"$f":"SUM(BK42:BK44)","v":0},{"$f":"SUM(BL42:BL44)","v":0},{"$f":"SUM(BM42:BM44)","v":0},null,null,null,null,null,null,null,null,null,null,null,null,null,null,null,null,null,null,null,null,null,null,null,null,null,null,null,null,null,null,null,null,null,null,null,null,null,null,null,null,null,null,null,null,null,null,null,null,null,null,null,null,null,null,null,null,null,null,null,null,"est",{"$f":"SUM(DW42:DW44)","v":0},{"$f":"SUM(DX42:DX44)","v":0},{"$f":"SUM(DY42:DY44)","v":0},null,null,null,null,null,null,null,null,null,null,null,null,null,null,null,null,null,null,null,null,null,null,null,null,null,null,null,null,null,null,null,null,null,null,null,null,null,null,null,null,null,null,null,null,null,null,null,null,null,null,null,null,null,null,null,null,null,null,null,null,"est",{"$f":"SUM(GI42:GI44)","v":0},{"$f":"SUM(GJ42:GJ44)","v":0},{"$f":"SUM(GK42:GK44)","v":0},null,null,null,null,null,null,null,null,null,null,null,null,null,null,null,null,null,null,null,null,null,null,null,null,null,null,null,null,null,null,null,null,null,null,null,null,null,null,null,null,null,null,null,null,null,null,null,null,null,null,null,null,null,null,null,null,null,null,null,null,4,0,0,0,0,{"$f":"SUM(IU45:IX45)","v":0},0,0,null,4,0,0,0,0,0,{"$f":"IZ45","v":0},0]
[null,null,null,null,null,null,null,null,null,null,null,null,null,null,null,null,null,null,null,null,null,null,null,null,null,null,null,null,null,null,null,null,null,null,null,null,null,null,null,null,null,null,null,null,null,null,null,null,null,null,null,null,null,null,null,null,null,null,null,null,null,"tgt",{"$f":"AX69","v":0},{"$f":"BD39","v":0},{"$f":"AR51","v":0},null,null,null,null,null,null,null,null,null,null,null,null,null,null,null,null,null,null,null,null,null,null,null,null,null,null,null,null,null,null,null,null,null,null,null,null,null,null,null,null,null,null,null,null,null,null,null,null,null,null,null,null,null,null,null,null,null,null,null,null,"tgt",{"$f":"DJ69","v":0},{"$f":"DP39","v":0},{"$f":"DD51","v":0},null,null,null,null,null,null,null,null,null,null,null,null,null,null,null,null,null,null,null,null,null,null,null,null,null,null,null,null,null,null,null,null,null,null,null,null,null,null,null,null,null,null,null,null,null,null,null,null,null,null,null,null,null,null,null,null,null,null,null,null,"tgt",{"$f":"FV69","v":0},{"$f":"GB39","v":0},{"$f":"FP51","v":0},null,null,null,null,null,null,null,null,null,null,null,null,null,null,null,null,null,null,null,null,null,null,null,null,null,null,null,null,null,null,null,null,null,null,null,null,null,null,null,null,null,null,null,null,null,null,null,null,null,null,null,null,null,null,null,null,null,null,null,null,"est",{"$f":"SUM(IU42:IU45)","v":0},{"$f":"SUM(IV42:IV45)","v":0},{"$f":"SUM(IW42:IW45)","v":0},{"$f":"SUM(IX42:IX45)","v":0},null,null,null,null,"est",{"$f":"SUM(JD42:JD45)","v":0},{"$f":"SUM(JE42:JE45)","v":0},0,0]
[null,null,null,null,null,null,null,null,null,null,null,null,null,null,null,null,null,null,null,null,null,null,null,null,null,null,null,null,null,null,null,null,null,null,null,null,null,null,null,null,null,null,null,null,null,null,null,null,"RNSE",{"$f":"RNSE(AX49,AX52)","v":"-"},{"$f":"RNSE(AY49,AY52)","v":"-"},{"$f":"RNSE(AZ49,AZ52)","v":"-"},null,null,null,null,null,null,null,null,null,"err",{"$f":"IFERROR(ABS(BK45-BK46)/BK46,0)","v":0},{"$f":"IFERROR(ABS(BL45-BL46)/BL46,0)","v":0},0,null,null,{"$f":"SUM(BK47:BM47,BP42:BP44)","v":0},null,null,null,null,null,null,null,null,null,null,null,null,null,null,null,null,null,null,null,null,null,null,null,null,null,null,null,null,null,null,null,null,null,null,null,null,null,null,null,null,null,null,null,null,"RNSE",{"$f":"RNSE(DJ49,DJ52)","v":"-"},{"$f":"RNSE(DK49,DK52)","v":"-"},{"$f":"RNSE(DL49,DL52)","v":"-"},null,null,null,null,null,null,null,null,null,"err",{"$f":"IFERROR(ABS(DW45-DW46)/DW46,0)","v":0},{"$f":"IFERROR(ABS(DX45-DX46)/DX46,0)","v":0},0,null,null,{"$f":"SUM(DW47:DY47,EB42:EB44)","v":0},null,null,null,null,null,null,null,null,null,null,null,null,null,null,null,null,null,null,null,null,null,null,null,null,null,null,null,null,null,null,null,null,null,null,null,null,null,null,null,null,null,null,null,null,"RNSE",{"$f":"RNSE(FV49,FV52)","v":"-"},{"$f":"RNSE(FW49,FW52)","v":"-"},{"$f":"RNSE(FX49,FX52)","v":"-"},null,null,null,null,null,null,null,null,null,"err",{"$f":"IFERROR(ABS(GI45-GI46)/GI46,0)","v":0},{"$f":"IFERROR(ABS(GJ45-GJ46)/GJ46,0)","v":0},0,null,null,{"$f":"SUM(GI47:GK47,GN42:GN44)","v":0},null,null,null,null,null,null,null,null,null,null,null,null,null,null,null,null,null,null,null,null,null,null,null,null,null,null,null,null,null,null,null,null,null,null,null,null,null,null,null,null,null,null,null,null,"RNSE",{"$f":"RNSE(IH49,IH52)","v":"-"},{"$f":"RNSE(II49,II52)","v":"-"},{"$f":"RNSE(IJ49,IJ52)","v":"-"},null,null,null,null,null,null,null,null,null,"tgt",{"$f":"IH69","v":0},0,{"$f":"IN39","v":0},{"$f":"IB54","v":0},null,null,null,null,"tgt",{"$f":"IU47","v":0},{"$f":"IV47","v":0},{"$f":"IW47","v":0},{"$f":"IX47","v":0}]
[null,null,null,null,null,null,null,null,null,null,null,null,null,null,null,null,null,null,null,null,null,null,null,null,null,null,null,null,null,null,null,null,null,null,null,null,null,null,null,null,null,null,null,null,null,null,null,null,"%",{"$f":"AX49/AY37","v":{"$error":"#DIV/0!"}},{"$f":"AY49/AY37","v":{"$error":"#DIV/0!"}},{"$f":"AZ49/AY37","v":{"$error":"#DIV/0!"}},null,null,null,null,null,null,null,null,null,null,null,null,null,null,null,null,null,null,null,null,null,null,null,null,null,null,null,null,null,null,null,null,null,null,null,null,null,null,null,null,null,null,null,null,null,null,null,null,null,null,null,null,null,null,null,null,null,null,null,null,"%",{"$f":"DJ49/DK37","v":{"$error":"#DIV/0!"}},{"$f":"DK49/DK37","v":{"$error":"#DIV/0!"}},{"$f":"DL49/DK37","v":{"$error":"#DIV/0!"}},null,null,null,null,null,null,null,null,null,null,null,null,null,null,null,null,null,null,null,null,null,null,null,null,null,null,null,null,null,null,null,null,null,null,null,null,null,null,null,null,null,null,null,null,null,null,null,null,null,null,null,null,null,null,null,null,null,null,null,null,"%",{"$f":"FV49/FW37","v":{"$error":"#DIV/0!"}},{"$f":"FW49/FW37","v":{"$error":"#DIV/0!"}},{"$f":"FX49/FW37","v":{"$error":"#DIV/0!"}},null,null,null,null,null,null,null,null,null,null,null,null,null,null,null,null,null,null,null,null,null,null,null,null,null,null,null,null,null,null,null,null,null,null,null,null,null,null,null,null,null,null,null,null,null,null,null,null,null,null,null,null,null,null,null,null,null,null,null,null,"%",{"$f":"IH49/II37","v":{"$error":"#DIV/0!"}},{"$f":"II49/II37","v":{"$error":"#DIV/0!"}},{"$f":"IJ49/II37","v":{"$error":"#DIV/0!"}},null,null,null,null,null,null,null,null,null,"err",{"$f":"IFERROR(ABS(IU46-IU47)/IU47,0)","v":0},{"$f":"IFERROR(ABS(IV46-IV47)/IV47,0)","v":0},0,0,null,null,{"$f":"SUM(IU48:IX48,JA42:JA45)","v":0},null,"err",{"$f":"IFERROR(ABS(JD46-JD47)/JD47,0)","v":0},{"$f":"IFERROR(ABS(JE46-JE47)/JE47,0)","v":0},0,0,null,null,{"$f":"SUM(JD48:JG48,JJ42:JJ45)","v":0}]
[null,null,null,null,null,null,null,null,null,null,null,null,null,null,null,null,null,null,null,null,null,null,null,null,null,null,null,null,null,null,null,null,null,null,null,null,null,null,null,null,null,null,null,null,null,null,null,null,"bal",{"$f":"BM62","v":0},{"$f":"BK62","v":0},{"$f":"BL62","v":0},null,null,null,null,null,null,null,null,null,null,null,null,null,null,null,null,null,null,null,null,null,null,null,null,null,null,null,null,null,null,null,null,null,null,null,null,null,null,null,null,null,null,null,null,null,null,null,null,null,null,null,null,null,null,null,null,null,null,null,null,"bal",{"$f":"DY62","v":0},{"$f":"DW62","v":0},{"$f":"DX62","v":0},null,null,null,null,null,null,null,null,null,null,null,null,null,null,null,null,null,null,null,null,null,null,null,null,null,null,null,null,null,null,null,null,null,null,null,null,null,null,null,null,null,null,null,null,null,null,null,null,null,null,null,null,null,null,null,null,null,null,null,null,"bal",{"$f":"GK62","v":0},{"$f":"GI62","v":0},{"$f":"GJ62","v":0},null,null,null,null,null,null,null,null,null,null,null,null,null,null,null,null,null,null,null,null,null,null,null,null,null,null,null,null,null,null,null,null,null,null,null,null,null,null,null,null,null,null,null,null,null,null,null,null,null,null,null,null,null,null,null,null,null,null,null,null,"bal",{"$f":"JG44","v":0},{"$f":"JD44","v":0},{"$f":"JF44","v":0}]
[null,null,null,null,null,null,null,null,null,null,null,null,null,null,null,null,null,null,null,null,null,null,null,null,null,null,null,null,null,null,null,null,null,null,null,null,null,null,null,null,null,null,null,null,null,null,null,null,null,8,"$","M",null,null,null,null,null,null,null,null,null,null,"",null,null,null,null,null,null,null,null,null,null,null,null,null,null,null,null,null,null,null,null,null,null,null,null,null,null,null,null,null,null,null,null,null,null,null,null,null,null,null,null,null,null,null,null,null,null,null,null,null,null,8,"$","M",null,null,null,null,null,null,null,null,null,null,"",null,null,null,null,null,null,null,null,null,null,null,null,null,null,null,null,null,null,null,null,null,null,null,null,null,null,null,null,null,null,null,null,null,null,null,null,null,null,null,null,null,null,null,null,null,null,null,null,null,null,8,"$","M",null,null,null,null,null,null,null,null,null,null,"",null,null,null,null,null,null,null,null,null,null,null,null,null,null,null,null,null,null,null,null,null,null,null,null,null,null,null,null,null,null,null,null,null,null,null,null,null,null,null,null,null,null,null,null,null,null,null,null,null,null,8,"$","M",null,null,"raw","%",null,"bal","%","RNSE",null,null,""]
[null,null,null,null,null,null,null,null,null,null,null,null,null,null,null,null,null,null,null,null,null,null,null,null,null,null,null,null,null,null,null,null,null,null,null,null,null,null,null,"LINK_ID",null,"imbal","target",{"$f":"IF(AO52<>\"\",AO52,AR52)","v":0},null,null,null,null,"%",{"$f":"AX52/AZ37","v":{"$error":"#DIV/0!"}},{"$f":"AY52/AZ37","v":{"$error":"#DIV/0!"}},{"$f":"AZ52/AZ37","v":{"$error":"#DIV/0!"}},null,null,null,null,null,null,null,null,null,null,null,null,null,null,null,null,null,null,null,null,null,null,null,null,null,null,null,null,null,null,null,null,null,null,null,null,null,null,null,null,null,null,null,null,null,null,null,null,null,null,null,"LINK_ID",null,"imbal","target",{"$f":"IF(DA52<>\"\",DA52,DD52)","v":0},null,null,null,null,"%",{"$f":"DJ52/DL37","v":{"$error":"#DIV/0!"}},{"$f":"DK52/DL37","v":{"$error":"#DIV/0!"}},{"$f":"DL52/DL37","v":{"$error":"#DIV/0!"}},null,null,null,null,null,null,null,null,null,null,null,null,null,null,null,null,null,null,null,null,null,null,null,null,null,null,null,null,null,null,null,null,null,null,null,null,null,null,null,null,null,null,null,null,null,null,null,null,null,null,null,"LINK_ID",null,"imbal","target",{"$f":"IF(FM52<>\"\",FM52,FP52)","v":0},null,null,null,null,"%",{"$f":"FV52/FX37","v":{"$error":"#DIV/0!"}},{"$f":"FW52/FX37","v":{"$error":"#DIV/0!"}},{"$f":"FX52/FX37","v":{"$error":"#DIV/0!"}},null,null,null,null,null,null,null,null,null,null,null,null,null,null,null,null,null,null,null,null,null,null,null,null,null,null,null,null,null,null,null,null,null,null,null,null,null,null,null,null,null,null,null,null,null,null,null,null,null,null,null,null,null,null,null,null,null,null,null,null,"%",{"$f":"IH52/IJ37","v":{"$error":"#DIV/0!"}},{"$f":"II52/IJ37","v":{"$error":"#DIV/0!"}},{"$f":"IJ52/IJ37","v":{"$error":"#DIV/0!"}},null,{"$f":"CHOOSE(1,\"<\",\"TURN\",8,IK54,IM51,IP51)","v":"<"},0,{"$f":"IM51/IV56","v":{"$error":"#DIV/0!"}},"<",{"$f":"JF43","v":0},{"$f":"IP51/IV55","v":{"$error":"#DIV/0!"}},{"$f":"RNSE(IP51,IM51)","v":"-"}]
[null,null,null,null,null,null,null,null,null,null,null,null,null,null,null,null,null,null,null,null,null,null,null,null,null,null,null,null,null,null,null,null,null,null,null,null,null,null,null,{"$f":"CHOOSE(1,\"!\",\"LINK\",AN51,AO52)","v":"!"},null,{"$f":"IF(AO52<>\"\",AO52-AR52,0)","v":0},"!",{"$f":"SUM(AV55,BC59,AX49)","v":0},null,null,null,null,"raw",0,0,0,null,null,null,null,null,null,null,null,null,null,null,null,null,null,null,null,null,null,null,null,null,null,null,null,null,null,null,null,null,null,null,null,null,null,null,null,null,null,null,null,null,null,null,null,null,null,null,null,null,null,null,{"$f":"CHOOSE(1,\"!\",\"LINK\",CZ51,DA52)","v":"!"},null,{"$f":"IF(DA52<>\"\",DA52-DD52,0)","v":0},"!",{"$f":"SUM(DH55,DO59,DJ49)","v":0},null,null,null,null,"raw",0,0,0,null,null,null,null,null,null,null,null,null,null,null,null,null,null,null,null,null,null,null,null,null,null,null,null,null,null,null,null,null,null,null,null,null,null,null,null,null,null,null,null,null,null,null,null,null,null,null,null,null,null,null,{"$f":"CHOOSE(1,\"!\",\"LINK\",FL51,FM52)","v":"!"},null,{"$f":"IF(FM52<>\"\",FM52-FP52,0)","v":0},"!",{"$f":"SUM(FT55,GA59,FV49)","v":0},null,null,null,null,"raw",0,0,0,null,null,null,null,null,null,null,null,null,null,null,null,null,null,null,null,null,null,null,null,null,null,null,null,null,null,null,null,null,null,null,null,null,null,null,null,null,null,null,null,null,null,null,null,null,null,null,null,null,null,null,null,null,null,null,null,null,null,null,null,"raw",0,0,0,null,{"$f":"CHOOSE(1,\"!\",\"TURN\",7,IK54,IM52,IP52)","v":"!"},0,{"$f":"IM52/IV56","v":{"$error":"#DIV/0!"}},"!",{"$f":"JG43","v":0},{"$f":"IP52/IV55","v":{"$error":"#DIV/0!"}},{"$f":"RNSE(IP52,IM52)","v":"-"}]
[null,null,null,null,null,null,null,null,null,null,null,null,null,null,null,null,null,null,null,null,null,null,null,null,null,null,null,null,null,null,null,null,null,null,null,null,null,null,null,null,null,{"$f":"IF(AO52<>\"\",AO52-AR53,0)","v":0},"!",{"$f":"SUM(AY55,BC56,AX52)","v":0},null,null,null,null,null,{"$f":"CHOOSE(1,8,\"TURN\",12,BA54,AX52,AX49)","v":8},{"$f":"CHOOSE(1,\"$\",\"TURN\",11,BA54,AY52,AY49)","v":"$"},{"$f":"CHOOSE(1,\"M\",\"TURN\",9,BA54,AZ52,AZ49)","v":"M"},null,null,null,null,null,null,null,null,null,null,null,null,null,null,null,null,null,null,null,null,null,null,null,null,null,null,null,null,null,null,null,null,null,null,null,null,null,null,null,null,null,null,null,null,null,null,null,null,null,null,null,null,null,{"$f":"IF(DA52<>\"\",DA52-DD53,0)","v":0},"!",{"$f":"SUM(DK55,DO56,DJ52)","v":0},null,null,null,null,null,{"$f":"CHOOSE(1,8,\"TURN\",12,DM54,DJ52,DJ49)","v":8},{"$f":"CHOOSE(1,\"$\",\"TURN\",11,DM54,DK52,DK49)","v":"$"},{"$f":"CHOOSE(1,\"M\",\"TURN\",9,DM54,DL52,DL49)","v":"M"},null,null,null,null,null,null,null,null,null,null,null,null,null,null,null,null,null,null,null,null,null,null,null,null,null,null,null,null,null,null,null,null,null,null,null,null,null,null,null,null,null,null,null,null,null,null,null,null,null,null,null,null,null,{"$f":"IF(FM52<>\"\",FM52-FP53,0)","v":0},"!",{"$f":"SUM(FW55,GA56,FV52)","v":0},null,null,null,null,null,{"$f":"CHOOSE(1,8,\"TURN\",12,FY54,FV52,FV49)","v":8},{"$f":"CHOOSE(1,\"$\",\"TURN\",11,FY54,FW52,FW49)","v":"$"},{"$f":"CHOOSE(1,\"M\",\"TURN\",9,FY54,FX52,FX49)","v":"M"},null,null,null,null,null,null,null,null,null,null,null,null,null,null,null,null,null,null,null,null,null,null,null,null,null,null,null,null,null,null,null,null,null,null,null,null,null,null,null,null,null,null,null,null,null,null,null,null,null,null,null,null,null,null,null,null,null,null,null,null,null,{"$f":"CHOOSE(1,8,\"TURN\",12,IK54,IH52,IH49)","v":8},{"$f":"CHOOSE(1,\"$\",\"TURN\",11,IK54,II52,II49)","v":"$"},{"$f":"CHOOSE(1,\"M\",\"TURN\",9,IK54,IJ52,IJ49)","v":"M"},null,{"$f":"CHOOSE(1,\">\",\"TURN\",6,IK54,IM53,IP53)","v":">"},0,{"$f":"IM53/IV56","v":{"$error":"#DIV/0!"}},">",{"$f":"JD43","v":0},{"$f":"IP53/IV55","v":{"$error":"#DIV/0!"}},{"$f":"RNSE(IP53,IM53)","v":"-"}]
[null,null,null,null,null,null,null,null,null,null,null,null,null,null,null,null,null,null,null,null,null,null,null,null,null,null,null,null,null,null,null,null,null,null,null,null,null,null,null,null,null,null,null,null,null,null,null,null,null,null,null,null,1,null,null,null,null,null,null,null,null,null,null,null,null,null,null,null,null,null,null,null,null,null,null,null,null,null,null,null,null,null,null,null,null,null,null,null,null,null,null,null,null,null,null,null,null,null,null,null,null,null,null,null,null,null,null,null,null,null,null,null,null,null,null,null,1,null,null,null,null,null,null,null,null,null,null,null,null,null,null,null,null,null,null,null,null,null,null,null,null,null,null,null,null,null,null,null,null,null,null,null,null,null,null,null,null,null,null,null,null,null,null,null,null,null,null,null,null,null,null,null,null,null,null,null,null,null,null,null,1,null,null,null,null,null,null,null,null,null,null,null,null,null,null,null,null,null,null,null,null,null,null,null,null,null,null,null,null,null,null,null,null,null,null,null,null,null,null,null,null,null,null,null,null,null,null,null,null,null,null,"LINK_ID",null,"imbal","target",{"$f":"IF(HY55<>\"\",HY55,IB55)","v":0},null,null,null,null,null,null,null,null,1,null,null,null,null,null,null,null,null,null,"target",{"$f":"IF(IY55<>\"\",IY55,IV55)","v":0},"imbal",null,"LINK_ID"]
[null,null,null,null,null,null,null,null,null,null,null,null,null,null,null,null,null,null,null,null,null,null,null,null,null,null,null,null,null,null,null,null,null,null,null,null,null,null,null,null,null,null,null,null,null,{"$f":"RNSE(AV55,AY55)","v":"-"},{"$f":"AV55/AQ62","v":{"$error":"#DIV/0!"}},{"$f":"BM63","v":0},"O",{"$f":"AY55/AQ61","v":{"$error":"#DIV/0!"}},0,{"$f":"CHOOSE(1,\"O\",\"TURN\",13,BA54,AY55,AV55)","v":"O"},null,{"$f":"CHOOSE(1,\"L\",\"TURN\",1,BA54,BB56,BB59)","v":"L"},{"$f":"CHOOSE(1,\":\",\"TURN\",2,BA54,BC56,BC59)","v":":"},{"$f":"CHOOSE(1,\"#\",\"TURN\",3,BA54,BD56,BD59)","v":"#"},null,null,null,null,null,null,null,null,null,null,null,null,null,null,null,null,null,null,null,null,null,null,null,null,null,null,null,null,null,null,null,null,null,null,null,null,null,null,null,null,null,null,null,null,null,null,null,null,null,null,null,null,null,{"$f":"RNSE(DH55,DK55)","v":"-"},{"$f":"DH55/DC62","v":{"$error":"#DIV/0!"}},{"$f":"DY63","v":0},"O",{"$f":"DK55/DC61","v":{"$error":"#DIV/0!"}},0,{"$f":"CHOOSE(1,\"O\",\"TURN\",13,DM54,DK55,DH55)","v":"O"},null,{"$f":"CHOOSE(1,\"L\",\"TURN\",1,DM54,DN56,DN59)","v":"L"},{"$f":"CHOOSE(1,\":\",\"TURN\",2,DM54,DO56,DO59)","v":":"},{"$f":"CHOOSE(1,\"#\",\"TURN\",3,DM54,DP56,DP59)","v":"#"},null,null,null,null,null,null,null,null,null,null,null,null,null,null,null,null,null,null,null,null,null,null,null,null,null,null,null,null,null,null,null,null,null,null,null,null,null,null,null,null,null,null,null,null,null,null,null,null,null,null,null,null,null,{"$f":"RNSE(FT55,FW55)","v":"-"},{"$f":"FT55/FO62","v":{"$error":"#DIV/0!"}},{"$f":"GK63","v":0},"O",{"$f":"FW55/FO61","v":{"$error":"#DIV/0!"}},0,{"$f":"CHOOSE(1,\"O\",\"TURN\",13,FY54,FW55,FT55)","v":"O"},null,{"$f":"CHOOSE(1,\"L\",\"TURN\",1,FY54,FZ56,FZ59)","v":"L"},{"$f":"CHOOSE(1,\":\",\"TURN\",2,FY54,GA56,GA59)","v":":"},{"$f":"CHOOSE(1,\"#\",\"TURN\",3,FY54,GB56,GB59)","v":"#"},null,null,null,null,null,null,null,null,null,null,null,null,null,null,null,null,null,null,null,null,null,null,null,null,null,null,null,null,null,null,null,null,null,null,null,null,null,null,null,null,null,null,null,null,null,null,null,{"$f":"CHOOSE(1,\"!\",\"LINK\",HX54,HY55)","v":"!"},null,{"$f":"IF(HY55<>\"\",HY55-IB55,0)","v":0},"!",{"$f":"SUM(IM59,IH49,IP52)","v":0},null,null,null,null,null,null,null,null,null,{"$f":"CHOOSE(1,\"L\",\"TURN\",1,IK54,IL56,IL59)","v":"L"},{"$f":"CHOOSE(1,\":\",\"TURN\",2,IK54,IM56,IM59)","v":":"},{"$f":"CHOOSE(1,\"#\",\"TURN\",3,IK54,IN56,IN59)","v":"#"},null,null,null,null,null,null,"!",{"$f":"SUM(IP51:IP53)","v":0},{"$f":"IF(IY55<>\"\",IV55-IY55,0)","v":0},{"$f":"CHOOSE(1,\"!\",\"LINK\",IY54,IY55)","v":"!"}]
[null,null,null,null,null,null,null,null,null,null,null,null,null,null,null,null,null,null,null,null,null,null,null,null,null,null,null,null,null,null,null,null,null,null,null,null,null,null,null,null,null,null,null,null,null,"-",{"$f":"AV56/AQ62","v":{"$error":"#DIV/0!"}},{"$f":"BL63","v":0},"=",{"$f":"AY56/AQ61","v":{"$error":"#DIV/0!"}},0,{"$f":"CHOOSE(1,\"=\",\"TURN\",14,BA54,AY56,AV56)","v":"="},null,0,0,0,"raw",null,null,null,null,null,null,null,null,null,null,null,null,null,null,null,null,null,null,null,null,null,null,null,null,null,null,null,null,null,null,null,null,null,null,null,null,null,null,null,null,null,null,null,null,null,null,null,null,null,null,null,null,"-",{"$f":"DH56/DC62","v":{"$error":"#DIV/0!"}},{"$f":"DX63","v":0},"=",{"$f":"DK56/DC61","v":{"$error":"#DIV/0!"}},0,{"$f":"CHOOSE(1,\"=\",\"TURN\",14,DM54,DK56,DH56)","v":"="},null,0,0,0,"raw",null,null,null,null,null,null,null,null,null,null,null,null,null,null,null,null,null,null,null,null,null,null,null,null,null,null,null,null,null,null,null,null,null,null,null,null,null,null,null,null,null,null,null,null,null,null,null,null,null,null,null,null,"-",{"$f":"FT56/FO62","v":{"$error":"#DIV/0!"}},{"$f":"GJ63","v":0},"=",{"$f":"FW56/FO61","v":{"$error":"#DIV/0!"}},0,{"$f":"CHOOSE(1,\"=\",\"TURN\",14,FY54,FW56,FT56)","v":"="},null,0,0,0,"raw",null,null,null,null,null,null,null,null,null,null,null,null,null,null,null,null,null,null,null,null,null,null,null,null,null,null,null,null,null,null,null,null,null,null,null,null,null,null,null,null,null,null,null,null,null,null,null,null,{"$f":"IF(HY55<>\"\",HY55-IB56,0)","v":0},"!",{"$f":"SUM(IM56,IH52,IM52)","v":0},null,null,null,null,null,null,null,null,null,0,0,0,"raw",null,null,null,null,null,"!",{"$f":"SUM(IM51:IM53)","v":0},{"$f":"IF(IY55<>\"\",IV56-IY55,0)","v":0}]
[null,null,null,null,null,null,null,null,null,null,null,null,null,null,null,null,null,null,null,null,null,null,null,null,null,null,null,null,null,null,null,null,null,null,null,null,null,null,null,null,null,null,null,null,null,{"$f":"RNSE(AV57,AY57)","v":"-"},{"$f":"AV57/AQ62","v":{"$error":"#DIV/0!"}},{"$f":"BK63","v":0},"?",{"$f":"AY57/AQ61","v":{"$error":"#DIV/0!"}},0,{"$f":"CHOOSE(1,\"?\",\"TURN\",16,BA54,AY57,AV57)","v":"?"},null,{"$f":"BB56/BB71","v":{"$error":"#DIV/0!"}},{"$f":"BC56/BB71","v":{"$error":"#DIV/0!"}},{"$f":"BD56/BB71","v":{"$error":"#DIV/0!"}},"%",null,null,null,null,null,null,null,null,null,null,null,null,null,null,null,null,null,null,null,null,null,null,null,null,null,null,null,null,null,null,null,null,null,null,null,null,null,null,null,null,null,null,null,null,null,null,null,null,null,null,null,null,{"$f":"RNSE(DH57,DK57)","v":"-"},{"$f":"DH57/DC62","v":{"$error":"#DIV/0!"}},{"$f":"DW63","v":0},"?",{"$f":"DK57/DC61","v":{"$error":"#DIV/0!"}},0,{"$f":"CHOOSE(1,\"?\",\"TURN\",16,DM54,DK57,DH57)","v":"?"},null,{"$f":"DN56/DN71","v":{"$error":"#DIV/0!"}},{"$f":"DO56/DN71","v":{"$error":"#DIV/0!"}},{"$f":"DP56/DN71","v":{"$error":"#DIV/0!"}},"%",null,null,null,null,null,null,null,null,null,null,null,null,null,null,null,null,null,null,null,null,null,null,null,null,null,null,null,null,null,null,null,null,null,null,null,null,null,null,null,null,null,null,null,null,null,null,null,null,null,null,null,null,{"$f":"RNSE(FT57,FW57)","v":"-"},{"$f":"FT57/FO62","v":{"$error":"#DIV/0!"}},{"$f":"GI63","v":0},"?",{"$f":"FW57/FO61","v":{"$error":"#DIV/0!"}},0,{"$f":"CHOOSE(1,\"?\",\"TURN\",16,FY54,FW57,FT57)","v":"?"},null,{"$f":"FZ56/FZ71","v":{"$error":"#DIV/0!"}},{"$f":"GA56/FZ71","v":{"$error":"#DIV/0!"}},{"$f":"GB56/FZ71","v":{"$error":"#DIV/0!"}},"%",null,null,null,null,null,null,null,null,null,null,null,null,null,null,null,null,null,null,null,null,null,null,null,null,null,null,null,null,null,null,null,null,null,null,null,null,null,null,null,null,null,null,null,null,null,null,null,null,null,null,null,null,null,null,null,null,null,null,null,null,{"$f":"IL56/IL71","v":{"$error":"#DIV/0!"}},{"$f":"IM56/IL71","v":{"$error":"#DIV/0!"}},{"$f":"IN56/IL71","v":{"$error":"#DIV/0!"}},"%"]
[null,null,null,null,null,null,null,null,null,null,null,null,null,null,null,null,null,null,null,null,null,null,null,null,null,null,null,null,null,null,null,null,null,null,null,null,null,null,null,null,null,null,"",null,null,"RNSE","%","bal",null,"%","raw",null,null,"L",":","#",null,null,null,null,null,null,null,null,null,null,null,null,null,null,null,null,null,null,null,null,null,null,null,null,null,null,null,null,null,null,null,null,null,null,null,null,null,null,null,null,null,null,null,null,null,null,null,null,null,null,"",null,null,"RNSE","%","bal",null,"%","raw",null,null,"L",":","#",null,null,null,null,null,null,null,null,null,null,null,null,null,null,null,null,null,null,null,null,null,null,null,null,null,null,null,null,null,null,null,null,null,null,null,null,null,null,null,null,null,null,null,null,null,null,null,null,null,null,"",null,null,"RNSE","%","bal",null,"%","raw",null,null,"L",":","#",null,null,null,null,null,null,null,null,null,null,null,null,null,null,null,null,null,null,null,null,null,null,null,null,null,null,null,null,null,null,null,null,null,null,null,null,null,null,null,null,null,null,null,null,null,null,null,null,null,null,"",null,null,null,null,null,null,null,null,null,null,"L",":","#"]
[null,null,null,null,null,null,null,null,null,null,null,null,null,null,null,null,null,null,null,null,null,null,null,null,null,null,null,null,null,null,null,null,null,null,null,null,null,null,null,null,null,null,null,null,null,null,null,null,null,null,null,null,null,{"$f":"BK61","v":0},{"$f":"BM61","v":0},{"$f":"BL61","v":0},"bal",null,null,null,null,"Local OD Estimated",null,null,null,null,null,null,null,null,null,null,null,null,null,null,null,null,null,null,null,null,null,null,null,null,null,null,null,null,null,null,null,null,null,null,null,null,null,null,null,null,null,null,null,null,null,null,null,null,null,null,null,null,null,null,null,{"$f":"DW61","v":0},{"$f":"DY61","v":0},{"$f":"DX61","v":0},"bal",null,null,null,null,"Local OD Estimated",null,null,null,null,null,null,null,null,null,null,null,null,null,null,null,null,null,null,null,null,null,null,null,null,null,null,null,null,null,null,null,null,null,null,null,null,null,null,null,null,null,null,null,null,null,null,null,null,null,null,null,null,null,null,null,{"$f":"GI61","v":0},{"$f":"GK61","v":0},{"$f":"GJ61","v":0},"bal",null,null,null,null,"Local OD Estimated",null,null,null,null,null,null,null,null,null,null,null,null,null,null,null,null,null,null,null,null,null,null,null,null,null,null,null,null,null,null,null,null,null,null,null,null,null,null,null,null,null,null,null,null,null,null,null,null,null,null,null,null,null,null,null,{"$f":"JD42","v":0},{"$f":"JG42","v":0},{"$f":"JF42","v":0},"bal"]
[null,null,null,null,null,null,null,null,null,null,null,null,null,null,null,null,null,null,null,null,null,null,null,null,null,null,null,null,null,null,null,null,null,null,null,null,null,null,null,null,null,null,null,null,null,null,null,null,null,null,null,null,null,{"$f":"BB59/BC71","v":{"$error":"#DIV/0!"}},{"$f":"BC59/BC71","v":{"$error":"#DIV/0!"}},{"$f":"BD59/BC71","v":{"$error":"#DIV/0!"}},"%",null,null,null,null,{"$f":"\"local_od_est_\"&BA54","v":"local_od_est_1"},1,3,4,"est","tgt","err",null,null,null,null,null,null,null,null,null,null,null,null,null,null,null,null,null,null,null,null,null,null,null,null,null,null,null,null,null,null,null,null,null,null,null,null,null,null,null,null,null,null,null,null,null,null,null,null,null,{"$f":"DN59/DO71","v":{"$error":"#DIV/0!"}},{"$f":"DO59/DO71","v":{"$error":"#DIV/0!"}},{"$f":"DP59/DO71","v":{"$error":"#DIV/0!"}},"%",null,null,null,null,{"$f":"\"local_od_est_\"&DM54","v":"local_od_est_1"},1,3,4,"est","tgt","err",null,null,null,null,null,null,null,null,null,null,null,null,null,null,null,null,null,null,null,null,null,null,null,null,null,null,null,null,null,null,null,null,null,null,null,null,null,null,null,null,null,null,null,null,null,null,null,null,null,{"$f":"FZ59/GA71","v":{"$error":"#DIV/0!"}},{"$f":"GA59/GA71","v":{"$error":"#DIV/0!"}},{"$f":"GB59/GA71","v":{"$error":"#DIV/0!"}},"%",null,null,null,null,{"$f":"\"local_od_est_\"&FY54","v":"local_od_est_1"},1,3,4,"est","tgt","err",null,null,null,null,null,null,null,null,null,null,null,null,null,null,null,null,null,null,null,null,null,null,null,null,null,null,null,null,null,null,null,null,null,null,null,null,null,null,null,null,null,null,null,null,null,null,null,null,null,{"$f":"IL59/IM71","v":{"$error":"#DIV/0!"}},{"$f":"IM59/IM71","v":{"$error":"#DIV/0!"}},{"$f":"IN59/IM71","v":{"$error":"#DIV/0!"}},"%"]
[null,null,null,null,null,null,null,null,null,null,null,null,null,null,null,null,null,null,null,null,null,null,null,null,null,null,null,null,null,null,null,null,null,null,null,null,null,null,null,null,null,null,{"$f":"SUM(AY55:AY57)","v":0},"P",null,null,null,null,null,null,null,null,null,{"$f":"RNSE(BB59,BB56)","v":"-"},"-","-","RNSE",null,null,null,null,1,{"$f":"BK42","v":0},0,0,{"$f":"SUM(BK61:BM61)","v":0},{"$f":"BO42","v":0},{"$f":"IFERROR(ABS(BN61-BO61)/BO61,0)","v":0},null,null,null,null,null,null,null,null,null,null,null,null,null,null,null,null,null,null,null,null,null,null,null,null,null,null,null,null,null,null,null,null,null,null,null,null,null,null,{"$f":"SUM(DK55:DK57)","v":0},"<",null,null,null,null,null,null,null,null,null,{"$f":"RNSE(DN59,DN56)","v":"-"},"-","-","RNSE",null,null,null,null,1,{"$f":"DW42","v":0},0,0,{"$f":"SUM(DW61:DY61)","v":0},{"$f":"EA42","v":0},{"$f":"IFERROR(ABS(DZ61-EA61)/EA61,0)","v":0},null,null,null,null,null,null,null,null,null,null,null,null,null,null,null,null,null,null,null,null,null,null,null,null,null,null,null,null,null,null,null,null,null,null,null,null,null,null,{"$f":"SUM(FW55:FW57)","v":0},"<",null,null,null,null,null,null,null,null,null,{"$f":"RNSE(FZ59,FZ56)","v":"-"},"-","-","RNSE",null,null,null,null,1,{"$f":"GI42","v":0},0,0,{"$f":"SUM(GI61:GK61)","v":0},{"$f":"GM42","v":0},{"$f":"IFERROR(ABS(GL61-GM61)/GM61,0)","v":0},null,null,null,null,null,null,null,null,null,null,null,null,null,null,null,null,null,null,null,null,null,null,null,null,null,null,null,null,null,null,null,null,null,null,null,null,null,null,null,null,null,null,null,null,null,null,null,null,null,{"$f":"RNSE(IL59,IL56)","v":"-"},"-","-","RNSE"]
[null,null,null,null,null,null,null,null,null,null,null,null,null,null,null,null,null,null,null,null,null,null,null,null,null,null,null,null,null,null,null,null,null,null,null,null,null,null,null,null,null,null,{"$f":"SUM(AV55:AV57)","v":0},"P",{"$f":"IF(AQ64<>\"\",AQ64,AQ62)","v":0},"target",null,null,null,null,null,null,null,null,null,null,null,null,null,null,null,3,{"$f":"BK43","v":0},0,0,{"$f":"SUM(BK62:BM62)","v":0},{"$f":"BO43","v":0},{"$f":"IFERROR(ABS(BN62-BO62)/BO62,0)","v":0},null,null,null,null,null,null,null,null,null,null,null,null,null,null,null,null,null,null,null,null,null,null,null,null,null,null,null,null,null,null,null,null,null,null,null,null,null,null,{"$f":"SUM(DH55:DH57)","v":0},"<",{"$f":"IF(DC64<>\"\",DC64,DC62)","v":0},"target",null,null,null,null,null,null,null,null,null,null,null,null,null,null,null,3,{"$f":"DW43","v":0},{"$f":"DX43","v":0},0,{"$f":"SUM(DW62:DY62)","v":0},{"$f":"EA43","v":0},{"$f":"IFERROR(ABS(DZ62-EA62)/EA62,0)","v":0},null,null,null,null,null,null,null,null,null,null,null,null,null,null,null,null,null,null,null,null,null,null,null,null,null,null,null,null,null,null,null,null,null,null,null,null,null,null,{"$f":"SUM(FT55:FT57)","v":0},"<",{"$f":"IF(FO64<>\"\",FO64,FO62)","v":0},"target",null,null,null,null,null,null,null,null,null,null,null,null,null,null,null,3,{"$f":"GI43","v":0},{"$f":"GJ43","v":0},0,{"$f":"SUM(GI62:GK62)","v":0},{"$f":"GM43","v":0},{"$f":"IFERROR(ABS(GL62-GM62)/GM62,0)","v":0}]
[null,null,null,null,null,null,null,null,null,null,null,null,null,null,null,null,null,null,null,null,null,null,null,null,null,null,null,null,null,null,null,null,null,null,null,null,null,null,null,null,null,{"$f":"IF(AQ64<>\"\",AQ62-AQ64,0)","v":0},{"$f":"IF(AQ64<>\"\",AQ62-AQ64,0)","v":0},"imbal",null,null,null,null,null,null,null,null,null,null,null,null,null,null,null,null,null,4,{"$f":"BK44","v":0},0,0,{"$f":"SUM(BK63:BM63)","v":0},{"$f":"BO44","v":0},0,null,null,null,null,null,null,null,null,null,null,null,null,null,null,null,null,null,null,null,null,null,null,null,null,null,null,null,null,null,null,null,null,null,null,null,null,null,{"$f":"IF(DC64<>\"\",DC62-DC64,0)","v":0},{"$f":"IF(DC64<>\"\",DC62-DC64,0)","v":0},"imbal",null,null,null,null,null,null,null,null,null,null,null,null,null,null,null,null,null,4,{"$f":"DW44","v":0},{"$f":"DX44","v":0},0,{"$f":"SUM(DW63:DY63)","v":0},{"$f":"EA44","v":0},0,null,null,null,null,null,null,null,null,null,null,null,null,null,null,null,null,null,null,null,null,null,null,null,null,null,null,null,null,null,null,null,null,null,null,null,null,null,{"$f":"IF(FO64<>\"\",FO62-FO64,0)","v":0},{"$f":"IF(FO64<>\"\",FO62-FO64,0)","v":0},"imbal",null,null,null,null,null,null,null,null,null,null,null,null,null,null,null,null,null,4,{"$f":"GI44","v":0},{"$f":"GJ44","v":0},0,{"$f":"SUM(GI63:GK63)","v":0},{"$f":"GM44","v":0},0]
[null,null,null,null,null,null,null,null,null,null,null,null,null,null,null,null,null,null,null,null,null,null,null,null,null,null,null,null,null,null,null,null,null,null,null,null,null,null,null,null,null,null,null,{"$f":"CHOOSE(1,\"P\",\"LINK\",AS64,AQ64)","v":"P"},"LINK_ID",null,null,null,null,null,null,null,null,null,null,null,"",null,null,null,null,"est",{"$f":"SUM(BK61:BK63)","v":0},{"$f":"SUM(BL61:BL63)","v":0},{"$f":"SUM(BM61:BM63)","v":0},null,null,null,null,null,null,null,null,null,null,null,null,null,null,null,null,null,null,null,null,null,null,null,null,null,null,null,null,null,null,null,null,null,null,null,null,null,null,null,null,null,null,{"$f":"CHOOSE(1,\"<\",\"LINK\",DE64,DC64)","v":"<"},"LINK_ID",null,null,null,null,null,null,null,null,null,null,null,"",null,null,null,null,"est",{"$f":"SUM(DW61:DW63)","v":0},{"$f":"SUM(DX61:DX63)","v":0},{"$f":"SUM(DY61:DY63)","v":0},null,null,null,null,null,null,null,null,null,null,null,null,null,null,null,null,null,null,null,null,null,null,null,null,null,null,null,null,null,null,null,null,null,null,null,null,null,null,null,null,null,null,{"$f":"CHOOSE(1,\"<\",\"LINK\",FQ64,FO64)","v":"<"},"LINK_ID",null,null,null,null,null,null,null,null,null,null,null,"",null,null,null,null,"est",{"$f":"SUM(GI61:GI63)","v":0},{"$f":"SUM(GJ61:GJ63)","v":0},{"$f":"SUM(GK61:GK63)","v":0},null,null,null,null,null,null,null,null,null,null,null,null,null,null,null,null,null,null,null,null,null,null,null,null,null,null,null,null,null,null,null,null,null,null,null,null,null,null,null,null,null,null,null,null,null,null,null,null,null,null,null,null,null,null,null,""]
[null,null,null,null,null,null,null,null,null,null,null,null,null,null,null,null,null,null,null,null,null,null,null,null,null,null,null,null,null,null,null,null,null,null,null,null,null,null,null,null,null,null,null,null,null,null,null,null,null,null,null,null,null,null,null,null,null,null,null,null,null,"tgt",{"$f":"BK46","v":0},{"$f":"BL46","v":0},{"$f":"BM46","v":0},null,null,null,null,null,null,null,null,null,null,null,null,null,null,null,null,null,null,null,null,null,null,null,null,null,null,null,null,null,null,null,null,null,null,null,null,null,null,null,null,null,null,null,null,null,null,null,null,null,null,null,null,null,null,null,null,null,null,null,null,"tgt",{"$f":"DW46","v":0},{"$f":"DX46","v":0},{"$f":"DY46","v":0},null,null,null,null,null,null,null,null,null,null,null,null,null,null,null,null,null,null,null,null,null,null,null,null,null,null,null,null,null,null,null,null,null,null,null,null,null,null,null,null,null,null,null,null,null,null,null,null,null,null,null,null,null,null,null,null,null,null,null,null,"tgt",{"$f":"GI46","v":0},{"$f":"GJ46","v":0},{"$f":"GK46","v":0}]
[null,null,null,null,null,null,null,null,null,null,null,null,null,null,null,null,null,null,null,null,null,null,null,null,null,null,null,null,null,null,null,null,null,null,null,null,null,null,null,null,null,null,null,null,null,null,null,null,null,null,null,null,null,null,null,null,null,null,null,null,null,"err",{"$f":"IFERROR(ABS(BK64-BK65)/BK65,0)","v":0},{"$f":"IFERROR(ABS(BL64-BL65)/BL65,0)","v":0},0,null,null,{"$f":"SUM(BK66:BM66,BP61:BP63)","v":0},null,null,null,null,null,null,null,null,null,null,null,null,null,null,null,null,null,null,null,null,null,null,null,null,null,null,null,null,null,null,null,null,null,null,null,null,null,null,null,null,null,null,null,null,null,null,null,null,null,null,null,null,null,null,null,null,null,"err",{"$f":"IFERROR(ABS(DW64-DW65)/DW65,0)","v":0},{"$f":"IFERROR(ABS(DX64-DX65)/DX65,0)","v":0},0,null,null,{"$f":"SUM(DW66:DY66,EB61:EB63)","v":0},null,null,null,null,null,null,null,null,null,null,null,null,null,null,null,null,null,null,null,null,null,null,null,null,null,null,null,null,null,null,null,null,null,null,null,null,null,null,null,null,null,null,null,null,null,null,null,null,null,null,null,null,null,null,null,null,null,"err",{"$f":"IFERROR(ABS(GI64-GI65)/GI65,0)","v":0},{"$f":"IFERROR(ABS(GJ64-GJ65)/GJ65,0)","v":0},0,null,null,{"$f":"SUM(GI66:GK66,GN61:GN63)","v":0}]
[]
[]
[null,null,null,null,null,null,null,null,null,null,null,null,null,null,null,null,null,null,null,null,null,null,null,null,null,null,null,null,null,null,null,null,null,null,null,null,null,null,null,null,null,null,null,null,null,null,null,null,null,{"$f":"IF(AY72<>\"\",AVERAGE(AY69,AY72),AY69)","v":0},{"$f":"SUM(BB59,AY49,AV57)","v":0},{"$f":"SUM(BB56,AY52,AY57)","v":0},null,null,null,null,null,null,null,null,null,null,null,null,null,null,null,null,null,null,null,null,null,null,null,null,null,null,null,null,null,null,null,null,null,null,null,null,null,null,null,null,null,null,null,null,null,null,null,null,null,null,null,null,null,null,null,null,null,null,null,null,null,{"$f":"IF(DK72<>\"\",AVERAGE(DK69,DK72),DK69)","v":0},{"$f":"SUM(DN59,DK49,DH57)","v":0},{"$f":"SUM(DN56,DK52,DK57)","v":0},null,null,null,null,null,null,null,null,null,null,null,null,null,null,null,null,null,null,null,null,null,null,null,null,null,null,null,null,null,null,null,null,null,null,null,null,null,null,null,null,null,null,null,null,null,null,null,null,null,null,null,null,null,null,null,null,null,null,null,null,null,{"$f":"IF(FW72<>\"\",AVERAGE(FW69,FW72),FW69)","v":0},{"$f":"SUM(FZ59,FW49,FT57)","v":0},{"$f":"SUM(FZ56,FW52,FW57)","v":0},null,null,null,null,null,null,null,null,null,null,null,null,null,null,null,null,null,null,null,null,null,null,null,null,null,null,null,null,null,null,null,null,null,null,null,null,null,null,null,null,null,null,null,null,null,null,null,null,null,null,null,null,null,null,null,null,null,null,null,null,null,{"$f":"IF(II72<>\"\",AVERAGE(II69,II72),II69)","v":0},{"$f":"SUM(IL59,IP53,II49,IF58)","v":0},{"$f":"SUM(IL56,IM53,II52,II58)","v":0}]
[null,null,null,null,null,null,null,null,null,null,null,null,null,null,null,null,null,null,null,null,null,null,null,null,null,null,null,null,null,null,null,null,null,null,null,null,null,null,null,null,null,null,null,null,null,null,null,null,null,"target","$","$",null,"#","#","target",null,null,null,null,null,null,null,null,null,null,null,null,null,null,null,null,null,null,null,null,null,null,null,null,null,null,null,null,null,null,null,null,null,null,null,null,null,null,null,null,null,null,null,null,null,null,null,null,null,null,null,null,null,null,null,null,null,"target","$","$",null,"#","#","target",null,null,null,null,null,null,null,null,null,null,null,null,null,null,null,null,null,null,null,null,null,null,null,null,null,null,null,null,null,null,null,null,null,null,null,null,null,null,null,null,null,null,null,null,null,null,null,null,null,null,null,null,null,null,null,null,null,"target","$","$",null,"#","#","target",null,null,null,null,null,null,null,null,null,null,null,null,null,null,null,null,null,null,null,null,null,null,null,null,null,null,null,null,null,null,null,null,null,null,null,null,null,null,null,null,null,null,null,null,null,null,null,null,null,null,null,null,null,null,null,null,null,"target","$","$",null,"#","#","target"]
[null,null,null,null,null,null,null,null,null,null,null,null,null,null,null,null,null,null,null,null,null,null,null,null,null,null,null,null,null,null,null,null,null,null,null,null,null,null,null,null,null,null,null,null,null,null,null,null,null,"imbal",{"$f":"IF(AY72<>\"\",AY72-AY69,0)","v":0},{"$f":"IF(AZ72<>\"\",AZ72-AZ69,0)","v":0},null,{"$f":"SUM(BB56:BD56)","v":0},{"$f":"SUM(BB59:BD59)","v":0},{"$f":"IF(BC74<>\"\",AVERAGE(BC71,BC74),BC71)","v":0},null,null,null,null,null,null,null,null,null,null,null,null,null,null,null,null,null,null,null,null,null,null,null,null,null,null,null,null,null,null,null,null,null,null,null,null,null,null,null,null,null,null,null,null,null,null,null,null,null,null,null,null,null,null,null,null,null,"imbal",{"$f":"IF(DK72<>\"\",DK72-DK69,0)","v":0},{"$f":"IF(DL72<>\"\",DL72-DL69,0)","v":0},null,{"$f":"SUM(DN56:DP56)","v":0},{"$f":"SUM(DN59:DP59)","v":0},{"$f":"IF(DO74<>\"\",AVERAGE(DO71,DO74),DO71)","v":0},null,null,null,null,null,null,null,null,null,null,null,null,null,null,null,null,null,null,null,null,null,null,null,null,null,null,null,null,null,null,null,null,null,null,null,null,null,null,null,null,null,null,null,null,null,null,null,null,null,null,null,null,null,null,null,null,null,"imbal",{"$f":"IF(FW72<>\"\",FW72-FW69,0)","v":0},{"$f":"IF(FX72<>\"\",FX72-FX69,0)","v":0},null,{"$f":"SUM(FZ56:GB56)","v":0},{"$f":"SUM(FZ59:GB59)","v":0},{"$f":"IF(GA74<>\"\",AVERAGE(GA71,GA74),GA71)","v":0},null,null,null,null,null,null,null,null,null,null,null,null,null,null,null,null,null,null,null,null,null,null,null,null,null,null,null,null,null,null,null,null,null,null,null,null,null,null,null,null,null,null,null,null,null,null,null,null,null,null,null,null,null,null,null,null,null,"imbal",{"$f":"IF(II72<>\"\",II72-II69,0)","v":0},{"$f":"IF(IJ72<>\"\",IJ72-IJ69,0)","v":0},null,{"$f":"SUM(IL56:IO56)","v":0},{"$f":"SUM(IL59:IO59)","v":0},{"$f":"IF(IM74<>\"\",AVERAGE(IM71,IM74),IM71)","v":0}]
[null,null,null,null,null,null,null,null,null,null,null,null,null,null,null,null,null,null,null,null,null,null,null,null,null,null,null,null,null,null,null,null,null,null,null,null,null,null,null,null,null,null,null,null,null,null,null,null,null,{"$f":"IF(AY69<>\"\",AVERAGE(AY72,AY69),AY72)","v":0},{"$f":"SUM(AX84:AZ84)","v":0},{"$f":"SUM(AX87:AZ87)","v":0},null,{"$f":"IF(BB71<>\"\",BB71-BB74,0)","v":0},{"$f":"IF(BC71<>\"\",BC71-BC74,0)","v":0},"imbal",null,null,null,null,null,null,null,null,null,null,null,null,null,null,null,null,null,null,null,null,null,null,null,null,null,null,null,null,null,null,null,null,null,null,null,null,null,null,null,null,null,null,null,null,null,null,null,null,null,null,null,null,null,null,null,null,null,{"$f":"IF(DK69<>\"\",AVERAGE(DK72,DK69),DK72)","v":0},{"$f":"SUM(DJ84:DL84)","v":0},{"$f":"SUM(DJ87:DL87)","v":0},null,{"$f":"IF(DN71<>\"\",DN71-DN74,0)","v":0},{"$f":"IF(DO71<>\"\",DO71-DO74,0)","v":0},"imbal",null,null,null,null,null,null,null,null,null,null,null,null,null,null,null,null,null,null,null,null,null,null,null,null,null,null,null,null,null,null,null,null,null,null,null,null,null,null,null,null,null,null,null,null,null,null,null,null,null,null,null,null,null,null,null,null,null,{"$f":"IF(FW69<>\"\",AVERAGE(FW72,FW69),FW72)","v":0},{"$f":"SUM(FU84:FX84)","v":0},{"$f":"SUM(FU87:FX87)","v":0},null,{"$f":"IF(FZ71<>\"\",FZ71-FZ74,0)","v":0},{"$f":"IF(GA71<>\"\",GA71-GA74,0)","v":0},"imbal",null,null,null,null,null,null,null,null,null,null,null,null,null,null,null,null,null,null,null,null,null,null,null,null,null,null,null,null,null,null,null,null,null,null,null,null,null,null,null,null,null,null,null,null,null,null,null,null,null,null,null,null,null,null,null,null,null,{"$f":"IF(II69<>\"\",AVERAGE(II72,II69),II72)","v":0},{"$f":"SUM(IH84:IJ84)","v":0},{"$f":"SUM(IH87:IJ87)","v":0},null,{"$f":"IF(IL71<>\"\",IL71-IL74,0)","v":0},{"$f":"IF(IM71<>\"\",IM71-IM74,0)","v":0},"imbal"]
[null,null,null,null,null,null,null,null,null,null,null,null,null,null,null,null,null,null,null,null,null,null,null,null,null,null,null,null,null,null,null,null,null,null,null,null,null,null,null,null,null,null,null,null,null,null,null,null,null,"target","$","$",null,"#","#","target",null,null,null,null,null,null,null,null,null,null,null,null,null,null,null,null,null,null,null,null,null,null,null,null,null,null,null,null,null,null,null,null,null,null,null,null,null,null,null,null,null,null,null,null,null,null,null,null,null,null,null,null,null,null,null,null,null,"target","$","$",null,"#","#","target",null,null,null,null,null,null,null,null,null,null,null,null,null,null,null,null,null,null,null,null,null,null,null,null,null,null,null,null,null,null,null,null,null,null,null,null,null,null,null,null,null,null,null,null,null,null,null,null,null,null,null,null,null,null,null,null,null,"target","$","$",null,"#","#","target",null,null,null,null,null,null,null,null,null,null,null,null,null,null,null,null,null,null,null,null,null,null,null,null,null,null,null,null,null,null,null,null,null,null,null,null,null,null,null,null,null,null,null,null,null,null,null,null,null,null,null,null,null,null,null,null,null,"target","$","$",null,"#","#","target"]
[null,null,null,null,null,null,null,null,null,null,null,null,null,null,null,null,null,null,null,null,null,null,null,null,null,null,null,null,null,null,null,null,null,null,null,null,null,null,null,null,null,null,null,null,null,null,null,null,null,null,null,null,null,{"$f":"SUM(AZ87,AY91,BD91)","v":0},{"$f":"SUM(AZ84,AV91,BD94)","v":0},{"$f":"IF(BC71<>\"\",AVERAGE(BC74,BC71),BC74)","v":0},null,null,null,null,null,null,null,null,null,null,null,null,null,null,null,null,null,null,null,null,null,null,null,null,null,null,null,null,null,null,null,null,null,null,null,null,null,null,null,null,null,null,null,null,null,null,null,null,null,null,null,null,null,null,null,null,null,null,null,null,null,{"$f":"SUM(DL87,DO91,DO86)","v":0},{"$f":"SUM(DL84,DO94,DR86)","v":0},{"$f":"IF(DO71<>\"\",AVERAGE(DO74,DO71),DO74)","v":0},null,null,null,null,null,null,null,null,null,null,null,null,null,null,null,null,null,null,null,null,null,null,null,null,null,null,null,null,null,null,null,null,null,null,null,null,null,null,null,null,null,null,null,null,null,null,null,null,null,null,null,null,null,null,null,null,null,null,null,null,null,{"$f":"SUM(FX87,FW90,GA91,GA85)","v":0},{"$f":"SUM(FX84,FT90,GA94,GD85)","v":0},{"$f":"IF(GA71<>\"\",AVERAGE(GA74,GA71),GA74)","v":0},null,null,null,null,null,null,null,null,null,null,null,null,null,null,null,null,null,null,null,null,null,null,null,null,null,null,null,null,null,null,null,null,null,null,null,null,null,null,null,null,null,null,null,null,null,null,null,null,null,null,null,null,null,null,null,null,null,null,null,null,null,{"$f":"SUM(IJ87,IM91,IM86)","v":0},{"$f":"SUM(IJ84,IM94,IP86)","v":0},{"$f":"IF(IM71<>\"\",AVERAGE(IM74,IM71),IM74)","v":0}]
[null,null,null,null,null,null,null,null,null,null,null,null,null,null,null,null,null,null,null,null,null,null,null,null,null,null,null,null,null,null,null,null,null,null,null,null,null,null,null,null,null,null,null,null,null,null,null,null,null,null,null,null,null,null,null,null,null,null,null,null,null,"Local OD Raw",null,null,null,null,null,null,null,null,null,null,null,null,null,null,null,null,null,null,null,null,null,null,null,null,null,null,null,null,null,null,null,null,null,null,null,null,null,null,null,null,"Local OD Raw",null,null,null,null,null,null,null,null,null,null,null,null,null,null,null,null,null,null,null,null,null,null,null,null,null,null,null,null,null,null,null,null,null,null,null,null,null,null,null,null,null,null,null,null,null,null,null,null,null,null,null,null,null,null,null,null,null,null,null,null,null,null,null,null,null,null,null,null,null,null,null,null,null,null,null,null,null,null,null,null,null,null,null,null,null,null,null,null,null,null,null,null,null,null,null,null,null,null,null,null,null,null,null,null,null,null,null,null,null,null,null,null,null,null,null,null,null,null,null,null,null,null,null,null,null,null,null,"Local OD Raw"]
[null,null,null,null,null,null,null,null,null,null,null,null,null,null,null,null,null,null,null,null,null,null,null,null,null,null,null,null,null,null,null,null,null,null,null,null,null,null,null,null,null,null,null,null,null,null,null,null,null,null,null,null,null,null,null,null,null,null,null,null,null,{"$f":"\"local_od_raw_\"&BA89","v":"local_od_raw_2"},1,3,4,"est","tgt","err",null,null,null,null,null,null,null,null,null,null,null,null,null,null,null,null,null,null,null,null,null,null,null,null,null,null,null,null,null,null,null,null,null,null,{"$f":"\"local_od_raw_\"&DM89","v":"local_od_raw_1"},1,2,3,"est","tgt","err",null,null,null,null,null,null,null,null,null,null,null,null,null,null,null,null,null,null,null,null,null,null,null,null,null,null,null,null,null,null,null,null,null,null,null,null,null,null,null,null,null,null,null,null,null,null,null,null,null,null,null,null,null,null,null,null,null,null,null,null,null,null,null,null,null,null,null,null,null,null,null,null,null,null,null,null,null,null,null,null,null,null,null,null,null,null,null,null,null,null,null,null,null,null,null,null,null,null,null,null,null,null,null,null,null,null,null,null,null,null,null,null,null,null,null,null,null,null,null,null,null,{"$f":"\"local_od_raw_\"&IK89","v":"local_od_raw_1"},1,2,3,"est","tgt","err"]
[null,null,null,null,null,null,null,null,null,null,null,null,null,null,null,null,null,null,null,null,null,null,null,null,null,null,null,null,null,null,null,null,null,null,null,null,null,null,null,null,null,null,null,null,null,null,null,null,null,null,null,null,null,null,null,null,null,null,null,null,null,1,{"$f":"BB91","v":0},{"$f":"BD91","v":0},{"$f":"BC91","v":0},{"$f":"SUM(BK77:BM77)","v":0},{"$f":"BD106","v":0},{"$f":"IFERROR(ABS(BN77-BO77)/BO77,0)","v":0},null,null,null,null,null,null,null,null,null,null,null,null,null,null,null,null,null,null,null,null,null,null,null,null,null,null,null,null,null,null,null,null,null,null,1,{"$f":"DN91","v":0},{"$f":"DP91","v":0},{"$f":"DO91","v":0},{"$f":"SUM(CZ77:DB77)","v":0},{"$f":"DP106","v":0},{"$f":"IFERROR(ABS(DC77-DD77)/DD77,0)","v":0},null,null,null,null,null,null,null,null,null,null,null,null,null,null,null,null,null,null,null,null,null,null,null,null,null,null,null,null,null,null,null,null,null,null,null,null,null,null,null,null,null,null,null,null,null,null,null,null,null,null,null,null,null,null,null,null,null,null,null,null,null,null,null,null,null,null,null,null,null,null,null,null,null,null,null,null,null,null,null,null,null,null,null,null,null,null,null,null,null,null,null,null,null,null,null,null,null,null,null,null,null,null,null,null,null,null,null,null,null,null,null,null,null,null,null,null,null,null,null,null,null,1,{"$f":"IL91","v":0},{"$f":"IN91","v":0},{"$f":"IM91","v":0},{"$f":"SUM(HX77:HZ77)","v":0},{"$f":"IN106","v":0},{"$f":"IFERROR(ABS(IA77-IB77)/IB77,0)","v":0}]
[null,null,null,null,null,null,null,null,null,null,null,null,null,null,null,null,null,null,null,null,null,null,null,null,null,null,null,null,null,null,null,null,null,null,null,null,null,null,null,null,null,null,{"$f":"SUM(AY90,BC91,AX87)","v":0},"<",null,null,null,null,null,null,null,null,null,"Default St",null,null,null,null,null,null,null,3,{"$f":"AY87","v":0},{"$f":"AZ87","v":0},{"$f":"AX87","v":0},{"$f":"SUM(BK78:BM78)","v":0},{"$f":"AX72","v":0},{"$f":"IFERROR(ABS(BN78-BO78)/BO78,0)","v":0},null,null,null,null,null,null,null,null,null,null,null,null,null,null,null,null,null,null,null,null,null,null,null,null,null,null,null,null,null,null,null,null,null,null,2,{"$f":"DO87","v":0},{"$f":"DO88","v":0},{"$f":"DO86","v":0},{"$f":"SUM(CZ78:DB78)","v":0},{"$f":"DU81","v":0},{"$f":"IFERROR(ABS(DC78-DD78)/DD78,0)","v":0},null,null,null,null,null,null,"Default St",null,null,null,null,null,null,null,null,null,null,null,null,null,null,null,null,null,null,null,null,null,null,null,null,null,null,null,null,null,null,null,null,null,null,null,null,null,null,null,null,null,null,null,null,null,null,null,null,null,null,null,null,null,null,null,null,null,null,null,null,null,null,null,null,null,null,null,null,null,null,null,null,null,null,null,null,null,null,null,null,null,null,null,null,null,null,null,null,null,null,null,null,null,null,null,null,null,null,null,null,null,null,null,null,null,null,null,null,null,null,null,null,null,null,2,{"$f":"IM87","v":0},{"$f":"IM88","v":0},{"$f":"IM86","v":0},{"$f":"SUM(HX78:HZ78)","v":0},{"$f":"IS81","v":0},{"$f":"IFERROR(ABS(IA78-IB78)/IB78,0)","v":0}]
[null,null,null,null,null,null,null,null,null,null,null,null,null,null,null,null,null,null,null,null,null,null,null,null,null,null,null,null,null,null,null,null,null,null,null,null,null,null,null,null,null,null,{"$f":"SUM(AV90,BC94,AX84)","v":0},"<","target",{"$f":"IF(AQ81<>\"\",AQ81,AQ79)","v":0},null,null,"",null,null,null,null,null,null,null,null,null,null,null,null,4,{"$f":"AY92","v":0},{"$f":"AY91","v":0},{"$f":"AY90","v":0},{"$f":"SUM(BK79:BM79)","v":0},{"$f":"AQ92","v":0},0,null,null,null,null,null,null,null,null,null,null,null,null,null,null,null,null,null,null,null,null,null,null,null,null,null,null,null,null,null,null,null,null,null,null,3,{"$f":"DJ87","v":0},{"$f":"DK87","v":0},{"$f":"DL87","v":0},{"$f":"SUM(CZ79:DB79)","v":0},{"$f":"DJ72","v":0},0,null,null,null,"",null,null,null,null,null,null,null,null,null,null,null,"LINK_ID",{"$f":"CHOOSE(1,\"?\",\"LINK\",DU79,DW79)","v":"?"},null,null,null,null,null,null,null,null,null,null,null,null,null,null,null,null,null,null,null,null,null,null,null,null,null,null,null,null,null,null,null,null,null,null,null,null,null,null,null,null,null,null,null,null,null,null,null,null,null,null,"",null,null,null,null,null,null,null,null,null,null,null,null,null,null,null,null,null,null,null,null,null,null,null,null,null,null,null,null,null,null,null,null,null,null,null,null,null,null,null,null,null,null,null,null,null,null,null,null,null,null,null,null,null,3,{"$f":"IH87","v":0},{"$f":"II87","v":0},{"$f":"IJ87","v":0},{"$f":"SUM(HX79:HZ79)","v":0},{"$f":"IH72","v":0},0,null,null,null,"",null,null,null,null,null,null,null,null,null,null,null,"LINK_ID",{"$f":"CHOOSE(1,\"?\",\"LINK\",IS79,IU79)","v":"?"}]
[null,null,null,null,null,null,null,null,null,null,null,null,null,null,null,null,null,null,null,null,null,null,null,null,null,null,null,null,null,null,null,null,null,null,null,null,null,null,null,null,null,{"$f":"IF(AQ81<>\"\",AQ81-AQ78,0)","v":0},{"$f":"IF(AQ81<>\"\",AQ81-AQ79,0)","v":0},"imbal",null,null,null,null,null,null,null,null,null,null,null,null,null,null,null,null,null,"est",{"$f":"SUM(BK77:BK79)","v":0},{"$f":"SUM(BL77:BL79)","v":0},{"$f":"SUM(BM77:BM79)","v":0},null,null,null,null,null,null,null,null,null,null,null,null,null,null,null,null,null,null,null,null,null,null,null,null,null,null,null,null,null,null,null,null,null,null,null,null,null,"est",{"$f":"SUM(CZ77:CZ79)","v":0},{"$f":"SUM(DA77:DA79)","v":0},{"$f":"SUM(DB77:DB79)","v":0},null,null,null,null,null,null,null,null,null,null,null,null,null,null,null,null,null,null,null,"imbal",{"$f":"IF(DW79<>\"\",DW81-DW79,0)","v":0},{"$f":"IF(DW79<>\"\",DW81-DW79,0)","v":0},null,null,null,null,null,null,null,null,null,null,null,null,null,null,null,null,null,null,null,null,null,null,null,null,null,null,null,null,null,null,null,null,null,null,null,null,null,null,null,null,null,null,null,null,null,null,null,null,null,null,null,null,null,null,null,null,null,null,null,null,null,null,null,null,null,null,null,null,null,null,null,null,null,null,null,null,null,null,null,null,null,null,null,null,null,null,null,null,null,null,null,null,null,null,null,null,null,null,null,null,null,null,"est",{"$f":"SUM(HX77:HX79)","v":0},{"$f":"SUM(HY77:HY79)","v":0},{"$f":"SUM(HZ77:HZ79)","v":0},null,null,null,null,null,null,null,null,null,null,null,null,null,null,null,null,null,null,null,"imbal",{"$f":"IF(IU79<>\"\",IU81-IU79,0)","v":0},{"$f":"IF(IU79<>\"\",IU81-IU79,0)","v":0}]
[null,null,null,null,null,null,null,null,null,null,null,null,null,null,null,null,null,null,null,null,null,null,null,null,null,null,null,null,null,null,null,null,null,null,null,null,null,null,null,null,null,null,null,{"$f":"CHOOSE(1,\"<\",\"LINK\",AS81,AQ81)","v":"<"},"LINK_ID",null,null,null,null,null,null,null,null,null,null,null,null,null,null,null,null,"tgt",{"$f":"AX104","v":0},{"$f":"BD74","v":0},{"$f":"AT79","v":0},null,null,null,null,null,null,null,null,null,null,null,null,null,null,null,null,null,null,null,null,null,null,null,null,null,null,null,null,null,null,null,null,null,null,null,null,null,"tgt",{"$f":"DJ104","v":0},{"$f":"DT92","v":0},{"$f":"DP74","v":0},null,null,null,null,null,null,null,null,null,null,null,null,null,null,null,null,null,"target",{"$f":"IF(DW79<>\"\",DW79,DW81)","v":0},"?",{"$f":"SUM(DR86:DR88)","v":0},null,null,null,null,null,null,null,null,null,null,null,null,null,null,null,null,null,null,null,null,null,null,null,null,null,null,null,null,null,null,null,null,null,null,null,null,null,null,null,null,null,null,null,null,null,null,null,null,null,null,null,null,null,null,null,null,null,null,null,null,null,null,null,null,null,null,null,null,null,null,null,null,null,null,null,null,null,null,null,null,null,null,null,null,null,null,null,null,null,null,null,null,null,null,null,null,null,null,null,null,null,null,null,"tgt",{"$f":"IH104","v":0},{"$f":"IR92","v":0},{"$f":"IN74","v":0},null,null,null,null,null,null,null,null,null,null,null,null,null,null,null,null,null,"target",{"$f":"IF(IU79<>\"\",IU79,IU81)","v":0},"?",{"$f":"SUM(IP86:IP88)","v":0}]
[null,null,null,null,null,null,null,null,null,null,null,null,null,null,null,null,null,null,null,null,null,null,null,null,null,null,null,null,null,null,null,null,null,null,null,null,null,null,null,null,null,null,null,null,null,null,null,null,"RNSE",{"$f":"RNSE(AX84,AX87)","v":"-"},{"$f":"RNSE(AY84,AY87)","v":"-"},{"$f":"RNSE(AZ84,AZ87)","v":"-"},null,null,null,null,null,null,null,null,null,"err",{"$f":"IFERROR(ABS(BK80-BK81)/BK81,0)","v":0},{"$f":"IFERROR(ABS(BL80-BL81)/BL81,0)","v":0},0,null,null,{"$f":"SUM(BK82:BM82,BP77:BP79)","v":0},null,null,null,null,null,null,null,null,null,null,null,null,null,null,null,null,null,null,null,null,null,null,null,null,null,null,null,null,null,null,null,null,null,null,"err",{"$f":"IFERROR(ABS(CZ80-CZ81)/CZ81,0)","v":0},{"$f":"IFERROR(ABS(DA80-DA81)/DA81,0)","v":0},{"$f":"IFERROR(ABS(DB80-DB81)/DB81,0)","v":0},null,null,{"$f":"SUM(CZ82:DC82,EC77:EC80)","v":0},null,null,null,"RNSE",{"$f":"RNSE(DJ84,DJ87)","v":"-"},"-","-",null,null,null,null,null,null,null,null,null,"?",{"$f":"SUM(DO86:DO88)","v":0},null,null,null,null,null,null,null,null,null,null,null,null,null,null,null,null,null,null,null,null,null,null,null,null,null,null,null,null,null,null,null,null,null,null,null,null,null,null,null,null,null,null,null,null,null,null,null,null,null,"RNSE",{"$f":"RNSE(FV84,FV87)","v":"-"},"-","-",null,null,null,null,null,null,null,null,null,null,null,null,null,null,null,null,null,null,null,null,null,null,null,null,null,null,null,null,null,null,null,null,null,null,null,null,null,null,null,null,null,null,null,null,null,null,null,null,null,null,"err",{"$f":"IFERROR(ABS(HX80-HX81)/HX81,0)","v":0},{"$f":"IFERROR(ABS(HY80-HY81)/HY81,0)","v":0},{"$f":"IFERROR(ABS(HZ80-HZ81)/HZ81,0)","v":0},null,null,{"$f":"SUM(HX82:IA82,JA77:JA80)","v":0},null,null,null,"RNSE",{"$f":"RNSE(IH84,IH87)","v":"-"},"-","-",null,null,null,null,null,null,null,null,null,"?",{"$f":"SUM(IM86:IM88)","v":0}]
[null,null,null,null,null,null,null,null,null,null,null,null,null,null,null,null,null,null,null,null,null,null,null,null,null,null,null,null,null,null,null,null,null,null,null,null,null,null,null,null,null,null,null,null,null,null,null,null,"%",{"$f":"AX84/AY72","v":{"$error":"#DIV/0!"}},{"$f":"AY84/AY72","v":{"$error":"#DIV/0!"}},{"$f":"AZ84/AY72","v":{"$error":"#DIV/0!"}},null,null,null,null,null,null,null,null,null,null,null,null,null,null,null,null,null,null,null,null,null,null,null,null,null,null,null,null,null,null,null,null,null,null,null,null,null,null,null,null,null,null,null,null,null,null,null,null,null,null,null,null,null,null,null,null,null,null,null,null,"%",{"$f":"DJ84/DK72","v":{"$error":"#DIV/0!"}},{"$f":"DK84/DK72","v":{"$error":"#DIV/0!"}},{"$f":"DL84/DK72","v":{"$error":"#DIV/0!"}},null,null,null,null,null,null,null,null,null,null,null,null,null,null,null,null,null,null,null,null,null,null,null,null,null,null,null,null,null,null,null,null,null,null,null,null,null,null,null,null,null,null,null,null,null,null,null,null,null,null,null,null,null,null,null,null,null,null,null,null,"%",{"$f":"FV84/FW72","v":{"$error":"#DIV/0!"}},{"$f":"FW84/FW72","v":{"$error":"#DIV/0!"}},{"$f":"FX84/FW72","v":{"$error":"#DIV/0!"}},null,null,null,null,null,null,null,null,null,null,null,null,null,null,null,null,null,null,null,null,null,null,null,null,null,null,null,null,null,null,null,null,null,null,null,null,null,null,null,null,null,null,null,null,null,null,null,null,null,null,null,null,null,null,null,null,null,null,null,null,"%",{"$f":"IH84/II72","v":{"$error":"#DIV/0!"}},{"$f":"II84/II72","v":{"$error":"#DIV/0!"}},{"$f":"IJ84/II72","v":{"$error":"#DIV/0!"}}]
[null,null,null,null,null,null,null,null,null,null,null,null,null,null,null,null,null,null,null,null,null,null,null,null,null,null,null,null,null,null,null,null,null,null,null,null,null,null,null,null,null,null,null,null,null,null,null,null,"bal",{"$f":"BM97","v":0},{"$f":"BK97","v":0},{"$f":"BL97","v":0},null,null,null,null,null,null,null,null,null,null,null,null,null,null,null,null,null,null,null,null,null,null,null,null,null,null,null,null,null,null,null,null,null,null,null,null,null,null,null,null,null,null,null,null,null,null,null,null,null,null,null,null,null,null,null,null,null,null,null,null,"bal",{"$f":"CZ89","v":0},{"$f":"DA89","v":0},{"$f":"DB89","v":0},null,null,null,null,null,null,null,null,null,null,null,null,null,null,null,null,null,null,null,null,null,null,null,null,null,null,null,null,null,null,null,null,null,null,null,null,null,null,null,null,null,null,null,null,null,null,null,null,null,null,null,null,null,null,null,null,null,null,null,null,"bal",{"$f":"GR99","v":0},{"$f":"GS99","v":0},{"$f":"GT99","v":0},null,null,null,null,null,null,null,null,null,null,null,null,null,null,null,null,null,null,null,null,null,null,null,null,null,null,null,null,null,null,null,null,null,null,null,null,null,null,null,null,null,null,null,null,null,null,null,null,null,null,null,null,null,null,null,null,null,null,null,null,"bal",{"$f":"HX89","v":0},{"$f":"HY89","v":0},{"$f":"HZ89","v":0}]
[null,null,null,null,null,null,null,null,null,null,null,null,null,null,null,null,null,null,null,null,null,null,null,null,null,null,null,null,null,null,null,null,null,null,null,null,null,null,null,null,null,null,null,null,null,null,null,null,null,8,"$","M",null,null,null,null,null,null,null,null,null,null,"",null,null,null,null,null,null,null,null,null,null,null,null,null,null,null,null,null,null,null,null,null,null,null,null,null,null,null,null,null,null,null,null,null,null,null,null,null,null,null,"Local OD Estimated",null,null,null,null,null,null,null,null,null,null,"$",9,"M",null,null,"raw","%",null,"bal","%","RNSE",null,null,"",null,null,null,null,null,null,null,null,null,null,null,null,null,null,null,null,null,null,null,null,null,null,null,null,null,null,null,null,null,null,null,null,null,null,null,null,null,null,null,null,null,null,null,null,null,null,null,null,null,null,"$",9,"M",null,null,null,null,null,null,null,null,null,null,"",null,null,null,null,null,null,null,null,null,null,null,null,null,null,null,null,null,null,null,null,null,null,null,null,null,null,null,null,null,null,null,null,null,null,null,null,null,null,null,"Local OD Estimated",null,null,null,null,null,null,null,null,null,null,"$",9,"M",null,null,"raw","%",null,"bal","%","RNSE",null,null,""]
[null,null,null,null,null,null,null,null,null,null,null,null,null,null,null,null,null,null,null,null,null,null,null,null,null,null,null,null,null,null,null,null,null,null,null,null,null,null,null,null,null,null,null,null,null,null,null,null,"%",{"$f":"AX87/AZ72","v":{"$error":"#DIV/0!"}},{"$f":"AY87/AZ72","v":{"$error":"#DIV/0!"}},{"$f":"AZ87/AZ72","v":{"$error":"#DIV/0!"}},null,null,null,null,null,null,null,null,null,null,null,null,null,null,null,null,null,null,null,null,null,null,null,null,null,null,null,null,null,null,null,null,null,null,null,null,null,null,null,null,null,null,null,null,null,null,null,null,null,null,{"$f":"\"local_od_est_\"&DM89","v":"local_od_est_1"},1,2,3,"est","tgt","err",null,null,null,"%",{"$f":"DJ87/DL72","v":{"$error":"#DIV/0!"}},{"$f":"DK87/DL72","v":{"$error":"#DIV/0!"}},{"$f":"DL87/DL72","v":{"$error":"#DIV/0!"}},null,{"$f":"CHOOSE(1,\"<\",\"TURN\",8,DM89,DO86,DR86)","v":"<"},0,{"$f":"DO86/DW82","v":{"$error":"#DIV/0!"}},"<",{"$f":"DB88","v":0},{"$f":"DR86/DW81","v":{"$error":"#DIV/0!"}},{"$f":"RNSE(DR86,DO86)","v":"-"},null,null,null,null,null,null,null,null,null,null,null,null,null,null,null,null,null,null,null,null,null,null,null,null,null,null,null,null,null,null,null,null,null,null,null,null,null,null,null,null,null,null,null,null,null,null,null,null,null,null,null,null,"%",{"$f":"FV87/FX72","v":{"$error":"#DIV/0!"}},{"$f":"FW87/FX72","v":{"$error":"#DIV/0!"}},{"$f":"FX87/FX72","v":{"$error":"#DIV/0!"}},null,null,null,null,null,null,null,null,null,null,null,null,null,null,null,null,null,null,null,null,null,null,null,null,null,null,null,null,null,null,null,null,null,null,null,null,null,null,null,null,null,null,null,null,null,null,null,null,null,null,{"$f":"\"local_od_est_\"&IK89","v":"local_od_est_1"},1,2,3,"est","tgt","err",null,null,null,"%",{"$f":"IH87/IJ72","v":{"$error":"#DIV/0!"}},{"$f":"II87/IJ72","v":{"$error":"#DIV/0!"}},{"$f":"IJ87/IJ72","v":{"$error":"#DIV/0!"}},null,{"$f":"CHOOSE(1,\"<\",\"TURN\",8,IK89,IM86,IP86)","v":"<"},0,{"$f":"IM86/IU82","v":{"$error":"#DIV/0!"}},"<",{"$f":"HZ88","v":0},{"$f":"IP86/IU81","v":{"$error":"#DIV/0!"}},{"$f":"RNSE(IP86,IM86)","v":"-"}]
[null,null,null,null,null,null,null,null,null,null,null,null,null,null,null,null,null,null,null,null,null,null,null,null,null,null,null,null,null,null,null,null,null,null,null,null,null,null,null,null,null,null,null,null,null,null,null,null,"raw",0,0,0,null,null,null,null,null,null,null,null,null,null,null,null,null,null,null,null,null,null,null,null,null,null,null,null,null,null,null,null,null,null,null,null,null,null,null,null,null,null,null,null,null,null,null,null,null,null,null,null,null,null,1,{"$f":"CZ77","v":0},0,0,{"$f":"SUM(CZ87:DB87)","v":0},{"$f":"DD77","v":0},{"$f":"IFERROR(ABS(DC87-DD87)/DD87,0)","v":0},null,null,null,"raw",0,0,0,null,{"$f":"CHOOSE(1,\">\",\"TURN\",6,DM89,DO87,DR87)","v":">"},0,{"$f":"DO87/DW82","v":{"$error":"#DIV/0!"}},">",{"$f":"CZ88","v":0},{"$f":"DR87/DW81","v":{"$error":"#DIV/0!"}},{"$f":"RNSE(DR87,DO87)","v":"-"},null,null,null,null,null,null,null,null,null,null,null,null,null,null,null,null,null,null,null,null,null,null,null,null,null,null,null,null,null,null,null,null,null,null,null,null,null,null,null,null,null,null,null,null,null,null,null,null,null,null,null,null,"raw",0,0,0,null,null,null,null,null,null,null,null,null,null,null,null,null,null,null,null,null,null,null,null,null,null,null,null,null,null,null,null,null,null,null,null,null,null,null,null,null,null,null,null,null,null,null,null,null,null,null,null,null,null,1,{"$f":"HX77","v":0},0,0,{"$f":"SUM(HX87:HZ87)","v":0},{"$f":"IB77","v":0},{"$f":"IFERROR(ABS(IA87-IB87)/IB87,0)","v":0},null,null,null,"raw",0,0,0,null,{"$f":"CHOOSE(1,\">\",\"TURN\",6,IK89,IM87,IP87)","v":">"},0,{"$f":"IM87/IU82","v":{"$error":"#DIV/0!"}},">",{"$f":"HX88","v":0},{"$f":"IP87/IU81","v":{"$error":"#DIV/0!"}},{"$f":"RNSE(IP87,IM87)","v":"-"}]
[null,null,null,null,null,null,null,null,null,null,null,null,null,null,null,null,null,null,null,null,null,null,null,null,null,null,null,null,null,null,null,null,null,null,null,null,null,null,null,null,null,null,null,null,null,null,null,null,null,{"$f":"CHOOSE(1,8,\"TURN\",12,BA89,AX87,AX84)","v":8},{"$f":"CHOOSE(1,\"$\",\"TURN\",11,BA89,AY87,AY84)","v":"$"},{"$f":"CHOOSE(1,\"M\",\"TURN\",9,BA89,AZ87,AZ84)","v":"M"},null,null,null,null,null,null,null,null,null,null,null,null,null,null,null,null,null,null,null,null,null,null,null,null,null,null,null,null,null,null,null,null,null,null,null,null,null,null,null,null,null,null,null,null,null,null,null,null,null,null,2,0,0,0,{"$f":"SUM(CZ88:DB88)","v":0},{"$f":"DD78","v":0},{"$f":"IFERROR(ABS(DC88-DD88)/DD88,0)","v":0},null,null,null,null,{"$f":"CHOOSE(1,\"$\",\"TURN\",11,DM89,DJ87,DJ84)","v":"$"},{"$f":"CHOOSE(1,\"9\",\"TURN\",10,DM89,DK87,DK84)","v":"9"},{"$f":"CHOOSE(1,\"M\",\"TURN\",9,DM89,DL87,DL84)","v":"M"},null,{"$f":"CHOOSE(1,\"N\",\"TURN\",5,DM89,DO88,DR88)","v":"N"},0,{"$f":"DO88/DW82","v":{"$error":"#DIV/0!"}},"N",{"$f":"DA88","v":0},{"$f":"DR88/DW81","v":{"$error":"#DIV/0!"}},"-",null,null,null,null,null,null,null,null,null,null,null,null,null,null,null,null,null,null,null,null,null,null,null,null,null,null,null,null,null,null,null,null,null,null,null,null,null,null,null,null,null,null,null,null,null,null,null,null,null,null,null,null,null,{"$f":"CHOOSE(1,\"$\",\"TURN\",11,FY89,FV87,FV84)","v":"$"},{"$f":"CHOOSE(1,\"9\",\"TURN\",10,FY89,FW87,FW84)","v":"9"},{"$f":"CHOOSE(1,\"M\",\"TURN\",9,FY89,FX87,FX84)","v":"M"},null,null,null,null,null,null,null,null,{"$f":"SUM(FW91,FW87,GB91)","v":0},"\"",{"$f":"IF(GJ89<>\"\",GJ89-GG88,0)","v":0},null,null,null,null,null,null,null,null,null,null,null,null,null,null,null,null,null,null,null,null,null,null,null,null,null,null,null,null,null,null,null,null,null,null,null,null,null,null,null,2,0,0,0,{"$f":"SUM(HX88:HZ88)","v":0},{"$f":"IB78","v":0},{"$f":"IFERROR(ABS(IA88-IB88)/IB88,0)","v":0},null,null,null,null,{"$f":"CHOOSE(1,\"$\",\"TURN\",11,IK89,IH87,IH84)","v":"$"},{"$f":"CHOOSE(1,\"9\",\"TURN\",10,IK89,II87,II84)","v":"9"},{"$f":"CHOOSE(1,\"M\",\"TURN\",9,IK89,IJ87,IJ84)","v":"M"},null,{"$f":"CHOOSE(1,\"N\",\"TURN\",5,IK89,IM88,IP88)","v":"N"},0,{"$f":"IM88/IU82","v":{"$error":"#DIV/0!"}},"N",{"$f":"HY88","v":0},{"$f":"IP88/IU81","v":{"$error":"#DIV/0!"}},"-"]
[null,null,null,null,null,null,null,null,null,null,null,null,null,null,null,null,null,null,null,null,null,null,null,null,null,null,null,null,null,null,null,null,null,null,null,null,null,null,null,null,null,null,null,null,null,null,null,null,null,null,null,null,2,null,null,null,null,null,null,null,null,null,null,null,null,null,null,null,null,null,null,null,null,null,null,null,null,null,null,null,null,null,null,null,null,null,null,null,null,null,null,null,null,null,null,null,null,null,null,null,null,null,3,0,0,0,{"$f":"SUM(CZ89:DB89)","v":0},{"$f":"DD79","v":0},0,null,null,null,null,null,null,null,1,null,null,null,null,null,null,null,null,null,null,null,null,null,null,null,null,null,null,null,null,null,null,null,null,null,null,null,null,null,null,null,null,null,null,null,null,null,null,null,null,null,null,null,null,null,null,null,null,null,null,null,null,null,null,null,null,null,null,null,null,null,null,null,2,null,null,null,null,null,null,null,{"$f":"SUM(FT91,FW84,GB94)","v":0},"\"",{"$f":"IF(GJ89<>\"\",GJ89-GG89,0)","v":0},null,{"$f":"CHOOSE(1,\"\"\"\",\"LINK\",GK90,GJ89)","v":"\""},null,null,null,null,null,null,null,null,null,null,null,null,null,null,null,null,null,null,null,null,null,null,null,null,null,null,null,null,null,null,null,null,null,null,null,null,null,3,0,0,0,{"$f":"SUM(HX89:HZ89)","v":0},{"$f":"IB79","v":0},0,null,null,null,null,null,null,null,1]
[null,null,null,null,null,null,null,null,null,null,null,null,null,null,null,null,null,null,null,null,null,null,null,null,null,null,null,null,null,null,null,null,null,null,null,null,null,null,null,null,null,{"$f":"IF(AN91<>\"\",AQ90-AN91,0)","v":0},{"$f":"SUM(AY90:AY92)","v":0},"\"",null,{"$f":"RNSE(AV90,AY90)","v":"-"},{"$f":"AV90/AQ91","v":{"$error":"#DIV/0!"}},{"$f":"BM98","v":0},"O",{"$f":"AY90/AQ90","v":{"$error":"#DIV/0!"}},0,{"$f":"CHOOSE(1,\"O\",\"TURN\",13,BA89,AY90,AV90)","v":"O"},null,{"$f":"CHOOSE(1,\"L\",\"TURN\",1,BA89,BB91,BB94)","v":"L"},{"$f":"CHOOSE(1,\":\",\"TURN\",2,BA89,BC91,BC94)","v":":"},{"$f":"CHOOSE(1,\"#\",\"TURN\",3,BA89,BD91,BD94)","v":"#"},null,null,null,null,null,null,null,null,null,null,null,null,null,null,null,null,null,null,null,null,null,null,null,null,null,null,null,null,null,null,null,null,null,null,null,null,null,null,null,null,null,null,null,null,null,null,"est",{"$f":"SUM(CZ87:CZ89)","v":0},{"$f":"SUM(DA87:DA89)","v":0},{"$f":"SUM(DB87:DB89)","v":0},null,null,null,null,null,null,null,null,null,null,null,{"$f":"CHOOSE(1,\"L\",\"TURN\",1,DM89,DN91,DN94)","v":"L"},{"$f":"CHOOSE(1,\"#\",\"TURN\",3,DM89,DO91,DO94)","v":"#"},{"$f":"CHOOSE(1,\";\",\"TURN\",4,DM89,DP91,DP94)","v":";"},null,null,null,{"$f":"SUM(DO88,DK87,DP91)","v":0},"\"",{"$f":"IF(DW91<>\"\",DW91-DT90,0)","v":0},null,null,null,null,null,null,null,null,null,null,null,null,null,null,null,null,null,null,null,null,null,null,null,null,null,null,null,null,null,null,null,null,null,null,null,null,null,null,null,null,null,null,null,{"$f":"IF(FL91<>\"\",FO90-FL91,0)","v":0},{"$f":"SUM(FW90:FW92)","v":0},"\"",null,{"$f":"RNSE(FT90,FW90)","v":"-"},{"$f":"FT90/FO91","v":{"$error":"#DIV/0!"}},{"$f":"GT100","v":0},"=",{"$f":"FW90/FO90","v":{"$error":"#DIV/0!"}},0,{"$f":"CHOOSE(1,\"=\",\"TURN\",14,FY89,FW90,FT90)","v":"="},null,{"$f":"CHOOSE(1,\"L\",\"TURN\",1,FY89,FZ91,FZ94)","v":"L"},{"$f":"CHOOSE(1,\"#\",\"TURN\",3,FY89,GA91,GA94)","v":"#"},{"$f":"CHOOSE(1,\";\",\"TURN\",4,FY89,GB91,GB94)","v":";"},null,null,null,null,{"$f":"IF(GJ89<>\"\",GJ89,GG89)","v":0},"target","imbal",null,"LINK_ID",null,null,null,null,null,null,null,null,null,null,null,null,null,null,null,null,null,null,null,null,null,null,null,null,null,null,null,null,null,null,null,null,null,null,null,null,null,"est",{"$f":"SUM(HX87:HX89)","v":0},{"$f":"SUM(HY87:HY89)","v":0},{"$f":"SUM(HZ87:HZ89)","v":0},null,null,null,null,null,null,null,null,null,null,null,{"$f":"CHOOSE(1,\"L\",\"TURN\",1,IK89,IL91,IL94)","v":"L"},{"$f":"CHOOSE(1,\"#\",\"TURN\",3,IK89,IM91,IM94)","v":"#"},{"$f":"CHOOSE(1,\";\",\"TURN\",4,IK89,IN91,IN94)","v":";"},null,null,null,{"$f":"SUM(IM88,II87,IN91)","v":0},"\"",{"$f":"IF(IU91<>\"\",IU91-IR90,0)","v":0}]
[null,null,null,null,null,null,null,null,null,null,null,null,null,null,null,null,null,null,null,null,null,null,null,null,null,null,null,null,null,null,null,null,null,null,null,null,null,null,null,null,{"$f":"CHOOSE(1,\"\"\"\",\"LINK\",AN92,AN91)","v":"\""},{"$f":"IF(AN91<>\"\",AQ91-AN91,0)","v":0},{"$f":"SUM(AV90:AV92)","v":0},"\"",null,"-",{"$f":"AV91/AQ91","v":{"$error":"#DIV/0!"}},{"$f":"BL98","v":0},"=",{"$f":"AY91/AQ90","v":{"$error":"#DIV/0!"}},0,{"$f":"CHOOSE(1,\"=\",\"TURN\",14,BA89,AY91,AV91)","v":"="},null,0,0,0,"raw",null,null,null,null,null,null,null,null,null,null,null,null,null,null,null,null,null,null,null,null,null,null,null,null,null,null,null,null,null,null,null,null,null,null,null,null,null,null,null,null,null,null,null,null,null,"tgt",{"$f":"CZ81","v":0},{"$f":"DA81","v":0},{"$f":"DB81","v":0},null,null,null,null,null,null,null,null,null,null,null,0,0,0,"raw",null,null,{"$f":"SUM(DR88,DK84,DP94)","v":0},"\"",{"$f":"IF(DW91<>\"\",DW91-DT91,0)","v":0},null,{"$f":"CHOOSE(1,\"\"\"\",\"LINK\",DX92,DW91)","v":"\""},null,null,null,null,null,null,null,null,null,null,null,null,null,null,null,null,null,null,null,null,null,null,null,null,null,null,null,null,null,null,null,null,null,null,null,null,null,null,null,null,{"$f":"CHOOSE(1,\"\"\"\",\"LINK\",FL92,FL91)","v":"\""},{"$f":"IF(FL91<>\"\",FO91-FL91,0)","v":0},{"$f":"SUM(FT90:FT92)","v":0},"\"",null,{"$f":"RNSE(FT91,FW91)","v":"-"},{"$f":"FT91/FO91","v":{"$error":"#DIV/0!"}},{"$f":"GS100","v":0},"\"",{"$f":"FW91/FO90","v":{"$error":"#DIV/0!"}},0,{"$f":"CHOOSE(1,\"\"\"\",\"TURN\",15,FY89,FW91,FT91)","v":"\""},null,0,0,0,"raw",null,null,null,null,null,null,null,null,null,null,null,null,null,null,null,null,null,null,null,null,null,null,null,null,null,null,null,null,null,null,null,null,null,null,null,null,null,null,null,null,null,null,null,null,null,"tgt",{"$f":"HX81","v":0},{"$f":"HY81","v":0},{"$f":"HZ81","v":0},null,null,null,null,null,null,null,null,null,null,null,0,0,0,"raw",null,null,{"$f":"SUM(IP88,II84,IN94)","v":0},"\"",{"$f":"IF(IU91<>\"\",IU91-IR91,0)","v":0},null,{"$f":"CHOOSE(1,\"\"\"\",\"LINK\",IV92,IU91)","v":"\""}]
[null,null,null,null,null,null,null,null,null,null,null,null,null,null,null,null,null,null,null,null,null,null,null,null,null,null,null,null,null,null,null,null,null,null,null,null,null,null,null,"LINK_ID",null,"imbal",{"$f":"IF(AN91<>\"\",AN91,AQ91)","v":0},"target",null,{"$f":"RNSE(AV92,AY92)","v":"-"},{"$f":"AV92/AQ91","v":{"$error":"#DIV/0!"}},{"$f":"BK98","v":0},"?",{"$f":"AY92/AQ90","v":{"$error":"#DIV/0!"}},0,{"$f":"CHOOSE(1,\"?\",\"TURN\",16,BA89,AY92,AV92)","v":"?"},null,{"$f":"BB91/BB106","v":{"$error":"#DIV/0!"}},{"$f":"BC91/BB106","v":{"$error":"#DIV/0!"}},{"$f":"BD91/BB106","v":{"$error":"#DIV/0!"}},"%",null,null,null,null,null,null,null,null,null,null,null,null,null,null,null,null,null,null,null,null,null,null,null,null,null,null,null,null,null,null,null,null,null,null,null,null,null,null,null,null,null,null,null,null,null,"err",{"$f":"IFERROR(ABS(CZ90-CZ91)/CZ91,0)","v":0},{"$f":"IFERROR(ABS(DA90-DA91)/DA91,0)","v":0},0,null,null,{"$f":"SUM(CZ92:DB92,DE87:DE89)","v":0},null,null,null,null,null,null,null,null,{"$f":"DN91/DN106","v":{"$error":"#DIV/0!"}},{"$f":"DO91/DN106","v":{"$error":"#DIV/0!"}},{"$f":"DP91/DN106","v":{"$error":"#DIV/0!"}},"%",null,null,{"$f":"IF(DW91<>\"\",DW91,DT91)","v":0},"target","imbal",null,"LINK_ID",null,null,null,null,null,null,null,null,null,null,null,null,null,null,null,null,null,null,null,null,null,null,null,null,null,null,null,null,null,null,null,null,null,null,null,null,null,null,null,"LINK_ID",null,"imbal",{"$f":"IF(FL91<>\"\",FL91,FO91)","v":0},"target",null,{"$f":"RNSE(FT92,FW92)","v":"-"},{"$f":"FT92/FO91","v":{"$error":"#DIV/0!"}},{"$f":"GR100","v":0},"?",{"$f":"FW92/FO90","v":{"$error":"#DIV/0!"}},0,{"$f":"CHOOSE(1,\"?\",\"TURN\",16,FY89,FW92,FT92)","v":"?"},null,{"$f":"FZ91/FZ106","v":{"$error":"#DIV/0!"}},{"$f":"GA91/FZ106","v":{"$error":"#DIV/0!"}},{"$f":"GB91/FZ106","v":{"$error":"#DIV/0!"}},"%",null,null,null,null,null,null,null,null,null,null,null,null,null,null,null,null,null,null,null,null,null,null,null,null,null,null,null,null,null,null,null,null,null,null,null,null,null,null,null,null,null,null,null,null,null,"err",{"$f":"IFERROR(ABS(HX90-HX91)/HX91,0)","v":0},{"$f":"IFERROR(ABS(HY90-HY91)/HY91,0)","v":0},0,null,null,{"$f":"SUM(HX92:HZ92,IC87:IC89)","v":0},null,null,null,null,null,null,null,null,{"$f":"IL91/IL106","v":{"$error":"#DIV/0!"}},{"$f":"IM91/IL106","v":{"$error":"#DIV/0!"}},{"$f":"IN91/IL106","v":{"$error":"#DIV/0!"}},"%",null,null,{"$f":"IF(IU91<>\"\",IU91,IR91)","v":0},"target","imbal",null,"LINK_ID"]
[null,null,null,null,null,null,null,null,null,null,null,null,null,null,null,null,null,null,null,null,null,null,null,null,null,null,null,null,null,null,null,null,null,null,null,null,null,null,null,null,null,null,"",null,null,"RNSE","%","bal",null,"%","raw",null,null,"L",":","#",null,null,null,null,null,null,null,null,null,null,null,null,null,null,null,null,null,null,null,null,null,null,null,null,null,null,null,null,null,null,null,null,null,null,null,null,null,null,null,null,null,null,null,null,null,null,null,null,null,null,"",null,null,null,null,null,null,null,null,null,null,"L","#",";",null,null,null,null,null,null,null,null,null,null,null,null,null,null,null,null,null,null,null,null,null,null,null,null,null,null,null,null,null,null,null,null,null,null,null,null,null,null,null,null,null,null,null,null,null,null,null,null,null,null,"",null,null,"RNSE","%","bal",null,"%","raw",null,null,"L","#",";",null,null,null,null,null,null,null,null,null,null,null,null,null,null,null,null,null,null,null,null,null,null,null,null,null,null,null,null,null,null,null,null,null,null,null,null,null,null,null,null,null,null,null,null,null,null,null,null,null,null,"",null,null,null,null,null,null,null,null,null,null,"L","#",";"]
[null,null,null,null,null,null,null,null,null,null,null,null,null,null,null,null,null,null,null,null,null,null,null,null,null,null,null,null,null,null,null,null,null,null,null,null,null,null,null,null,null,null,null,null,null,null,null,null,null,null,null,null,null,{"$f":"BK96","v":0},{"$f":"BM96","v":0},{"$f":"BL96","v":0},"bal",null,null,null,null,"Local OD Estimated",null,null,null,null,null,null,null,null,null,null,null,null,null,null,null,null,null,null,null,null,null,null,null,null,null,null,null,null,null,null,null,null,null,null,null,null,null,null,null,null,null,null,null,null,null,null,null,null,null,null,null,null,null,null,null,{"$f":"CZ87","v":0},{"$f":"DB87","v":0},{"$f":"DA87","v":0},"bal",null,null,null,null,null,null,null,null,null,null,null,null,null,null,null,null,null,null,null,null,null,null,null,null,null,null,null,null,null,null,null,null,null,null,null,null,null,null,null,null,null,null,null,null,null,null,null,null,null,null,null,null,null,null,null,null,null,null,null,null,{"$f":"GR97","v":0},{"$f":"GT97","v":0},{"$f":"GS97","v":0},"bal",null,null,null,null,null,null,null,null,null,null,null,null,null,null,null,null,null,null,null,null,null,null,null,null,null,null,null,null,null,null,null,null,null,null,null,null,null,null,null,null,null,null,null,null,null,null,null,null,null,null,null,null,null,null,null,null,null,null,null,null,{"$f":"HX87","v":0},{"$f":"HZ87","v":0},{"$f":"HY87","v":0},"bal"]
[null,null,null,null,null,null,null,null,null,null,null,null,null,null,null,null,null,null,null,null,null,null,null,null,null,null,null,null,null,null,null,null,null,null,null,null,null,null,null,null,null,null,null,null,null,null,null,null,null,null,null,null,null,{"$f":"BB94/BC106","v":{"$error":"#DIV/0!"}},{"$f":"BC94/BC106","v":{"$error":"#DIV/0!"}},{"$f":"BD94/BC106","v":{"$error":"#DIV/0!"}},"%",null,null,null,null,{"$f":"\"local_od_est_\"&BA89","v":"local_od_est_2"},1,3,4,"est","tgt","err",null,null,null,null,null,null,null,null,null,null,null,null,null,null,null,null,null,null,null,null,null,null,null,null,null,null,null,null,null,null,null,null,null,null,null,null,null,null,null,null,null,null,null,null,null,null,null,null,null,{"$f":"DN94/DO106","v":{"$error":"#DIV/0!"}},{"$f":"DO94/DO106","v":{"$error":"#DIV/0!"}},{"$f":"DP94/DO106","v":{"$error":"#DIV/0!"}},"%",null,null,null,null,null,null,null,null,null,null,null,null,null,null,null,null,null,null,null,null,null,null,null,null,null,null,null,null,null,null,null,null,null,null,null,null,null,null,null,null,null,null,null,null,null,null,null,null,null,null,null,null,null,null,null,null,null,null,null,null,{"$f":"FZ94/GA106","v":{"$error":"#DIV/0!"}},{"$f":"GA94/GA106","v":{"$error":"#DIV/0!"}},{"$f":"GB94/GA106","v":{"$error":"#DIV/0!"}},"%",null,null,null,"Local OD Raw",null,null,null,null,null,null,null,null,null,"Local OD Estimated",null,null,null,null,null,null,null,null,null,null,null,null,null,null,null,null,null,null,null,null,null,null,null,null,null,null,null,null,null,null,null,null,null,null,null,null,null,null,null,null,null,null,null,null,null,null,{"$f":"IL94/IM106","v":{"$error":"#DIV/0!"}},{"$f":"IM94/IM106","v":{"$error":"#DIV/0!"}},{"$f":"IN94/IM106","v":{"$error":"#DIV/0!"}},"%"]
[null,null,null,null,null,null,null,null,null,null,null,null,null,null,null,null,null,null,null,null,null,null,null,null,null,null,null,null,null,null,null,null,null,null,null,null,null,null,null,null,null,null,null,null,null,null,null,null,null,null,null,null,null,{"$f":"RNSE(BB94,BB91)","v":"-"},"-","-","RNSE",null,null,null,null,1,{"$f":"BK77","v":0},0,0,{"$f":"SUM(BK96:BM96)","v":0},{"$f":"BO77","v":0},{"$f":"IFERROR(ABS(BN96-BO96)/BO96,0)","v":0},null,null,null,null,null,null,null,null,null,null,null,null,null,null,null,null,null,null,null,null,null,null,null,null,null,null,null,null,null,null,null,null,null,null,null,null,null,null,null,null,null,null,null,null,null,null,null,null,null,{"$f":"RNSE(DN94,DN91)","v":"-"},{"$f":"RNSE(DO94,DO91)","v":"-"},{"$f":"RNSE(DP94,DP91)","v":"-"},"RNSE",null,null,null,null,null,null,null,null,null,null,null,null,null,null,null,null,null,null,null,null,null,null,null,null,null,null,null,null,null,null,null,null,null,null,null,null,null,null,null,null,null,null,null,null,null,null,null,null,null,null,null,null,null,null,null,null,null,null,null,null,{"$f":"RNSE(FZ94,FZ91)","v":"-"},{"$f":"RNSE(GA94,GA91)","v":"-"},{"$f":"RNSE(GB94,GB91)","v":"-"},"RNSE",null,null,null,{"$f":"\"local_od_raw_\"&FY89","v":"local_od_raw_2"},1,2,3,4,"est","tgt","err",null,null,{"$f":"\"local_od_est_\"&FY89","v":"local_od_est_2"},1,2,3,4,"est","tgt","err",null,null,null,null,null,null,null,null,null,null,null,null,null,null,null,null,null,null,null,null,null,null,null,null,null,null,null,null,null,null,null,null,null,null,null,null,null,null,null,{"$f":"RNSE(IL94,IL91)","v":"-"},{"$f":"RNSE(IM94,IM91)","v":"-"},{"$f":"RNSE(IN94,IN91)","v":"-"},"RNSE"]
[null,null,null,null,null,null,null,null,null,null,null,null,null,null,null,null,null,null,null,null,null,null,null,null,null,null,null,null,null,null,null,null,null,null,null,null,null,null,null,null,null,null,null,null,null,null,null,null,null,null,null,null,null,null,null,null,null,null,null,null,null,3,{"$f":"BK78","v":0},0,0,{"$f":"SUM(BK97:BM97)","v":0},{"$f":"BO78","v":0},{"$f":"IFERROR(ABS(BN97-BO97)/BO97,0)","v":0},null,null,null,null,null,null,null,null,null,null,null,null,null,null,null,null,null,null,null,null,null,null,null,null,null,null,null,null,null,null,null,null,null,null,null,null,null,null,null,null,null,null,null,null,null,null,null,null,null,null,null,null,null,null,null,null,null,null,null,null,null,null,null,null,null,null,null,null,null,null,null,null,null,null,null,null,null,null,null,null,null,null,null,null,null,null,null,null,null,null,null,null,null,null,null,null,null,null,null,null,null,null,null,null,null,null,null,null,null,null,null,null,null,null,null,null,null,null,null,null,1,{"$f":"FZ91","v":0},{"$f":"GB91","v":0},{"$f":"GA91","v":0},0,{"$f":"SUM(GH97:GK97)","v":0},{"$f":"GB106","v":0},{"$f":"IFERROR(ABS(GL97-GM97)/GM97,0)","v":0},null,null,1,{"$f":"GH97","v":0},0,0,0,{"$f":"SUM(GR97:GU97)","v":0},{"$f":"GM97","v":0},{"$f":"IFERROR(ABS(GV97-GW97)/GW97,0)","v":0}]
[null,null,null,null,null,null,null,null,null,null,null,null,null,null,null,null,null,null,null,null,null,null,null,null,null,null,null,null,null,null,null,null,null,null,null,null,null,null,{"$f":"CHOOSE(1,BA89&\":\",\"IX_NAME\",AN98)","v":"2:"},"Default St & EB I-888 Ramps",null,null,null,null,null,null,null,null,null,null,null,null,null,null,null,null,null,null,null,null,null,4,{"$f":"BK79","v":0},0,0,{"$f":"SUM(BK98:BM98)","v":0},{"$f":"BO79","v":0},0,null,null,null,null,null,null,null,null,null,null,null,null,null,null,null,null,null,null,null,null,null,null,null,null,null,null,null,null,null,null,null,null,null,null,{"$f":"CHOOSE(1,DM89&\":\",\"IX_NAME\",CZ98)","v":"1:"},"Default St & EB I-888 Ramps",null,null,null,null,null,null,null,null,null,null,null,null,null,null,null,null,null,null,null,null,null,null,null,null,null,null,null,null,null,null,null,null,null,null,null,null,null,null,null,null,null,null,null,null,null,null,null,null,null,null,null,null,null,null,null,null,null,null,null,null,null,null,null,null,null,null,null,null,null,null,null,null,null,null,null,null,null,null,null,null,null,null,null,null,2,0,0,0,0,{"$f":"SUM(GH98:GK98)","v":0},0,{"$f":"IFERROR(ABS(GL98-GM98)/GM98,0)","v":0},null,null,2,0,0,0,0,{"$f":"SUM(GR98:GU98)","v":0},{"$f":"GM98","v":0},{"$f":"IFERROR(ABS(GV98-GW98)/GW98,0)","v":0},null,null,null,null,null,null,null,null,null,null,null,null,null,null,null,null,null,null,null,null,null,null,null,null,{"$f":"CHOOSE(1,IK89&\":\",\"IX_NAME\",HX98)","v":"1:"},"Default St & EB I-888 Ramps"]
[null,null,null,null,null,null,null,null,null,null,null,null,null,null,null,null,null,null,null,null,null,null,null,null,null,null,null,null,null,null,null,null,null,null,null,null,null,null,null,"Raw Count Date:",null,null,null,null,null,null,null,null,null,null,null,null,null,null,null,null,"",null,null,null,null,"est",{"$f":"SUM(BK96:BK98)","v":0},{"$f":"SUM(BL96:BL98)","v":0},{"$f":"SUM(BM96:BM98)","v":0},null,null,null,null,null,null,null,null,null,null,null,null,null,null,null,null,null,null,null,null,null,null,null,null,null,null,null,null,null,null,null,null,null,null,null,null,null,null,"Raw Count Date:",null,null,null,null,null,null,null,null,null,null,null,null,null,null,null,null,"",null,null,null,null,null,null,null,null,null,null,null,null,null,null,null,null,null,null,null,null,null,null,null,null,null,null,null,null,null,null,null,null,null,null,null,null,null,null,null,null,null,null,null,null,null,null,null,null,null,null,null,null,null,null,null,null,null,null,null,null,null,null,null,"",null,null,null,3,{"$f":"FV87","v":0},{"$f":"FW87","v":0},{"$f":"FX87","v":0},0,{"$f":"SUM(GH99:GK99)","v":0},{"$f":"FV72","v":0},0,null,null,3,0,0,0,0,0,{"$f":"GM99","v":0},0,null,null,null,null,null,null,null,null,null,null,null,null,null,null,null,null,null,null,null,null,null,null,null,null,null,"Raw Count Date:",null,null,null,null,null,null,null,null,null,null,null,null,null,null,null,null,""]
[null,null,null,null,null,null,null,null,null,null,null,null,null,null,null,null,null,null,null,null,null,null,null,null,null,null,null,null,null,null,null,null,null,null,null,null,null,null,null,null,null,null,null,null,null,null,null,null,null,null,null,null,null,null,null,null,null,null,null,null,null,"tgt",{"$f":"BK81","v":0},{"$f":"BL81","v":0},{"$f":"BM81","v":0},null,null,null,null,null,null,null,null,null,null,null,null,null,null,null,null,null,null,null,null,null,null,null,null,null,null,null,null,null,null,null,null,null,null,null,null,null,null,null,null,null,null,null,null,null,null,null,null,null,null,null,null,"Default St",null,null,null,null,null,null,null,null,null,null,null,null,null,null,null,null,null,null,null,null,null,null,null,null,null,null,null,null,null,null,null,null,null,null,null,null,null,null,null,null,null,null,null,null,null,null,null,null,{"$f":"CHOOSE(1,FY89&\":\",\"IX_NAME\",FL100)","v":"2:"},"Default St & EB I-888 Ramps",null,null,null,null,null,null,null,null,null,null,null,null,null,"Default St",null,null,null,null,null,null,4,{"$f":"FW92","v":0},{"$f":"FW91","v":0},{"$f":"FW90","v":0},0,{"$f":"SUM(GH100:GK100)","v":0},{"$f":"FO92","v":0},0,null,null,4,0,0,0,0,0,{"$f":"GM100","v":0},0,null,null,null,null,null,null,null,null,null,null,null,null,null,null,null,null,null,null,null,null,null,null,null,null,null,null,null,null,null,null,null,null,null,null,null,null,null,"Default St"]
[null,null,null,null,null,null,null,null,null,null,null,null,null,null,null,null,null,null,null,null,null,null,null,null,null,null,null,null,null,null,null,null,null,null,null,null,null,null,null,null,null,null,null,null,null,null,null,null,null,null,null,null,null,null,null,null,null,null,null,null,null,"err",{"$f":"IFERROR(ABS(BK99-BK100)/BK100,0)","v":0},{"$f":"IFERROR(ABS(BL99-BL100)/BL100,0)","v":0},0,null,null,{"$f":"SUM(BK101:BM101,BP96:BP98)","v":0},null,null,null,null,null,null,null,null,null,null,null,null,null,null,null,null,null,null,null,null,null,null,null,null,null,null,null,null,null,null,null,null,null,null,null,null,null,null,null,null,null,null,null,null,null,null,null,null,null,null,null,null,null,null,null,null,null,null,null,null,null,null,null,null,null,null,null,null,null,null,null,null,null,null,null,null,null,null,null,null,null,null,null,null,null,null,null,null,null,null,null,null,null,null,null,null,null,null,null,"Raw Count Date:",null,null,null,null,null,null,null,null,null,null,null,null,null,null,null,null,null,null,null,null,"est",{"$f":"SUM(GH97:GH100)","v":0},{"$f":"SUM(GI97:GI100)","v":0},{"$f":"SUM(GJ97:GJ100)","v":0},{"$f":"SUM(GK97:GK100)","v":0},null,null,null,null,null,"est",{"$f":"SUM(GR97:GR100)","v":0},{"$f":"SUM(GS97:GS100)","v":0},0,0]
[null,null,null,null,null,null,null,null,null,null,null,null,null,null,null,null,null,null,null,null,null,null,null,null,null,null,null,null,null,null,null,null,null,null,null,null,null,null,null,null,null,null,null,null,null,null,null,null,null,null,null,null,null,null,null,null,null,null,null,null,null,null,null,null,null,null,null,null,null,null,null,null,null,null,null,null,null,null,null,null,null,null,null,null,null,null,null,null,null,null,null,null,null,null,null,null,null,null,null,null,null,null,null,null,null,null,null,null,null,null,null,null,null,null,null,null,null,null,null,null,null,null,null,null,null,null,null,null,null,null,null,null,null,null,null,null,null,null,null,null,null,null,null,null,null,null,null,null,null,null,null,null,null,null,null,null,null,null,null,null,null,null,null,null,null,null,null,null,null,null,null,null,null,null,null,null,null,null,null,null,null,null,null,null,null,null,null,null,"tgt",{"$f":"FV104","v":0},{"$f":"GG90","v":0},{"$f":"GB74","v":0},0,null,null,null,null,null,"tgt",{"$f":"GH102","v":0},{"$f":"GI102","v":0},{"$f":"GJ102","v":0},{"$f":"GK102","v":0}]
[null,null,null,null,null,null,null,null,null,null,null,null,null,null,null,null,null,null,null,null,null,null,null,null,null,null,null,null,null,null,null,null,null,null,null,null,null,null,null,null,null,null,null,null,null,null,null,null,null,null,null,null,null,null,null,null,null,null,null,null,null,null,null,null,null,null,null,null,null,null,null,null,null,null,null,null,null,null,null,null,null,null,null,null,null,null,null,null,null,null,null,null,null,null,null,null,null,null,null,null,null,null,null,null,null,null,null,null,null,null,null,null,null,null,null,null,null,null,null,null,null,null,null,null,null,null,null,null,null,null,null,null,null,null,null,null,null,null,null,null,null,null,null,null,null,null,null,null,null,null,null,null,null,null,null,null,null,null,null,null,null,null,null,null,null,null,null,null,null,null,null,null,null,null,null,null,null,null,null,null,null,null,null,null,null,null,null,null,"err",{"$f":"IFERROR(ABS(GH101-GH102)/GH102,0)","v":0},{"$f":"IFERROR(ABS(GI101-GI102)/GI102,0)","v":0},0,0,null,null,{"$f":"SUM(GH103:GK103,GN97:GN100)","v":0},null,null,"err",{"$f":"IFERROR(ABS(GR101-GR102)/GR102,0)","v":0},{"$f":"IFERROR(ABS(GS101-GS102)/GS102,0)","v":0},0,0,null,null,{"$f":"SUM(GR103:GU103,GX97:GX100)","v":0}]
[null,null,null,null,null,null,null,null,null,null,null,null,null,null,null,null,null,null,null,null,null,null,null,null,null,null,null,null,null,null,null,null,null,null,null,null,null,null,null,null,null,null,null,null,null,null,null,null,null,{"$f":"IF(AY107<>\"\",AVERAGE(AY104,AY107),AY104)","v":0},{"$f":"SUM(BB94,AY84,AV92)","v":0},{"$f":"SUM(BB91,AY87,AY92)","v":0},null,null,null,null,null,null,null,null,null,null,null,null,null,null,null,null,null,null,null,null,null,null,null,null,null,null,null,null,null,null,null,null,null,null,null,null,null,null,null,null,null,null,null,null,null,null,null,null,null,null,null,null,null,null,null,null,null,null,null,null,null,{"$f":"IF(DK107<>\"\",AVERAGE(DK104,DK107),DK104)","v":0},{"$f":"SUM(DN94,DR87,DJ84)","v":0},{"$f":"SUM(DN91,DO87,DJ87)","v":0},null,null,null,null,null,null,null,null,null,null,null,null,null,null,null,null,null,null,null,null,null,null,null,null,null,null,null,null,null,null,null,null,null,null,null,null,null,null,null,null,null,null,null,null,null,null,null,null,null,null,null,null,null,null,null,null,null,null,null,null,null,{"$f":"IF(FW107<>\"\",AVERAGE(FW104,FW107),FW104)","v":0},{"$f":"SUM(FZ94,FV84,FT92)","v":0},{"$f":"SUM(FZ91,FV87,FW92)","v":0},null,null,null,null,null,null,null,null,null,null,null,null,null,null,null,null,null,null,null,null,null,null,null,null,null,null,null,null,null,null,null,null,null,null,null,null,null,null,null,null,null,null,null,null,null,null,null,null,null,null,null,null,null,null,null,null,null,null,null,null,null,{"$f":"IF(II107<>\"\",AVERAGE(II104,II107),II104)","v":0},{"$f":"SUM(IL94,IP87,IH84)","v":0},{"$f":"SUM(IL91,IM87,IH87)","v":0}]
[null,null,null,null,null,null,null,null,null,null,null,null,null,null,null,null,null,null,null,null,null,null,null,null,null,null,null,null,null,null,null,null,null,null,null,null,null,null,null,null,null,null,null,null,null,null,null,null,null,"target","$","$",null,"#","#","target",null,null,null,null,null,null,null,null,null,null,null,null,null,null,null,null,null,null,null,null,null,null,null,null,null,null,null,null,null,null,null,null,null,null,null,null,null,null,null,null,null,null,null,null,null,null,null,null,null,null,null,null,null,null,null,null,null,"target","$","$",null,"#","#","target",null,null,null,null,null,null,null,null,null,null,null,null,null,null,null,null,null,null,null,null,null,null,null,null,null,null,null,null,null,null,null,null,null,null,null,null,null,null,null,null,null,null,null,null,null,null,null,null,null,null,null,null,null,null,null,null,null,"target","$","$",null,"#","#","target",null,null,null,null,null,null,null,null,null,null,null,null,null,null,null,null,null,null,null,null,null,null,null,null,null,null,null,null,null,null,null,null,null,null,null,null,null,null,null,null,null,null,null,null,null,null,null,null,null,null,null,null,null,null,null,null,null,"target","$","$",null,"#","#","target"]
[null,null,null,null,null,null,null,null,null,null,null,null,null,null,null,null,null,null,null,null,null,null,null,null,null,null,null,null,null,null,null,null,null,null,null,null,null,null,null,null,null,null,null,null,null,null,null,null,null,"imbal",{"$f":"IF(AY107<>\"\",AY107-AY104,0)","v":0},{"$f":"IF(AZ107<>\"\",AZ107-AZ104,0)","v":0},null,{"$f":"SUM(BB91:BD91)","v":0},{"$f":"SUM(BB94:BD94)","v":0},{"$f":"IF(BC109<>\"\",AVERAGE(BC106,BC109),BC106)","v":0},null,null,null,null,null,null,null,null,null,null,null,null,null,null,null,null,null,null,null,null,null,null,null,null,null,null,null,null,null,null,null,null,null,null,null,null,null,null,null,null,null,null,null,null,null,null,null,null,null,null,null,null,null,null,null,null,null,"imbal",{"$f":"IF(DK107<>\"\",DK107-DK104,0)","v":0},{"$f":"IF(DL107<>\"\",DL107-DL104,0)","v":0},null,{"$f":"SUM(DN91:DP91)","v":0},{"$f":"SUM(DN94:DP94)","v":0},{"$f":"IF(DO109<>\"\",AVERAGE(DO106,DO109),DO106)","v":0},null,null,null,null,null,null,null,null,null,null,null,null,null,null,null,null,null,null,null,null,null,null,null,null,null,null,null,null,null,null,null,null,null,null,null,null,null,null,null,null,null,null,null,null,null,null,null,null,null,null,null,null,null,null,null,null,null,"imbal",{"$f":"IF(FW107<>\"\",FW107-FW104,0)","v":0},{"$f":"IF(FX107<>\"\",FX107-FX104,0)","v":0},null,{"$f":"SUM(FZ91:GB91)","v":0},{"$f":"SUM(FZ94:GB94)","v":0},{"$f":"IF(GA109<>\"\",AVERAGE(GA106,GA109),GA106)","v":0},null,null,null,null,null,null,null,null,null,null,null,null,null,null,null,null,null,null,null,null,null,null,null,null,null,null,null,null,null,null,null,null,null,null,null,null,null,null,null,null,null,null,null,null,null,null,null,null,null,null,null,null,null,null,null,null,null,"imbal",{"$f":"IF(II107<>\"\",II107-II104,0)","v":0},{"$f":"IF(IJ107<>\"\",IJ107-IJ104,0)","v":0},null,{"$f":"SUM(IL91:IN91)","v":0},{"$f":"SUM(IL94:IN94)","v":0},{"$f":"IF(IM109<>\"\",AVERAGE(IM106,IM109),IM106)","v":0}]
[]
[]
[]
[]
[]
[]
[]
[]
[]
[]
[]
[]
[]
[]
[]
[]
[null,null,null,null,null,null,null,null,null,null,null,null,null,null,null,null,null,null,null,null,null,null,null,null,null,null,null,null,null,null,null,null,null,null,null,null,null,null,null,null,null,null,null,null,null,null,null,null,null,{"$f":"IF(AY120<>\"\",AVERAGE(AY123,AY120),AY123)","v":0},{"$f":"SUM(AX135:AZ135)","v":0},{"$f":"SUM(AX138:AZ138)","v":0},null,{"$f":"IF(BB122<>\"\",BB122-BB125,0)","v":0},{"$f":"IF(BC122<>\"\",BC122-BC125,0)","v":0},"imbal",null,null,null,null,null,null,null,null,null,null,null,null,null,null,null,null,null,null,null,null,null,null,null,null,null,null,null,null,null,null,null,null,null,null,null,null,null,null,null,null,null,null,null,null,null,null,null,null,null,null,null,null,null,null,null,null,null,{"$f":"IF(DK120<>\"\",AVERAGE(DK123,DK120),DK123)","v":0},{"$f":"SUM(DJ135:DL135)","v":0},{"$f":"SUM(DJ138:DL138)","v":0},null,{"$f":"IF(DN122<>\"\",DN122-DN125,0)","v":0},{"$f":"IF(DO122<>\"\",DO122-DO125,0)","v":0},"imbal",null,null,null,null,null,null,null,null,null,null,null,null,null,null,null,null,null,null,null,null,null,null,null,null,null,null,null,null,null,null,null,null,null,null,null,null,null,null,null,null,null,null,null,null,null,null,null,null,null,null,null,null,null,null,null,null,null,{"$f":"IF(FW120<>\"\",AVERAGE(FW123,FW120),FW123)","v":0},{"$f":"SUM(FV135:FX135)","v":0},{"$f":"SUM(FV138:FX138)","v":0},null,{"$f":"IF(FZ122<>\"\",FZ122-FZ125,0)","v":0},{"$f":"IF(GA122<>\"\",GA122-GA125,0)","v":0},"imbal",null,null,null,null,null,null,null,null,null,null,null,null,null,null,null,null,null,null,null,null,null,null,null,null,null,null,null,null,null,null,null,null,null,null,null,null,null,null,null,null,null,null,null,null,null,null,null,null,null,null,null,null,null,null,null,null,null,{"$f":"IF(II120<>\"\",AVERAGE(II123,II120),II123)","v":0},{"$f":"SUM(IH135:IJ135)","v":0},{"$f":"SUM(IH138:IJ138)","v":0},null,{"$f":"IF(IL122<>\"\",IL122-IL125,0)","v":0},{"$f":"IF(IM122<>\"\",IM122-IM125,0)","v":0},"imbal"]
[null,null,null,null,null,null,null,null,null,null,null,null,null,null,null,null,null,null,null,null,null,null,null,null,null,null,null,null,null,null,null,null,null,null,null,null,null,null,null,null,null,null,null,null,null,null,null,null,null,"target","$","$",null,"#","#","target",null,null,null,null,null,null,null,null,null,null,null,null,null,null,null,null,null,null,null,null,null,null,null,null,null,null,null,null,null,null,null,null,null,null,null,null,null,null,null,null,null,null,null,null,null,null,null,null,null,null,null,null,null,null,null,null,null,"target","$","$",null,"#","#","target",null,null,null,null,null,null,null,null,null,null,null,null,null,null,null,null,null,null,null,null,null,null,null,null,null,null,null,null,null,null,null,null,null,null,null,null,null,null,null,null,null,null,null,null,null,null,null,null,null,null,null,null,null,null,null,null,null,"target","$","$",null,"#","#","target",null,null,null,null,null,null,null,null,null,null,null,null,null,null,null,null,null,null,null,null,null,null,null,null,null,null,null,null,null,null,null,null,null,null,null,null,null,null,null,null,null,null,null,null,null,null,null,null,null,null,null,null,null,null,null,null,null,"target","$","$",null,"#","#","target"]
[null,null,null,null,null,null,null,null,null,null,null,null,null,null,null,null,null,null,null,null,null,null,null,null,null,null,null,null,null,null,null,null,null,null,null,null,null,null,null,null,null,null,null,null,null,null,null,null,null,null,null,null,null,{"$f":"SUM(AZ138,BC142,BC137)","v":0},{"$f":"SUM(AZ135,BC145,BF137)","v":0},{"$f":"IF(BC122<>\"\",AVERAGE(BC125,BC122),BC125)","v":0},null,null,null,null,null,null,null,null,null,null,null,null,null,null,null,null,null,null,null,null,null,null,null,null,null,null,null,null,null,null,null,null,null,null,null,null,null,null,null,null,null,null,null,null,null,null,null,null,null,null,null,null,null,null,null,null,null,null,null,null,null,{"$f":"SUM(DL138,DO142,DO137)","v":0},{"$f":"SUM(DL135,DO145,DR137)","v":0},{"$f":"IF(DO122<>\"\",AVERAGE(DO125,DO122),DO125)","v":0},null,null,null,null,null,null,null,null,null,null,null,null,null,null,null,null,null,null,null,null,null,null,null,null,null,null,null,null,null,null,null,null,null,null,null,null,null,null,null,null,null,null,null,null,null,null,null,null,null,null,null,null,null,null,null,null,null,null,null,null,null,{"$f":"SUM(FX138,GA142,GA137)","v":0},{"$f":"SUM(FX135,GA145,GD137)","v":0},{"$f":"IF(GA122<>\"\",AVERAGE(GA125,GA122),GA125)","v":0},null,null,null,null,null,null,null,null,null,null,null,null,null,null,null,null,null,null,null,null,null,null,null,null,null,null,null,null,null,null,null,null,null,null,null,null,null,null,null,null,null,null,null,null,null,null,null,null,null,null,null,null,null,null,null,null,null,null,null,null,null,{"$f":"SUM(IJ138,IN142,IM137)","v":0},{"$f":"SUM(IJ135,IN145,IP137)","v":0},{"$f":"IF(IM122<>\"\",AVERAGE(IM125,IM122),IM125)","v":0}]
[null,null,null,null,null,null,null,null,null,null,null,null,null,null,null,null,null,null,null,null,null,null,null,null,null,null,null,null,null,null,null,null,null,null,null,null,null,null,{"$f":"CHOOSE(1,BA140&\":\",\"IX_NAME\",AN126)","v":"1:"},"Default St & WB I-888 Ramps",null,null,null,null,null,null,null,null,null,null,null,null,null,null,null,null,null,null,null,null,null,null,null,null,null,null,null,null,null,null,null,null,null,null,null,null,null,null,null,null,null,null,null,null,null,null,null,null,null,null,null,null,null,null,null,null,null,null,null,null,null,null,{"$f":"CHOOSE(1,DM140&\":\",\"IX_NAME\",CZ126)","v":"1:"},"Default St & WB I-888 Ramps",null,null,null,null,null,null,null,null,null,null,null,null,null,null,null,null,null,null,null,null,null,null,null,null,null,null,null,null,null,null,null,null,null,null,null,null,null,null,null,null,null,null,null,null,null,null,null,null,null,null,null,null,null,null,null,null,null,null,null,null,null,null,{"$f":"CHOOSE(1,FY140&\":\",\"IX_NAME\",FL126)","v":"1:"},"Default St & WB I-888 Ramps",null,null,null,null,null,null,null,null,null,null,null,null,null,null,null,null,null,null,null,null,null,null,null,null,null,null,null,null,null,null,null,null,null,null,null,null,null,null,null,null,null,null,null,null,null,null,null,null,null,null,null,null,null,null,null,null,null,null,null,null,null,null,{"$f":"CHOOSE(1,IK140&\":\",\"IX_NAME\",HX126)","v":"1:"},"Default St & WB I-888 Ramps",null,null,null,null,null,null,null,null,null,null,null,null,null,null,null,null,null,null,null,null,null,"Local OD Raw",null,null,null,null,null,null,null,null,"Local OD Estimated"]
[null,null,null,null,null,null,null,null,null,null,null,null,null,null,null,null,null,null,null,null,null,null,null,null,null,null,null,null,null,null,null,null,null,null,null,null,null,null,null,"Raw Count Date:",null,null,null,null,null,null,null,null,null,null,null,null,null,null,null,null,null,null,null,null,null,null,null,null,null,null,null,null,null,null,null,null,null,null,null,null,null,null,null,null,null,null,null,null,null,null,null,null,null,null,null,null,null,null,null,null,null,null,null,null,null,null,null,"Raw Count Date:",null,null,null,null,null,null,null,null,null,null,null,null,null,null,null,null,null,null,null,null,null,null,null,null,null,null,null,null,null,null,null,null,null,null,null,null,null,null,null,null,null,null,null,null,null,null,null,null,null,null,null,null,null,null,null,null,null,null,null,null,null,null,null,"Raw Count Date:",null,null,null,null,null,null,null,null,null,null,null,null,null,null,null,null,null,null,null,null,null,null,null,null,null,null,null,null,null,null,null,null,null,null,null,null,null,null,null,null,null,null,null,null,null,null,null,null,null,null,null,null,null,null,null,null,null,null,null,null,null,null,null,"Raw Count Date:",null,null,null,null,null,null,null,null,null,null,null,null,null,null,null,null,null,null,null,null,null,{"$f":"\"local_od_raw_\"&IK140","v":"local_od_raw_1"},1,2,3,4,"est","tgt","err",null,{"$f":"\"local_od_est_\"&IK140","v":"local_od_est_1"},1,2,3,4,"est","tgt","err"]
[null,null,null,null,null,null,null,null,null,null,null,null,null,null,null,null,null,null,null,null,null,null,null,null,null,null,null,null,null,null,null,null,null,null,null,null,null,null,null,null,null,null,null,null,null,null,null,null,null,null,null,null,null,null,null,null,null,null,null,null,null,null,null,null,null,null,null,null,null,null,null,null,null,null,null,null,null,null,null,null,null,null,null,null,null,null,null,null,null,null,null,null,null,null,null,null,null,null,null,null,null,null,null,null,null,null,null,null,null,null,null,null,null,null,null,null,null,null,null,null,null,null,null,null,null,null,null,null,null,null,null,null,null,null,null,null,null,null,null,null,null,null,null,null,null,null,null,null,null,null,null,null,null,null,null,null,null,null,null,null,null,null,null,null,null,null,null,null,null,null,null,null,null,null,null,null,null,null,null,null,null,null,null,null,null,null,null,null,null,null,null,null,null,null,null,null,null,null,null,null,null,null,null,null,null,null,null,null,null,null,null,null,null,null,null,null,null,null,null,null,null,null,null,null,null,null,null,null,null,null,null,null,null,null,null,null,null,null,null,null,null,null,null,null,null,null,null,null,null,null,null,null,null,1,{"$f":"IL142","v":0},0,{"$f":"IN142","v":0},{"$f":"IM142","v":0},{"$f":"SUM(IU128:IX128)","v":0},{"$f":"IN157","v":0},{"$f":"IFERROR(ABS(IY128-IZ128)/IZ128,0)","v":0},null,1,{"$f":"IU128","v":0},0,0,0,{"$f":"SUM(JD128:JG128)","v":0},{"$f":"IZ128","v":0},{"$f":"IFERROR(ABS(JH128-JI128)/JI128,0)","v":0}]
[null,null,null,null,null,null,null,null,null,null,null,null,null,null,null,null,null,null,null,null,null,null,null,null,null,null,null,null,null,null,null,null,null,null,null,null,null,null,null,null,null,null,null,null,null,null,null,null,null,null,null,"Default St",null,null,null,null,null,null,null,null,null,null,null,null,null,null,null,null,null,null,null,null,null,null,null,null,null,null,null,null,null,null,null,null,null,null,null,null,null,null,null,null,null,null,null,null,null,null,null,null,null,null,null,null,null,null,null,null,null,null,null,null,null,null,null,"Default St",null,null,null,null,null,null,null,null,null,null,null,null,null,null,null,null,null,null,null,null,null,null,null,null,null,null,null,null,null,null,null,null,null,null,null,null,null,null,null,null,null,null,null,null,null,null,null,null,null,null,null,null,null,null,null,null,null,null,null,null,null,null,null,"Default St",null,null,null,null,null,null,null,null,null,null,null,null,null,null,null,null,null,null,null,null,null,null,null,null,null,null,null,null,null,null,null,null,null,null,null,null,null,null,null,null,null,null,null,null,null,null,null,null,null,null,null,null,null,null,null,null,null,null,null,null,null,null,null,"Default St",null,null,null,null,null,null,null,null,null,2,{"$f":"IM139","v":0},0,{"$f":"IM137","v":0},{"$f":"IM138","v":0},{"$f":"SUM(IU129:IX129)","v":0},{"$f":"IV140","v":0},{"$f":"IFERROR(ABS(IY129-IZ129)/IZ129,0)","v":0},null,2,0,0,0,0,{"$f":"SUM(JD129:JG129)","v":0},{"$f":"IZ129","v":0},{"$f":"IFERROR(ABS(JH129-JI129)/JI129,0)","v":0}]
[null,null,null,null,null,null,null,null,null,null,null,null,null,null,null,null,null,null,null,null,null,null,null,null,null,null,null,null,null,null,null,null,null,null,null,null,null,null,null,null,null,null,null,null,null,null,null,null,"",null,null,null,null,null,null,null,null,null,null,null,null,null,null,null,null,null,null,null,null,null,null,null,null,null,null,null,null,null,null,null,null,null,null,null,null,null,null,null,null,null,null,null,null,null,null,null,null,null,null,null,null,null,null,null,null,null,null,null,null,null,null,null,"",null,null,null,null,null,null,null,null,null,null,null,null,null,null,null,null,null,null,null,null,null,null,null,null,null,null,null,null,null,null,null,null,null,null,null,null,null,null,null,null,null,null,null,null,null,null,null,null,null,null,null,null,null,null,null,null,null,null,null,null,null,null,null,"",null,null,null,null,null,null,null,null,null,null,null,null,null,null,null,null,null,null,null,null,null,null,null,null,null,null,null,null,null,null,null,null,null,null,null,null,null,null,null,null,null,null,null,null,null,null,null,null,null,null,null,null,null,null,null,null,null,null,null,null,null,null,null,"",null,null,null,null,null,null,null,null,null,null,null,null,3,{"$f":"II138","v":0},0,{"$f":"IJ138","v":0},{"$f":"IH138","v":0},{"$f":"SUM(IU130:IX130)","v":0},{"$f":"IH123","v":0},0,null,3,0,0,0,0,0,{"$f":"IZ130","v":0},0]
[null,null,null,null,null,null,null,null,null,null,null,null,null,null,null,null,null,null,null,null,null,null,null,null,null,null,null,null,null,null,null,null,null,null,null,null,null,null,"Local OD Raw",null,null,null,null,null,null,null,null,null,null,null,null,null,null,null,null,null,null,null,null,null,null,null,null,null,null,null,null,null,null,null,null,null,null,null,null,null,null,null,null,null,null,null,null,null,null,null,null,null,null,null,null,null,null,null,null,null,null,null,null,null,null,null,"Local OD Raw",null,null,null,null,null,null,null,null,null,null,null,null,null,null,null,null,null,null,null,null,null,null,null,null,null,null,null,null,null,null,null,null,null,null,null,null,null,null,null,null,null,null,null,null,null,null,null,null,null,null,null,null,null,null,null,null,null,null,null,null,null,null,null,"Local OD Raw",null,null,null,null,null,null,null,null,null,null,null,null,null,null,null,null,null,null,null,null,null,null,null,null,null,null,null,null,null,null,null,null,null,null,null,null,null,null,null,null,null,null,null,null,null,null,null,null,null,null,null,null,null,null,null,null,null,null,null,null,null,null,null,null,null,null,null,null,null,null,null,null,null,null,null,null,null,null,null,null,null,null,null,null,null,null,4,0,0,0,0,{"$f":"SUM(IU131:IX131)","v":0},0,0,null,4,0,0,0,0,0,{"$f":"IZ131","v":0},0]
[null,null,null,null,null,null,null,null,null,null,null,null,null,null,null,null,null,null,null,null,null,null,null,null,null,null,null,null,null,null,null,null,null,null,null,null,null,null,{"$f":"\"local_od_raw_\"&BA140","v":"local_od_raw_1"},1,2,3,"est","tgt","err",null,null,null,null,null,null,null,null,null,null,null,null,null,null,null,null,null,null,null,null,null,null,null,null,null,null,null,null,null,null,null,null,null,null,null,null,null,null,null,null,null,null,null,null,null,null,null,null,null,null,null,null,null,null,null,null,null,{"$f":"\"local_od_raw_\"&DM140","v":"local_od_raw_1"},1,2,3,"est","tgt","err",null,null,null,null,null,null,null,null,null,null,null,null,null,null,null,null,null,null,null,null,null,null,null,null,null,null,null,null,null,null,null,null,null,null,null,null,null,null,null,null,null,null,null,null,null,null,null,null,null,null,null,null,null,null,null,null,null,{"$f":"\"local_od_raw_\"&FY140","v":"local_od_raw_1"},1,2,3,"est","tgt","err",null,null,null,null,null,null,null,null,null,null,null,null,null,null,null,null,null,null,null,null,null,null,null,null,null,null,null,null,null,null,null,null,null,null,null,null,null,null,null,null,null,null,null,null,null,null,null,null,null,null,null,null,null,null,null,null,null,null,null,null,null,null,null,null,null,null,null,null,null,null,null,null,null,null,null,null,null,null,null,null,"est",{"$f":"SUM(IU128:IU131)","v":0},{"$f":"SUM(IV128:IV131)","v":0},{"$f":"SUM(IW128:IW131)","v":0},{"$f":"SUM(IX128:IX131)","v":0},null,null,null,null,"est",{"$f":"SUM(JD128:JD131)","v":0},{"$f":"SUM(JE128:JE131)","v":0},0,0]
[null,null,null,null,null,null,null,null,null,null,null,null,null,null,null,null,null,null,null,null,null,null,null,null,null,null,null,null,null,null,null,null,null,null,null,null,null,null,1,{"$f":"BB142","v":0},{"$f":"BD142","v":0},{"$f":"BC142","v":0},{"$f":"SUM(AN133:AP133)","v":0},{"$f":"BD157","v":0},{"$f":"IFERROR(ABS(AQ133-AR133)/AR133,0)","v":0},null,null,null,"RNSE",{"$f":"RNSE(AX135,AX138)","v":"-"},"-","-",null,null,null,null,null,null,null,null,null,null,null,null,null,null,null,null,null,null,null,null,null,null,null,null,null,null,null,null,null,null,null,null,null,null,null,null,null,null,null,null,null,null,null,null,null,null,null,null,null,null,1,{"$f":"DN142","v":0},{"$f":"DP142","v":0},{"$f":"DO142","v":0},{"$f":"SUM(CZ133:DB133)","v":0},{"$f":"DP157","v":0},{"$f":"IFERROR(ABS(DC133-DD133)/DD133,0)","v":0},null,null,null,"RNSE",{"$f":"RNSE(DJ135,DJ138)","v":"-"},"-","-",null,null,null,null,null,null,null,null,null,null,null,null,null,null,null,null,null,null,null,null,null,null,null,null,null,null,null,null,null,null,null,null,null,null,null,null,null,null,null,null,null,null,null,null,null,null,null,null,null,null,1,{"$f":"FZ142","v":0},{"$f":"GB142","v":0},{"$f":"GA142","v":0},{"$f":"SUM(FL133:FN133)","v":0},{"$f":"GB157","v":0},{"$f":"IFERROR(ABS(FO133-FP133)/FP133,0)","v":0},null,null,null,"RNSE",{"$f":"RNSE(FV135,FV138)","v":"-"},"-","-",null,null,null,null,null,null,null,null,null,null,null,null,null,null,null,null,null,null,null,null,null,null,null,null,null,null,null,null,null,null,null,null,null,null,null,null,null,null,null,null,null,null,null,null,null,null,null,null,null,null,null,null,null,null,null,null,null,null,null,null,"RNSE",{"$f":"RNSE(IH135,IH138)","v":"-"},{"$f":"RNSE(II135,II138)","v":"-"},{"$f":"RNSE(IJ135,IJ138)","v":"-"},null,null,null,null,null,null,null,null,null,"tgt",{"$f":"IH155","v":0},0,{"$f":"IN125","v":0},{"$f":"IB140","v":0},null,null,null,null,"tgt",{"$f":"IU133","v":0},{"$f":"IV133","v":0},{"$f":"IW133","v":0},{"$f":"IX133","v":0}]
[null,null,null,null,null,null,null,null,null,null,null,null,null,null,null,null,null,null,null,null,null,null,null,null,null,null,null,null,null,null,null,null,null,null,null,null,null,null,2,{"$f":"BC138","v":0},{"$f":"BC139","v":0},{"$f":"BC137","v":0},{"$f":"SUM(AN134:AP134)","v":0},{"$f":"BL136","v":0},{"$f":"IFERROR(ABS(AQ134-AR134)/AR134,0)","v":0},null,null,null,"%",{"$f":"AX135/AY123","v":{"$error":"#DIV/0!"}},{"$f":"AY135/AY123","v":{"$error":"#DIV/0!"}},{"$f":"AZ135/AY123","v":{"$error":"#DIV/0!"}},null,null,null,null,null,null,null,null,null,null,null,null,null,null,null,null,null,null,null,null,null,null,null,null,null,null,null,null,null,null,null,null,null,null,null,null,null,null,null,null,null,null,null,null,null,null,null,null,null,null,2,{"$f":"DO138","v":0},{"$f":"DO139","v":0},{"$f":"DO137","v":0},{"$f":"SUM(CZ134:DB134)","v":0},{"$f":"DX136","v":0},{"$f":"IFERROR(ABS(DC134-DD134)/DD134,0)","v":0},null,null,null,"%",{"$f":"DJ135/DK123","v":{"$error":"#DIV/0!"}},{"$f":"DK135/DK123","v":{"$error":"#DIV/0!"}},{"$f":"DL135/DK123","v":{"$error":"#DIV/0!"}},null,null,null,null,null,null,null,null,null,null,null,null,null,null,null,null,null,null,null,null,null,null,null,null,null,null,null,null,null,null,null,null,null,null,null,null,null,null,null,null,null,null,null,null,null,null,null,null,null,null,2,{"$f":"GA138","v":0},{"$f":"GA139","v":0},{"$f":"GA137","v":0},{"$f":"SUM(FL134:FN134)","v":0},{"$f":"GJ136","v":0},{"$f":"IFERROR(ABS(FO134-FP134)/FP134,0)","v":0},null,null,null,"%",{"$f":"FV135/FW123","v":{"$error":"#DIV/0!"}},{"$f":"FW135/FW123","v":{"$error":"#DIV/0!"}},{"$f":"FX135/FW123","v":{"$error":"#DIV/0!"}},null,null,null,null,null,null,null,null,null,null,null,null,null,null,null,null,null,null,null,null,null,null,null,null,null,null,null,null,null,null,null,null,null,null,null,null,null,null,null,null,null,null,null,null,null,null,null,null,null,null,null,null,null,null,null,null,null,null,null,null,"%",{"$f":"IH135/II123","v":{"$error":"#DIV/0!"}},{"$f":"II135/II123","v":{"$error":"#DIV/0!"}},{"$f":"IJ135/II123","v":{"$error":"#DIV/0!"}},null,null,null,null,null,null,null,null,null,"err",{"$f":"IFERROR(ABS(IU132-IU133)/IU133,0)","v":0},{"$f":"IFERROR(ABS(IV132-IV133)/IV133,0)","v":0},0,0,null,null,{"$f":"SUM(IU134:IX134,JA128:JA131)","v":0},null,"err",{"$f":"IFERROR(ABS(JD132-JD133)/JD133,0)","v":0},{"$f":"IFERROR(ABS(JE132-JE133)/JE133,0)","v":0},0,0,null,null,{"$f":"SUM(JD134:JG134,JJ128:JJ131)","v":0}]
[null,null,null,null,null,null,null,null,null,null,null,null,null,null,null,null,null,null,null,null,null,null,null,null,null,null,null,null,null,null,null,null,null,null,null,null,null,null,3,{"$f":"AX138","v":0},{"$f":"AY138","v":0},{"$f":"AZ138","v":0},{"$f":"SUM(AN135:AP135)","v":0},{"$f":"AX123","v":0},0,null,null,null,"bal",{"$f":"AN146","v":0},{"$f":"AO146","v":0},{"$f":"AP146","v":0},null,null,null,null,null,null,null,null,null,null,null,null,null,null,null,null,null,null,null,null,null,null,null,null,null,null,null,null,null,null,null,null,null,null,null,null,null,null,null,null,null,null,null,null,null,null,null,null,null,null,3,{"$f":"DJ138","v":0},{"$f":"DK138","v":0},{"$f":"DL138","v":0},{"$f":"SUM(CZ135:DB135)","v":0},{"$f":"DJ123","v":0},0,null,null,null,"bal",{"$f":"CZ146","v":0},{"$f":"DA146","v":0},{"$f":"DB146","v":0},null,null,null,null,null,null,null,null,null,null,null,null,null,null,null,null,null,null,null,null,null,null,null,null,null,null,null,null,null,null,null,null,null,null,null,null,null,null,null,null,null,null,null,null,null,null,null,null,null,null,3,{"$f":"FV138","v":0},{"$f":"FW138","v":0},{"$f":"FX138","v":0},{"$f":"SUM(FL135:FN135)","v":0},{"$f":"FV123","v":0},0,null,null,null,"bal",{"$f":"FL146","v":0},{"$f":"FM146","v":0},{"$f":"FN146","v":0},null,null,null,null,null,null,null,null,null,null,null,null,null,null,null,null,null,null,null,null,null,null,null,null,null,null,null,null,null,null,null,null,null,null,null,null,null,null,null,null,null,null,null,null,null,null,null,null,null,null,null,null,null,null,null,null,null,null,null,null,"bal",{"$f":"JG130","v":0},{"$f":"JD130","v":0},{"$f":"JF130","v":0}]
[null,null,null,null,null,null,null,null,null,null,null,null,null,null,null,null,null,null,null,null,null,null,null,null,null,null,null,null,null,null,null,null,null,null,null,null,null,null,"est",{"$f":"SUM(AN133:AN135)","v":0},{"$f":"SUM(AO133:AO135)","v":0},{"$f":"SUM(AP133:AP135)","v":0},null,null,null,null,null,null,null,"$",9,"M",null,null,"raw","%",null,"bal","%","RNSE",null,null,"target",{"$f":"IF(BO137<>\"\",BO137,BL137)","v":0},"imbal",null,"LINK_ID",null,null,null,null,null,null,null,null,null,null,null,null,null,null,null,null,null,null,null,null,null,null,null,null,null,null,null,null,null,null,null,null,null,null,null,"est",{"$f":"SUM(CZ133:CZ135)","v":0},{"$f":"SUM(DA133:DA135)","v":0},{"$f":"SUM(DB133:DB135)","v":0},null,null,null,null,null,null,null,"$",9,"M",null,null,"raw","%",null,"bal","%","RNSE",null,null,"target",{"$f":"IF(EA137<>\"\",EA137,DX137)","v":0},"imbal",null,"LINK_ID",null,null,null,null,null,null,null,null,null,null,null,null,null,null,null,null,null,null,null,null,null,null,null,null,null,null,null,null,null,null,null,null,null,null,null,"est",{"$f":"SUM(FL133:FL135)","v":0},{"$f":"SUM(FM133:FM135)","v":0},{"$f":"SUM(FN133:FN135)","v":0},null,null,null,null,null,null,null,"$",9,"M",null,null,"raw","%",null,"bal","%","RNSE",null,null,"target",{"$f":"IF(GM137<>\"\",GM137,GJ137)","v":0},"imbal",null,"LINK_ID",null,null,null,null,null,null,null,null,null,null,null,null,null,null,null,null,null,null,null,null,null,null,null,null,null,null,null,null,null,null,null,null,null,null,null,null,null,null,null,null,null,null,null,null,null,null,8,"$","M",null,null,"raw","%",null,"bal","%","RNSE",null,null,""]
[null,null,null,null,null,null,null,null,null,null,null,null,null,null,null,null,null,null,null,null,null,null,null,null,null,null,null,null,null,null,null,null,null,null,null,null,null,null,"tgt",{"$f":"AX155","v":0},{"$f":"BI149","v":0},{"$f":"BD125","v":0},null,null,null,null,null,null,"%",{"$f":"AX138/AZ123","v":{"$error":"#DIV/0!"}},{"$f":"AY138/AZ123","v":{"$error":"#DIV/0!"}},{"$f":"AZ138/AZ123","v":{"$error":"#DIV/0!"}},null,{"$f":"CHOOSE(1,\"<\",\"TURN\",8,BA140,BC137,BF137)","v":"<"},0,{"$f":"BC137/BL138","v":{"$error":"#DIV/0!"}},"<",{"$f":"AP145","v":0},{"$f":"BF137/BL137","v":{"$error":"#DIV/0!"}},{"$f":"RNSE(BF137,BC137)","v":"-"},null,null,"!",{"$f":"SUM(BF137:BF139)","v":0},{"$f":"IF(BO137<>\"\",BL137-BO137,0)","v":0},{"$f":"CHOOSE(1,\"!\",\"LINK\",BO136,BO137)","v":"!"},null,null,null,null,null,null,null,null,null,null,null,null,null,null,null,null,null,null,null,null,null,null,null,null,null,null,null,null,null,null,null,null,null,null,null,null,"tgt",{"$f":"DJ155","v":0},{"$f":"DU149","v":0},{"$f":"DP125","v":0},null,null,null,null,null,null,"%",{"$f":"DJ138/DL123","v":{"$error":"#DIV/0!"}},{"$f":"DK138/DL123","v":{"$error":"#DIV/0!"}},{"$f":"DL138/DL123","v":{"$error":"#DIV/0!"}},null,{"$f":"CHOOSE(1,\"<\",\"TURN\",8,DM140,DO137,DR137)","v":"<"},0,{"$f":"DO137/DX138","v":{"$error":"#DIV/0!"}},"<",{"$f":"DB145","v":0},{"$f":"DR137/DX137","v":{"$error":"#DIV/0!"}},{"$f":"RNSE(DR137,DO137)","v":"-"},null,null,"!",{"$f":"SUM(DR137:DR139)","v":0},{"$f":"IF(EA137<>\"\",DX137-EA137,0)","v":0},{"$f":"CHOOSE(1,\"!\",\"LINK\",EA136,EA137)","v":"!"},null,null,null,null,null,null,null,null,null,null,null,null,null,null,null,null,null,null,null,null,null,null,null,null,null,null,null,null,null,null,null,null,null,null,null,null,"tgt",{"$f":"FV155","v":0},{"$f":"GG149","v":0},{"$f":"GB125","v":0},null,null,null,null,null,null,"%",{"$f":"FV138/FX123","v":{"$error":"#DIV/0!"}},{"$f":"FW138/FX123","v":{"$error":"#DIV/0!"}},{"$f":"FX138/FX123","v":{"$error":"#DIV/0!"}},null,{"$f":"CHOOSE(1,\"<\",\"TURN\",8,FY140,GA137,GD137)","v":"<"},0,{"$f":"GA137/GJ138","v":{"$error":"#DIV/0!"}},"<",{"$f":"FN145","v":0},{"$f":"GD137/GJ137","v":{"$error":"#DIV/0!"}},{"$f":"RNSE(GD137,GA137)","v":"-"},null,null,"!",{"$f":"SUM(GD137:GD139)","v":0},{"$f":"IF(GM137<>\"\",GJ137-GM137,0)","v":0},{"$f":"CHOOSE(1,\"!\",\"LINK\",GM136,GM137)","v":"!"},null,null,null,null,null,null,null,null,null,null,null,null,null,null,null,null,null,null,null,null,null,null,null,null,null,null,null,null,null,null,null,null,null,null,null,null,null,null,null,null,null,null,null,null,null,null,"%",{"$f":"IH138/IJ123","v":{"$error":"#DIV/0!"}},{"$f":"II138/IJ123","v":{"$error":"#DIV/0!"}},{"$f":"IJ138/IJ123","v":{"$error":"#DIV/0!"}},null,{"$f":"CHOOSE(1,\"<\",\"TURN\",8,IK140,IM137,IP137)","v":"<"},0,{"$f":"IM137/IV142","v":{"$error":"#DIV/0!"}},"<",{"$f":"JF129","v":0},{"$f":"IP137/IV141","v":{"$error":"#DIV/0!"}},{"$f":"RNSE(IP137,IM137)","v":"-"}]
[null,null,null,null,null,null,null,null,null,null,null,null,null,null,null,null,null,null,null,null,null,null,null,null,null,null,null,null,null,null,null,null,null,null,null,null,null,null,"err",{"$f":"IFERROR(ABS(AN136-AN137)/AN137,0)","v":0},{"$f":"IFERROR(ABS(AO136-AO137)/AO137,0)","v":0},{"$f":"IFERROR(ABS(AP136-AP137)/AP137,0)","v":0},null,null,{"$f":"SUM(AN138:AQ138,BQ128:BQ131)","v":0},null,null,null,"raw",0,0,0,null,{"$f":"CHOOSE(1,\">\",\"TURN\",6,BA140,BC138,BF138)","v":">"},0,{"$f":"BC138/BL138","v":{"$error":"#DIV/0!"}},">",{"$f":"AN145","v":0},{"$f":"BF138/BL137","v":{"$error":"#DIV/0!"}},{"$f":"RNSE(BF138,BC138)","v":"-"},null,null,"!",{"$f":"SUM(BC137:BC139)","v":0},{"$f":"IF(BO137<>\"\",BL138-BO137,0)","v":0},null,null,null,null,null,null,null,null,null,null,null,null,null,null,null,null,null,null,null,null,null,null,null,null,null,null,null,null,null,null,null,null,null,null,null,null,null,"err",{"$f":"IFERROR(ABS(CZ136-CZ137)/CZ137,0)","v":0},{"$f":"IFERROR(ABS(DA136-DA137)/DA137,0)","v":0},{"$f":"IFERROR(ABS(DB136-DB137)/DB137,0)","v":0},null,null,{"$f":"SUM(CZ138:DC138,EC128:EC131)","v":0},null,null,null,"raw",0,0,0,null,{"$f":"CHOOSE(1,\">\",\"TURN\",6,DM140,DO138,DR138)","v":">"},0,{"$f":"DO138/DX138","v":{"$error":"#DIV/0!"}},">",{"$f":"CZ145","v":0},{"$f":"DR138/DX137","v":{"$error":"#DIV/0!"}},{"$f":"RNSE(DR138,DO138)","v":"-"},null,null,"!",{"$f":"SUM(DO137:DO139)","v":0},{"$f":"IF(EA137<>\"\",DX138-EA137,0)","v":0},null,null,null,null,null,null,null,null,null,null,null,null,null,null,null,null,null,null,null,null,null,null,null,null,null,null,null,null,null,null,null,null,null,null,null,null,null,"err",{"$f":"IFERROR(ABS(FL136-FL137)/FL137,0)","v":0},{"$f":"IFERROR(ABS(FM136-FM137)/FM137,0)","v":0},{"$f":"IFERROR(ABS(FN136-FN137)/FN137,0)","v":0},null,null,{"$f":"SUM(FL138:FO138,GO128:GO131)","v":0},null,null,null,"raw",0,0,0,null,{"$f":"CHOOSE(1,\">\",\"TURN\",6,FY140,GA138,GD138)","v":">"},0,{"$f":"GA138/GJ138","v":{"$error":"#DIV/0!"}},">",{"$f":"FL145","v":0},{"$f":"GD138/GJ137","v":{"$error":"#DIV/0!"}},{"$f":"RNSE(GD138,GA138)","v":"-"},null,null,"!",{"$f":"SUM(GA137:GA139)","v":0},{"$f":"IF(GM137<>\"\",GJ138-GM137,0)","v":0},null,null,null,null,null,null,null,null,null,null,null,null,null,null,null,null,null,null,null,null,null,null,null,null,null,null,null,null,null,null,null,null,null,null,null,null,null,null,null,null,null,null,null,null,null,null,null,"raw",0,0,0,null,{"$f":"CHOOSE(1,\"!\",\"TURN\",7,IK140,IM138,IP138)","v":"!"},0,{"$f":"IM138/IV142","v":{"$error":"#DIV/0!"}},"!",{"$f":"JG129","v":0},{"$f":"IP138/IV141","v":{"$error":"#DIV/0!"}},{"$f":"RNSE(IP138,IM138)","v":"-"}]
[null,null,null,null,null,null,null,null,null,null,null,null,null,null,null,null,null,null,null,null,null,null,null,null,null,null,null,null,null,null,null,null,null,null,null,null,null,null,null,null,null,null,null,null,null,null,null,null,null,{"$f":"CHOOSE(1,\"$\",\"TURN\",11,BA140,AX138,AX135)","v":"$"},{"$f":"CHOOSE(1,\"9\",\"TURN\",10,BA140,AY138,AY135)","v":"9"},{"$f":"CHOOSE(1,\"M\",\"TURN\",9,BA140,AZ138,AZ135)","v":"M"},null,{"$f":"CHOOSE(1,\"N\",\"TURN\",5,BA140,BC139,BF139)","v":"N"},0,{"$f":"BC139/BL138","v":{"$error":"#DIV/0!"}},"N",{"$f":"AO145","v":0},{"$f":"BF139/BL137","v":{"$error":"#DIV/0!"}},"-",null,null,null,null,null,null,null,null,null,null,null,null,null,null,null,null,null,null,null,null,null,null,null,null,null,null,null,null,null,null,null,null,null,null,null,null,null,null,null,null,null,null,null,null,null,null,null,null,null,null,null,null,null,{"$f":"CHOOSE(1,\"$\",\"TURN\",11,DM140,DJ138,DJ135)","v":"$"},{"$f":"CHOOSE(1,\"9\",\"TURN\",10,DM140,DK138,DK135)","v":"9"},{"$f":"CHOOSE(1,\"M\",\"TURN\",9,DM140,DL138,DL135)","v":"M"},null,{"$f":"CHOOSE(1,\"N\",\"TURN\",5,DM140,DO139,DR139)","v":"N"},0,{"$f":"DO139/DX138","v":{"$error":"#DIV/0!"}},"N",{"$f":"DA145","v":0},{"$f":"DR139/DX137","v":{"$error":"#DIV/0!"}},"-",null,null,null,null,null,null,null,null,null,null,null,null,null,null,null,null,null,null,null,null,null,null,null,null,null,null,null,null,null,null,null,null,null,null,null,null,null,null,null,null,null,null,null,null,null,null,null,null,null,null,null,null,null,{"$f":"CHOOSE(1,\"$\",\"TURN\",11,FY140,FV138,FV135)","v":"$"},{"$f":"CHOOSE(1,\"9\",\"TURN\",10,FY140,FW138,FW135)","v":"9"},{"$f":"CHOOSE(1,\"M\",\"TURN\",9,FY140,FX138,FX135)","v":"M"},null,{"$f":"CHOOSE(1,\"N\",\"TURN\",5,FY140,GA139,GD139)","v":"N"},0,{"$f":"GA139/GJ138","v":{"$error":"#DIV/0!"}},"N",{"$f":"FM145","v":0},{"$f":"GD139/GJ137","v":{"$error":"#DIV/0!"}},"-",null,null,null,null,null,null,null,null,null,null,null,null,null,null,null,null,null,null,null,null,null,null,null,null,null,null,null,null,null,null,null,null,null,null,null,null,null,null,null,null,null,null,null,null,null,null,null,null,null,null,null,null,null,{"$f":"CHOOSE(1,8,\"TURN\",12,IK140,IH138,IH135)","v":8},{"$f":"CHOOSE(1,\"$\",\"TURN\",11,IK140,II138,II135)","v":"$"},{"$f":"CHOOSE(1,\"M\",\"TURN\",9,IK140,IJ138,IJ135)","v":"M"},null,{"$f":"CHOOSE(1,\">\",\"TURN\",6,IK140,IM139,IP139)","v":">"},0,{"$f":"IM139/IV142","v":{"$error":"#DIV/0!"}},">",{"$f":"JD129","v":0},{"$f":"IP139/IV141","v":{"$error":"#DIV/0!"}},{"$f":"RNSE(IP139,IM139)","v":"-"}]
[null,null,null,null,null,null,null,null,null,null,null,null,null,null,null,null,null,null,null,null,null,null,null,null,null,null,null,null,null,null,null,null,null,null,null,null,null,null,null,null,null,null,null,null,null,null,null,null,null,null,null,null,1,null,null,null,null,null,null,null,null,null,null,null,null,null,null,null,null,null,null,null,null,null,null,null,null,null,null,null,null,null,null,null,null,null,null,null,null,null,null,null,null,null,null,null,null,null,null,null,null,null,null,null,null,null,null,null,null,null,null,null,null,null,null,null,1,null,null,null,null,null,null,null,null,null,null,null,null,null,null,null,null,null,null,null,null,null,null,null,null,null,null,null,null,null,null,null,null,null,null,null,null,null,null,null,null,null,null,null,null,null,null,null,null,null,null,null,null,null,null,null,null,null,null,null,null,null,null,null,1,null,null,null,null,null,null,null,null,null,null,null,null,null,null,null,null,null,null,null,null,null,null,null,null,null,null,null,null,null,null,null,null,null,null,null,null,null,null,null,null,null,null,null,null,null,null,null,null,null,null,"LINK_ID",null,"imbal","target",{"$f":"IF(HY141<>\"\",HY141,IB141)","v":0},null,null,null,null,null,null,null,null,1,null,null,null,null,null,null,null,null,null,"target",{"$f":"IF(IY141<>\"\",IY141,IV141)","v":0},"imbal",null,"LINK_ID"]
[null,null,null,null,null,null,null,null,null,null,null,null,null,null,null,null,null,null,null,null,null,null,null,null,null,null,null,null,null,null,null,null,null,null,null,null,null,null,null,null,null,null,null,null,null,null,null,null,null,null,null,null,null,{"$f":"CHOOSE(1,\"L\",\"TURN\",1,BA140,BB142,BB145)","v":"L"},{"$f":"CHOOSE(1,\"#\",\"TURN\",3,BA140,BC142,BC145)","v":"#"},{"$f":"CHOOSE(1,\";\",\"TURN\",4,BA140,BD142,BD145)","v":";"},null,null,null,null,null,null,null,null,null,null,null,null,null,null,null,null,null,null,null,null,null,null,null,null,null,null,null,null,null,null,null,null,null,null,null,null,null,null,null,null,null,null,null,null,null,null,null,null,null,null,null,null,null,null,null,null,null,null,null,null,null,{"$f":"CHOOSE(1,\"L\",\"TURN\",1,DM140,DN142,DN145)","v":"L"},{"$f":"CHOOSE(1,\"#\",\"TURN\",3,DM140,DO142,DO145)","v":"#"},{"$f":"CHOOSE(1,\";\",\"TURN\",4,DM140,DP142,DP145)","v":";"},null,null,null,null,null,null,null,null,null,null,null,null,null,null,null,null,null,null,null,null,null,null,null,null,null,null,null,null,null,null,null,null,null,null,null,null,null,null,null,null,null,null,null,null,null,null,null,null,null,null,null,null,null,null,null,null,null,null,null,null,null,{"$f":"CHOOSE(1,\"L\",\"TURN\",1,FY140,FZ142,FZ145)","v":"L"},{"$f":"CHOOSE(1,\"#\",\"TURN\",3,FY140,GA142,GA145)","v":"#"},{"$f":"CHOOSE(1,\";\",\"TURN\",4,FY140,GB142,GB145)","v":";"},null,null,null,null,null,null,null,null,null,null,null,null,null,null,null,null,null,null,null,null,null,null,null,null,null,null,null,null,null,null,null,null,null,null,null,null,null,null,null,null,null,null,null,null,null,null,null,{"$f":"CHOOSE(1,\"!\",\"LINK\",HX140,HY141)","v":"!"},null,{"$f":"IF(HY141<>\"\",HY141-IB141,0)","v":0},"!",{"$f":"SUM(IM145,IH135,IP138)","v":0},null,null,null,null,null,null,null,null,null,{"$f":"CHOOSE(1,\"L\",\"TURN\",1,IK140,IL142,IL145)","v":"L"},{"$f":"CHOOSE(1,\":\",\"TURN\",2,IK140,IM142,IM145)","v":":"},{"$f":"CHOOSE(1,\"#\",\"TURN\",3,IK140,IN142,IN145)","v":"#"},null,null,null,null,null,null,"!",{"$f":"SUM(IP137:IP139)","v":0},{"$f":"IF(IY141<>\"\",IV141-IY141,0)","v":0},{"$f":"CHOOSE(1,\"!\",\"LINK\",IY140,IY141)","v":"!"}]
[null,null,null,null,null,null,null,null,null,null,null,null,null,null,null,null,null,null,null,null,null,null,null,null,null,null,null,null,null,null,null,null,null,null,null,null,null,null,"Local OD Estimated",null,null,null,null,null,null,null,null,null,null,null,null,null,null,0,0,0,"raw",null,null,null,null,null,null,null,null,null,null,null,null,null,null,null,null,null,null,null,null,null,null,null,null,null,null,null,null,null,null,null,null,null,null,null,null,null,null,null,null,null,null,null,null,null,"Local OD Estimated",null,null,null,null,null,null,null,null,null,null,null,null,null,null,0,0,0,"raw",null,null,null,null,null,null,null,null,null,null,null,null,null,null,null,null,null,null,null,null,null,null,null,null,null,null,null,null,null,null,null,null,null,null,null,null,null,null,null,null,null,null,null,null,null,"Local OD Estimated",null,null,null,null,null,null,null,null,null,null,null,null,null,null,0,0,0,"raw",null,null,null,null,null,null,null,null,null,null,null,null,null,null,null,null,null,null,null,null,null,null,null,null,null,null,null,null,null,null,null,null,null,null,null,null,null,null,null,null,null,null,null,null,null,null,null,null,{"$f":"IF(HY141<>\"\",HY141-IB142,0)","v":0},"!",{"$f":"SUM(IM142,IH138,IM138)","v":0},null,null,null,null,null,null,null,null,null,0,0,0,"raw",null,null,null,null,null,"!",{"$f":"SUM(IM137:IM139)","v":0},{"$f":"IF(IY141<>\"\",IV142-IY141,0)","v":0}]
[null,null,null,null,null,null,null,null,null,null,null,null,null,null,null,null,null,null,null,null,null,null,null,null,null,null,null,null,null,null,null,null,null,null,null,null,null,null,{"$f":"\"local_od_est_\"&BA140","v":"local_od_est_1"},1,2,3,"est","tgt","err",null,null,null,null,null,null,null,null,{"$f":"BB142/BB157","v":{"$error":"#DIV/0!"}},{"$f":"BC142/BB157","v":{"$error":"#DIV/0!"}},{"$f":"BD142/BB157","v":{"$error":"#DIV/0!"}},"%",null,null,null,null,null,null,null,null,null,null,null,null,null,null,null,null,null,null,null,null,null,null,null,null,null,null,null,null,null,null,null,null,null,null,null,null,null,null,null,null,null,null,null,null,null,{"$f":"\"local_od_est_\"&DM140","v":"local_od_est_1"},1,2,3,"est","tgt","err",null,null,null,null,null,null,null,null,{"$f":"DN142/DN157","v":{"$error":"#DIV/0!"}},{"$f":"DO142/DN157","v":{"$error":"#DIV/0!"}},{"$f":"DP142/DN157","v":{"$error":"#DIV/0!"}},"%",null,null,null,null,null,null,null,null,null,null,null,null,null,null,null,null,null,null,null,null,null,null,null,null,null,null,null,null,null,null,null,null,null,null,null,null,null,null,null,null,null,null,null,null,null,{"$f":"\"local_od_est_\"&FY140","v":"local_od_est_1"},1,2,3,"est","tgt","err",null,null,null,null,null,null,null,null,{"$f":"FZ142/FZ157","v":{"$error":"#DIV/0!"}},{"$f":"GA142/FZ157","v":{"$error":"#DIV/0!"}},{"$f":"GB142/FZ157","v":{"$error":"#DIV/0!"}},"%",null,null,null,null,null,null,null,null,null,null,null,null,null,null,null,null,null,null,null,null,null,null,null,null,null,null,null,null,null,null,null,null,null,null,null,null,null,null,null,null,null,null,null,null,null,null,null,null,null,null,null,null,null,null,null,null,null,null,null,null,{"$f":"IL142/IL157","v":{"$error":"#DIV/0!"}},{"$f":"IM142/IL157","v":{"$error":"#DIV/0!"}},{"$f":"IN142/IL157","v":{"$error":"#DIV/0!"}},"%"]
[null,null,null,null,null,null,null,null,null,null,null,null,null,null,null,null,null,null,null,null,null,null,null,null,null,null,null,null,null,null,null,null,null,null,null,null,null,null,1,{"$f":"AN133","v":0},0,0,{"$f":"SUM(AN144:AP144)","v":0},{"$f":"AR133","v":0},{"$f":"IFERROR(ABS(AQ144-AR144)/AR144,0)","v":0},null,null,null,null,null,null,null,null,"L","#",";",null,null,null,null,null,null,null,null,null,null,null,null,null,null,null,null,null,null,null,null,null,null,null,null,null,null,null,null,null,null,null,null,null,null,null,null,null,null,null,null,null,null,null,null,null,null,1,{"$f":"CZ133","v":0},0,0,{"$f":"SUM(CZ144:DB144)","v":0},{"$f":"DD133","v":0},{"$f":"IFERROR(ABS(DC144-DD144)/DD144,0)","v":0},null,null,null,null,null,null,null,null,"L","#",";",null,null,null,null,null,null,null,null,null,null,null,null,null,null,null,null,null,null,null,null,null,null,null,null,null,null,null,null,null,null,null,null,null,null,null,null,null,null,null,null,null,null,null,null,null,null,1,{"$f":"FL133","v":0},0,0,{"$f":"SUM(FL144:FN144)","v":0},{"$f":"FP133","v":0},{"$f":"IFERROR(ABS(FO144-FP144)/FP144,0)","v":0},null,null,null,null,null,null,null,null,"L","#",";",null,null,null,null,null,null,null,null,null,null,null,null,null,null,null,null,null,null,null,null,null,null,null,null,null,null,null,null,null,null,null,null,null,null,null,null,null,null,null,null,null,null,null,null,null,null,null,null,null,null,"",null,null,null,null,null,null,null,null,null,null,"L",":","#"]
[null,null,null,null,null,null,null,null,null,null,null,null,null,null,null,null,null,null,null,null,null,null,null,null,null,null,null,null,null,null,null,null,null,null,null,null,null,null,2,0,0,0,{"$f":"SUM(AN145:AP145)","v":0},{"$f":"AR134","v":0},{"$f":"IFERROR(ABS(AQ145-AR145)/AR145,0)","v":0},null,null,null,null,null,null,null,null,{"$f":"AN144","v":0},{"$f":"AP144","v":0},{"$f":"AO144","v":0},"bal",null,null,null,null,null,null,null,null,null,null,null,null,null,null,null,null,null,null,null,null,null,null,null,null,null,null,null,null,null,null,null,null,null,null,null,null,null,null,null,null,null,null,null,null,null,2,0,0,0,{"$f":"SUM(CZ145:DB145)","v":0},{"$f":"DD134","v":0},{"$f":"IFERROR(ABS(DC145-DD145)/DD145,0)","v":0},null,null,null,null,null,null,null,null,{"$f":"CZ144","v":0},{"$f":"DB144","v":0},{"$f":"DA144","v":0},"bal",null,null,null,null,null,null,null,null,null,null,null,null,null,null,null,null,null,null,null,null,null,null,null,null,null,null,null,null,null,null,null,null,null,null,null,null,null,null,null,null,null,null,null,null,null,2,0,0,0,{"$f":"SUM(FL145:FN145)","v":0},{"$f":"FP134","v":0},{"$f":"IFERROR(ABS(FO145-FP145)/FP145,0)","v":0},null,null,null,null,null,null,null,null,{"$f":"FL144","v":0},{"$f":"FN144","v":0},{"$f":"FM144","v":0},"bal",null,null,null,null,null,null,null,null,null,null,null,null,null,null,null,null,null,null,null,null,null,null,null,null,null,null,null,null,null,null,null,null,null,null,null,null,null,null,null,null,null,null,null,null,null,null,null,null,null,null,null,null,null,null,null,null,null,null,null,null,{"$f":"JD128","v":0},{"$f":"JG128","v":0},{"$f":"JF128","v":0},"bal"]
[null,null,null,null,null,null,null,null,null,null,null,null,null,null,null,null,null,null,null,null,null,null,null,null,null,null,null,null,null,null,null,null,null,null,null,null,null,null,3,0,0,0,{"$f":"SUM(AN146:AP146)","v":0},{"$f":"AR135","v":0},0,null,null,null,null,null,null,null,null,{"$f":"BB145/BC157","v":{"$error":"#DIV/0!"}},{"$f":"BC145/BC157","v":{"$error":"#DIV/0!"}},{"$f":"BD145/BC157","v":{"$error":"#DIV/0!"}},"%",null,null,null,null,null,null,null,null,null,null,null,null,null,null,null,null,null,null,null,null,null,null,null,null,null,null,null,null,null,null,null,null,null,null,null,null,null,null,null,null,null,null,null,null,null,3,0,0,0,{"$f":"SUM(CZ146:DB146)","v":0},{"$f":"DD135","v":0},0,null,null,null,null,null,null,null,null,{"$f":"DN145/DO157","v":{"$error":"#DIV/0!"}},{"$f":"DO145/DO157","v":{"$error":"#DIV/0!"}},{"$f":"DP145/DO157","v":{"$error":"#DIV/0!"}},"%",null,null,null,null,null,null,null,null,null,null,null,null,null,null,null,null,null,null,null,null,null,null,null,null,null,null,null,null,null,null,null,null,null,null,null,null,null,null,null,null,null,null,null,null,null,3,0,0,0,{"$f":"SUM(FL146:FN146)","v":0},{"$f":"FP135","v":0},0,null,null,null,null,null,null,null,null,{"$f":"FZ145/GA157","v":{"$error":"#DIV/0!"}},{"$f":"GA145/GA157","v":{"$error":"#DIV/0!"}},{"$f":"GB145/GA157","v":{"$error":"#DIV/0!"}},"%",null,null,null,null,null,null,null,null,null,null,null,null,null,null,null,null,null,null,null,null,null,null,null,null,null,null,null,null,null,null,null,null,null,null,null,null,null,null,null,null,null,null,null,null,null,null,null,null,null,null,null,null,null,null,null,null,null,null,null,null,{"$f":"IL145/IM157","v":{"$error":"#DIV/0!"}},{"$f":"IM145/IM157","v":{"$error":"#DIV/0!"}},{"$f":"IN145/IM157","v":{"$error":"#DIV/0!"}},"%"]
[null,null,null,null,null,null,null,null,null,null,null,null,null,null,null,null,null,null,null,null,null,null,null,null,null,null,null,null,null,null,null,null,null,null,null,null,null,null,"est",{"$f":"SUM(AN144:AN146)","v":0},{"$f":"SUM(AO144:AO146)","v":0},{"$f":"SUM(AP144:AP146)","v":0},null,null,null,null,null,null,null,null,null,null,null,{"$f":"RNSE(BB145,BB142)","v":"-"},{"$f":"RNSE(BC145,BC142)","v":"-"},{"$f":"RNSE(BD145,BD142)","v":"-"},"RNSE",null,null,null,"LINK_ID",{"$f":"CHOOSE(1,\"?\",\"LINK\",BI147,BK147)","v":"?"},null,null,null,null,null,null,null,null,null,null,null,null,null,null,null,null,null,null,null,null,null,null,null,null,null,null,null,null,null,null,null,null,null,null,null,null,null,null,null,null,"est",{"$f":"SUM(CZ144:CZ146)","v":0},{"$f":"SUM(DA144:DA146)","v":0},{"$f":"SUM(DB144:DB146)","v":0},null,null,null,null,null,null,null,null,null,null,null,{"$f":"RNSE(DN145,DN142)","v":"-"},{"$f":"RNSE(DO145,DO142)","v":"-"},{"$f":"RNSE(DP145,DP142)","v":"-"},"RNSE",null,null,null,"LINK_ID",{"$f":"CHOOSE(1,\"?\",\"LINK\",DU147,DW147)","v":"?"},null,null,null,null,null,null,null,null,null,null,null,null,null,null,null,null,null,null,null,null,null,null,null,null,null,null,null,null,null,null,null,null,null,null,null,null,null,null,null,null,"est",{"$f":"SUM(FL144:FL146)","v":0},{"$f":"SUM(FM144:FM146)","v":0},{"$f":"SUM(FN144:FN146)","v":0},null,null,null,null,null,null,null,null,null,null,null,{"$f":"RNSE(FZ145,FZ142)","v":"-"},{"$f":"RNSE(GA145,GA142)","v":"-"},{"$f":"RNSE(GB145,GB142)","v":"-"},"RNSE",null,null,null,"LINK_ID",{"$f":"CHOOSE(1,\"?\",\"LINK\",GG147,GI147)","v":"?"},null,null,null,null,null,null,null,null,null,null,null,null,null,null,null,null,null,null,null,null,null,null,null,null,null,null,null,null,null,null,null,null,null,null,null,null,null,null,null,null,null,null,null,null,null,null,null,null,null,null,null,null,null,null,null,{"$f":"RNSE(IL145,IL142)","v":"-"},"-","-","RNSE"]
[null,null,null,null,null,null,null,null,null,null,null,null,null,null,null,null,null,null,null,null,null,null,null,null,null,null,null,null,null,null,null,null,null,null,null,null,null,null,"tgt",{"$f":"AN137","v":0},{"$f":"AO137","v":0},{"$f":"AP137","v":0},null,null,null,null,null,null,null,null,null,null,null,null,null,null,null,null,null,null,null,"imbal",{"$f":"IF(BK147<>\"\",BK149-BK147,0)","v":0},{"$f":"IF(BK147<>\"\",BK149-BK147,0)","v":0},null,null,null,null,null,null,null,null,null,null,null,null,null,null,null,null,null,null,null,null,null,null,null,null,null,null,null,null,null,null,null,null,null,null,null,null,null,null,"tgt",{"$f":"CZ137","v":0},{"$f":"DA137","v":0},{"$f":"DB137","v":0},null,null,null,null,null,null,null,null,null,null,null,null,null,null,null,null,null,null,null,"imbal",{"$f":"IF(DW147<>\"\",DW149-DW147,0)","v":0},{"$f":"IF(DW147<>\"\",DW149-DW147,0)","v":0},null,null,null,null,null,null,null,null,null,null,null,null,null,null,null,null,null,null,null,null,null,null,null,null,null,null,null,null,null,null,null,null,null,null,null,null,null,null,"tgt",{"$f":"FL137","v":0},{"$f":"FM137","v":0},{"$f":"FN137","v":0},null,null,null,null,null,null,null,null,null,null,null,null,null,null,null,null,null,null,null,"imbal",{"$f":"IF(GI147<>\"\",GI149-GI147,0)","v":0},{"$f":"IF(GI147<>\"\",GI149-GI147,0)","v":0}]
[null,null,null,null,null,null,null,null,null,null,null,null,null,null,null,null,null,null,null,null,null,null,null,null,null,null,null,null,null,null,null,null,null,null,null,null,null,null,"err",{"$f":"IFERROR(ABS(AN147-AN148)/AN148,0)","v":0},{"$f":"IFERROR(ABS(AO147-AO148)/AO148,0)","v":0},0,null,null,{"$f":"SUM(AN149:AP149,AS144:AS146)","v":0},null,null,null,null,null,null,null,null,null,null,null,null,null,null,"target",{"$f":"IF(BK147<>\"\",BK147,BK149)","v":0},"?",{"$f":"SUM(BD145,AY135,BF139)","v":0},null,null,null,null,null,null,null,null,null,null,null,null,null,null,null,null,null,null,null,null,null,null,null,null,null,null,null,null,null,null,null,null,null,null,null,null,null,null,null,"err",{"$f":"IFERROR(ABS(CZ147-CZ148)/CZ148,0)","v":0},{"$f":"IFERROR(ABS(DA147-DA148)/DA148,0)","v":0},0,null,null,{"$f":"SUM(CZ149:DB149,DE144:DE146)","v":0},null,null,null,null,null,null,null,null,null,null,null,null,null,null,"target",{"$f":"IF(DW147<>\"\",DW147,DW149)","v":0},"?",{"$f":"SUM(DP145,DK135,DR139)","v":0},null,null,null,null,null,null,null,null,null,null,null,null,null,null,null,null,null,null,null,null,null,null,null,null,null,null,null,null,null,null,null,null,null,null,null,null,null,null,null,"err",{"$f":"IFERROR(ABS(FL147-FL148)/FL148,0)","v":0},{"$f":"IFERROR(ABS(FM147-FM148)/FM148,0)","v":0},0,null,null,{"$f":"SUM(FL149:FN149,FQ144:FQ146)","v":0},null,null,null,null,null,null,null,null,null,null,null,null,null,null,"target",{"$f":"IF(GI147<>\"\",GI147,GI149)","v":0},"?",{"$f":"SUM(GB145,FW135,GD139)","v":0}]
[null,null,null,null,null,null,null,null,null,null,null,null,null,null,null,null,null,null,null,null,null,null,null,null,null,null,null,null,null,null,null,null,null,null,null,null,null,null,null,null,null,null,null,null,null,null,null,null,null,null,null,null,null,null,null,null,"",null,null,null,null,"?",{"$f":"SUM(BD142,AY138,BC139)","v":0},null,null,null,null,null,null,null,null,null,null,null,null,null,null,null,null,null,null,null,null,null,null,null,null,null,null,null,null,null,null,null,null,null,null,null,null,null,null,null,null,null,null,null,null,null,null,null,null,null,null,null,null,null,null,null,null,null,"",null,null,null,null,"?",{"$f":"SUM(DP142,DK138,DO139)","v":0},null,null,null,null,null,null,null,null,null,null,null,null,null,null,null,null,null,null,null,null,null,null,null,null,null,null,null,null,null,null,null,null,null,null,null,null,null,null,null,null,null,null,null,null,null,null,null,null,null,null,null,null,null,null,null,null,null,"",null,null,null,null,"?",{"$f":"SUM(GB142,FW138,GA139)","v":0},null,null,null,null,null,null,null,null,null,null,null,null,null,null,null,null,null,null,null,null,null,null,null,null,null,null,null,null,null,null,null,null,null,null,null,null,null,null,null,null,null,null,null,null,null,null,null,null,null,null,null,null,null,null,null,null,null,""]
[]
[]
[]
[]
[null,null,null,null,null,null,null,null,null,null,null,null,null,null,null,null,null,null,null,null,null,null,null,null,null,null,null,null,null,null,null,null,null,null,null,null,null,null,null,null,null,null,null,null,null,null,null,null,null,{"$f":"IF(AY158<>\"\",AVERAGE(AY155,AY158),AY155)","v":0},{"$f":"SUM(BB145,BF138,AX135)","v":0},{"$f":"SUM(BB142,BC138,AX138)","v":0},null,null,null,null,null,null,null,null,null,null,null,null,null,null,null,null,null,null,null,null,null,null,null,null,null,null,null,null,null,null,null,null,null,null,null,null,null,null,null,null,null,null,null,null,null,null,null,null,null,null,null,null,null,null,null,null,null,null,null,null,null,{"$f":"IF(DK158<>\"\",AVERAGE(DK155,DK158),DK155)","v":0},{"$f":"SUM(DN145,DR138,DJ135)","v":0},{"$f":"SUM(DN142,DO138,DJ138)","v":0},null,null,null,null,null,null,null,null,null,null,null,null,null,null,null,null,null,null,null,null,null,null,null,null,null,null,null,null,null,null,null,null,null,null,null,null,null,null,null,null,null,null,null,null,null,null,null,null,null,null,null,null,null,null,null,null,null,null,null,null,null,{"$f":"IF(FW158<>\"\",AVERAGE(FW155,FW158),FW155)","v":0},{"$f":"SUM(FZ145,GD138,FV135)","v":0},{"$f":"SUM(FZ142,GA138,FV138)","v":0},null,null,null,null,null,null,null,null,null,null,null,null,null,null,null,null,null,null,null,null,null,null,null,null,null,null,null,null,null,null,null,null,null,null,null,null,null,null,null,null,null,null,null,null,null,null,null,null,null,null,null,null,null,null,null,null,null,null,null,null,null,{"$f":"IF(II158<>\"\",AVERAGE(II155,II158),II155)","v":0},{"$f":"SUM(IL145,IP139,II135,IF144)","v":0},{"$f":"SUM(IL142,IM139,II138,II144)","v":0}]
[null,null,null,null,null,null,null,null,null,null,null,null,null,null,null,null,null,null,null,null,null,null,null,null,null,null,null,null,null,null,null,null,null,null,null,null,null,null,null,null,null,null,null,null,null,null,null,null,null,"target","$","$",null,"#","#","target",null,null,null,null,null,null,null,null,null,null,null,null,null,null,null,null,null,null,null,null,null,null,null,null,null,null,null,null,null,null,null,null,null,null,null,null,null,null,null,null,null,null,null,null,null,null,null,null,null,null,null,null,null,null,null,null,null,"target","$","$",null,"#","#","target",null,null,null,null,null,null,null,null,null,null,null,null,null,null,null,null,null,null,null,null,null,null,null,null,null,null,null,null,null,null,null,null,null,null,null,null,null,null,null,null,null,null,null,null,null,null,null,null,null,null,null,null,null,null,null,null,null,"target","$","$",null,"#","#","target",null,null,null,null,null,null,null,null,null,null,null,null,null,null,null,null,null,null,null,null,null,null,null,null,null,null,null,null,null,null,null,null,null,null,null,null,null,null,null,null,null,null,null,null,null,null,null,null,null,null,null,null,null,null,null,null,null,"target","$","$",null,"#","#","target"]
[null,null,null,null,null,null,null,null,null,null,null,null,null,null,null,null,null,null,null,null,null,null,null,null,null,null,null,null,null,null,null,null,null,null,null,null,null,null,null,null,null,null,null,null,null,null,null,null,null,"imbal",{"$f":"IF(AY158<>\"\",AY158-AY155,0)","v":0},{"$f":"IF(AZ158<>\"\",AZ158-AZ155,0)","v":0},null,{"$f":"SUM(BB142:BD142)","v":0},{"$f":"SUM(BB145:BD145)","v":0},{"$f":"IF(BC160<>\"\",AVERAGE(BC157,BC160),BC157)","v":0},null,null,null,null,null,null,null,null,null,null,null,null,null,null,null,null,null,null,null,null,null,null,null,null,null,null,null,null,null,null,null,null,null,null,null,null,null,null,null,null,null,null,null,null,null,null,null,null,null,null,null,null,null,null,null,null,null,"imbal",{"$f":"IF(DK158<>\"\",DK158-DK155,0)","v":0},{"$f":"IF(DL158<>\"\",DL158-DL155,0)","v":0},null,{"$f":"SUM(DN142:DP142)","v":0},{"$f":"SUM(DN145:DP145)","v":0},{"$f":"IF(DO160<>\"\",AVERAGE(DO157,DO160),DO157)","v":0},null,null,null,null,null,null,null,null,null,null,null,null,null,null,null,null,null,null,null,null,null,null,null,null,null,null,null,null,null,null,null,null,null,null,null,null,null,null,null,null,null,null,null,null,null,null,null,null,null,null,null,null,null,null,null,null,null,"imbal",{"$f":"IF(FW158<>\"\",FW158-FW155,0)","v":0},{"$f":"IF(FX158<>\"\",FX158-FX155,0)","v":0},null,{"$f":"SUM(FZ142:GB142)","v":0},{"$f":"SUM(FZ145:GB145)","v":0},{"$f":"IF(GA160<>\"\",AVERAGE(GA157,GA160),GA157)","v":0},null,null,null,null,null,null,null,null,null,null,null,null,null,null,null,null,null,null,null,null,null,null,null,null,null,null,null,null,null,null,null,null,null,null,null,null,null,null,null,null,null,null,null,null,null,null,null,null,null,null,null,null,null,null,null,null,null,"imbal",{"$f":"IF(II158<>\"\",II158-II155,0)","v":0},{"$f":"IF(IJ158<>\"\",IJ158-IJ155,0)","v":0},null,{"$f":"SUM(IL142:IO142)","v":0},{"$f":"SUM(IL145:IO145)","v":0},{"$f":"IF(IM160<>\"\",AVERAGE(IM157,IM160),IM157)","v":0}]
[null,null,null,null,null,null,null,null,null,null,null,null,null,null,null,null,null,null,null,null,null,null,null,null,null,null,null,null,null,null,null,null,null,null,null,null,null,null,null,null,null,null,null,null,null,null,null,null,null,{"$f":"IF(AY155<>\"\",AVERAGE(AY158,AY155),AY158)","v":0},{"$f":"SUM(AX170:AZ170)","v":0},{"$f":"SUM(AX173:AZ173)","v":0},null,{"$f":"IF(BB157<>\"\",BB157-BB160,0)","v":0},{"$f":"IF(BC157<>\"\",BC157-BC160,0)","v":0},"imbal",null,null,null,null,null,null,null,null,null,null,null,null,null,null,null,null,null,null,null,null,null,null,null,null,null,null,null,null,null,null,null,null,null,null,null,null,null,null,null,null,null,null,null,null,null,null,null,null,null,null,null,null,null,null,null,null,null,{"$f":"IF(DK155<>\"\",AVERAGE(DK158,DK155),DK158)","v":0},{"$f":"SUM(DJ170:DL170)","v":0},{"$f":"SUM(DJ173:DL173)","v":0},null,{"$f":"IF(DN157<>\"\",DN157-DN160,0)","v":0},{"$f":"IF(DO157<>\"\",DO157-DO160,0)","v":0},"imbal",null,null,null,null,null,null,null,null,null,null,null,null,null,null,null,null,null,null,null,null,null,null,null,null,null,null,null,null,null,null,null,null,null,null,null,null,null,null,null,null,null,null,null,null,null,null,null,null,null,null,null,null,null,null,null,null,null,{"$f":"IF(FW155<>\"\",AVERAGE(FW158,FW155),FW158)","v":0},{"$f":"SUM(FU170:FX170)","v":0},{"$f":"SUM(FU173:FX173)","v":0},null,{"$f":"IF(FZ157<>\"\",FZ157-FZ160,0)","v":0},{"$f":"IF(GA157<>\"\",GA157-GA160,0)","v":0},"imbal",null,null,null,null,null,null,null,null,null,null,null,null,null,null,null,null,null,null,null,null,null,null,null,null,null,null,null,null,null,null,null,null,null,null,null,null,null,null,null,null,null,null,null,null,null,null,null,null,null,null,null,null,null,null,null,null,null,{"$f":"IF(II155<>\"\",AVERAGE(II158,II155),II158)","v":0},{"$f":"SUM(IH170:IJ170)","v":0},{"$f":"SUM(IH173:IJ173)","v":0},null,{"$f":"IF(IL157<>\"\",IL157-IL160,0)","v":0},{"$f":"IF(IM157<>\"\",IM157-IM160,0)","v":0},"imbal"]
[null,null,null,null,null,null,null,null,null,null,null,null,null,null,null,null,null,null,null,null,null,null,null,null,null,null,null,null,null,null,null,null,null,null,null,null,null,null,null,null,null,null,null,null,null,null,null,null,null,"target","$","$",null,"#","#","target",null,null,null,null,null,null,null,null,null,null,null,null,null,null,null,null,null,null,null,null,null,null,null,null,null,null,null,null,null,null,null,null,null,null,null,null,null,null,null,null,null,null,null,null,null,null,null,null,null,null,null,null,null,null,null,null,null,"target","$","$",null,"#","#","target",null,null,null,null,null,null,null,null,null,null,null,null,null,null,null,null,null,null,null,null,null,null,null,null,null,null,null,null,null,null,null,null,null,null,null,null,null,null,null,null,null,null,null,null,null,null,null,null,null,null,null,null,null,null,null,null,null,"target","$","$",null,"#","#","target",null,null,null,null,null,null,null,null,null,null,null,null,null,null,null,null,null,null,null,null,null,null,null,null,null,null,null,null,null,null,null,null,null,null,null,null,null,null,null,null,null,null,null,null,null,null,null,null,null,null,null,null,null,null,null,null,null,"target","$","$",null,"#","#","target"]
[null,null,null,null,null,null,null,null,null,null,null,null,null,null,null,null,null,null,null,null,null,null,null,null,null,null,null,null,null,null,null,null,null,null,null,null,null,null,null,null,null,null,null,null,null,null,null,null,null,null,null,null,null,{"$f":"SUM(AZ173,BC177,BC172)","v":0},{"$f":"SUM(AZ170,BC180,BF172)","v":0},{"$f":"IF(BC157<>\"\",AVERAGE(BC160,BC157),BC160)","v":0},null,null,null,null,null,null,null,null,null,null,null,null,null,null,null,null,null,null,null,null,null,null,null,null,null,null,null,null,null,null,null,null,null,null,null,null,null,null,null,null,null,null,null,null,null,null,null,null,null,null,null,null,null,null,null,null,null,null,null,null,null,{"$f":"SUM(DL173,DK177,DP177)","v":0},{"$f":"SUM(DL170,DH177,DP180)","v":0},{"$f":"IF(DO157<>\"\",AVERAGE(DO160,DO157),DO160)","v":0},null,null,null,null,null,null,null,null,null,null,null,null,null,null,null,null,null,null,null,null,null,null,null,null,null,null,null,null,null,null,null,null,null,null,null,null,null,null,null,null,null,null,null,null,null,null,null,null,null,null,null,null,null,null,null,null,null,null,null,null,null,{"$f":"SUM(FX173,FW176,GA177,GA171)","v":0},{"$f":"SUM(FX170,FT176,GA180,GD171)","v":0},{"$f":"IF(GA157<>\"\",AVERAGE(GA160,GA157),GA160)","v":0},null,null,null,null,null,null,null,null,null,null,null,null,null,null,null,null,null,null,null,null,null,null,null,null,null,null,null,null,null,null,null,null,null,null,null,null,null,null,null,null,null,null,null,null,null,null,null,null,null,null,null,null,null,null,null,null,null,null,null,null,null,{"$f":"SUM(IJ173,II177,IN177)","v":0},{"$f":"SUM(IJ170,IF177,IN180)","v":0},{"$f":"IF(IM157<>\"\",AVERAGE(IM160,IM157),IM160)","v":0}]
[null,null,null,null,null,null,null,null,null,null,null,null,null,null,null,null,null,null,null,null,null,null,null,null,null,null,null,null,null,null,null,null,null,null,null,null,null,null,"Local OD Raw",null,null,null,null,null,null,null,null,null,null,null,null,null,null,null,null,null,null,null,null,null,null,null,null,null,null,null,null,null,null,null,null,null,null,null,null,null,null,null,null,null,null,null,null,null,null,null,null,null,null,null,null,null,null,null,null,null,null,null,null,null,null,null,null,null,null,null,null,null,null,null,null,null,null,null,null,null,null,null,null,null,null,null,null,null,null,"Local OD Raw",null,null,null,null,null,null,null,null,null,null,null,null,null,null,null,null,null,null,null,null,null,null,null,null,null,null,null,null,null,null,null,null,null,null,null,null,null,null,null,null,null,null,null,null,null,null,null,null,null,null,null,null,null,null,null,null,null,null,null,null,null,null,null,null,null,null,null,null,null,null,null,null,null,null,null,null,null,null,null,null,null,null,null,null,null,null,null,null,null,null,null,null,null,null,null,null,null,null,null,null,null,null,null,null,null,null,null,null,null,null,null,null,null,null,null,null,null,null,null,null,null,null,null,null,null,null,null,"Local OD Raw"]
[null,null,null,null,null,null,null,null,null,null,null,null,null,null,null,null,null,null,null,null,null,null,null,null,null,null,null,null,null,null,null,null,null,null,null,null,null,null,{"$f":"\"local_od_raw_\"&BA175","v":"local_od_raw_1"},1,2,3,"est","tgt","err",null,null,null,null,null,null,null,null,null,null,null,null,null,null,null,null,null,null,null,null,null,null,null,null,null,null,null,null,null,null,null,null,null,null,null,null,null,null,null,null,null,null,null,null,null,null,null,null,null,null,null,null,null,null,null,null,null,null,null,null,null,null,null,null,null,null,null,null,null,null,null,null,null,null,null,null,null,null,null,null,{"$f":"\"local_od_raw_\"&DM175","v":"local_od_raw_2"},1,3,4,"est","tgt","err",null,null,null,null,null,null,null,null,null,null,null,null,null,null,null,null,null,null,null,null,null,null,null,null,null,null,null,null,null,null,null,null,null,null,null,null,null,null,null,null,null,null,null,null,null,null,null,null,null,null,null,null,null,null,null,null,null,null,null,null,null,null,null,null,null,null,null,null,null,null,null,null,null,null,null,null,null,null,null,null,null,null,null,null,null,null,null,null,null,null,null,null,null,null,null,null,null,null,null,null,null,null,null,null,null,null,null,null,null,null,null,null,null,null,null,null,null,null,null,null,null,{"$f":"\"local_od_raw_\"&IK175","v":"local_od_raw_2"},1,3,4,"est","tgt","err"]
[null,null,null,null,null,null,null,null,null,null,null,null,null,null,null,null,null,null,null,null,null,null,null,null,null,null,null,null,null,null,null,null,null,null,null,null,null,null,1,{"$f":"BB177","v":0},{"$f":"BD177","v":0},{"$f":"BC177","v":0},{"$f":"SUM(AN163:AP163)","v":0},{"$f":"BD192","v":0},{"$f":"IFERROR(ABS(AQ163-AR163)/AR163,0)","v":0},null,null,null,null,null,null,null,null,null,null,null,null,null,null,null,null,null,null,null,null,null,null,null,null,null,null,null,null,null,null,null,null,null,null,null,null,null,null,null,null,null,null,null,null,null,null,null,null,null,null,null,null,null,null,null,null,null,null,null,null,null,null,null,null,null,null,null,null,null,null,null,null,null,null,null,null,null,null,null,null,1,{"$f":"DN177","v":0},{"$f":"DP177","v":0},{"$f":"DO177","v":0},{"$f":"SUM(DW163:DY163)","v":0},{"$f":"DP192","v":0},{"$f":"IFERROR(ABS(DZ163-EA163)/EA163,0)","v":0},null,null,null,null,null,null,null,null,null,null,null,null,null,null,null,null,null,null,null,null,null,null,null,null,null,null,null,null,null,null,null,null,null,null,null,null,null,null,null,null,null,null,null,null,null,null,null,null,null,null,null,null,null,null,null,null,null,null,null,null,null,null,null,null,null,null,null,null,null,null,null,null,null,null,null,null,null,null,null,null,null,null,null,null,null,null,null,null,null,null,null,null,null,null,null,null,null,null,null,null,null,null,null,null,null,null,null,null,null,null,null,null,null,null,null,null,null,null,null,null,null,1,{"$f":"IL177","v":0},{"$f":"IN177","v":0},{"$f":"IM177","v":0},{"$f":"SUM(IU163:IW163)","v":0},{"$f":"IN192","v":0},{"$f":"IFERROR(ABS(IX163-IY163)/IY163,0)","v":0}]
[null,null,null,null,null,null,null,null,null,null,null,null,null,null,null,null,null,null,null,null,null,null,null,null,null,null,null,null,null,null,null,null,null,null,null,null,null,null,2,{"$f":"BC173","v":0},{"$f":"BC174","v":0},{"$f":"BC172","v":0},{"$f":"SUM(AN164:AP164)","v":0},{"$f":"BI167","v":0},{"$f":"IFERROR(ABS(AQ164-AR164)/AR164,0)","v":0},null,null,null,null,null,null,"Default St",null,null,null,null,null,null,null,null,null,null,null,null,null,null,null,null,null,null,null,null,null,null,null,null,null,null,null,null,null,null,null,null,null,null,null,null,null,null,null,null,null,null,null,null,null,null,null,null,null,null,null,null,null,null,{"$f":"SUM(DK176,DO177,DJ173)","v":0},"<",null,null,null,null,null,null,null,null,null,"Default St",null,null,null,null,null,null,null,3,{"$f":"DK173","v":0},{"$f":"DL173","v":0},{"$f":"DJ173","v":0},{"$f":"SUM(DW164:DY164)","v":0},{"$f":"DJ158","v":0},{"$f":"IFERROR(ABS(DZ164-EA164)/EA164,0)","v":0},null,null,null,null,null,null,null,null,null,null,null,null,null,null,null,null,null,null,null,null,null,null,null,null,null,null,null,null,null,null,null,null,null,null,null,null,null,null,null,null,null,null,null,null,null,null,null,null,null,null,null,null,null,null,null,null,null,null,null,null,null,null,null,null,null,null,null,null,null,null,null,null,null,null,null,null,null,null,null,null,null,null,null,null,null,null,null,null,null,null,null,null,null,null,null,null,null,null,null,null,null,null,{"$f":"SUM(II176,IM177,IH173)","v":0},"<",null,null,null,null,null,null,null,null,null,null,null,null,null,null,null,null,null,3,{"$f":"II173","v":0},{"$f":"IJ173","v":0},{"$f":"IH173","v":0},{"$f":"SUM(IU164:IW164)","v":0},{"$f":"IH158","v":0},{"$f":"IFERROR(ABS(IX164-IY164)/IY164,0)","v":0}]
[null,null,null,null,null,null,null,null,null,null,null,null,null,null,null,null,null,null,null,null,null,null,null,null,null,null,null,null,null,null,null,null,null,null,null,null,null,null,3,{"$f":"AX173","v":0},{"$f":"AY173","v":0},{"$f":"AZ173","v":0},{"$f":"SUM(AN165:AP165)","v":0},{"$f":"AX158","v":0},0,null,null,null,"",null,null,null,null,null,null,null,null,null,null,null,"LINK_ID",{"$f":"CHOOSE(1,\"?\",\"LINK\",BI165,BK165)","v":"?"},null,null,null,null,null,null,null,null,null,null,null,null,null,null,null,null,null,null,null,null,null,null,null,null,null,null,null,null,null,null,null,null,null,null,null,null,null,null,null,null,null,null,null,null,{"$f":"SUM(DH176,DO180,DJ170)","v":0},"<","target",{"$f":"IF(DC167<>\"\",DC167,DC165)","v":0},null,null,"",null,null,null,null,null,null,null,null,null,null,null,null,4,{"$f":"DK178","v":0},{"$f":"DK177","v":0},{"$f":"DK176","v":0},{"$f":"SUM(DW165:DY165)","v":0},{"$f":"DC178","v":0},0,null,null,null,null,null,null,null,null,null,null,null,null,null,null,null,null,null,null,null,null,null,null,null,null,null,null,null,null,null,null,null,null,null,null,null,null,null,null,null,null,null,null,null,null,"",null,null,null,null,null,null,null,null,null,null,null,null,null,null,null,null,null,null,null,null,null,null,null,null,null,null,null,null,null,null,null,null,null,null,null,null,null,null,null,null,null,null,null,null,null,null,null,null,null,null,null,null,null,null,null,null,null,{"$f":"SUM(IF176,IM180,IH170)","v":0},"<","target",{"$f":"IF(IA167<>\"\",IA167,IA165)","v":0},null,null,"",null,null,null,null,null,null,null,null,null,null,null,null,4,{"$f":"II178","v":0},{"$f":"II177","v":0},{"$f":"II176","v":0},{"$f":"SUM(IU165:IW165)","v":0},{"$f":"IA178","v":0},0]
[null,null,null,null,null,null,null,null,null,null,null,null,null,null,null,null,null,null,null,null,null,null,null,null,null,null,null,null,null,null,null,null,null,null,null,null,null,null,"est",{"$f":"SUM(AN163:AN165)","v":0},{"$f":"SUM(AO163:AO165)","v":0},{"$f":"SUM(AP163:AP165)","v":0},null,null,null,null,null,null,null,null,null,null,null,null,null,null,null,null,null,null,null,"imbal",{"$f":"IF(BK165<>\"\",BK167-BK165,0)","v":0},{"$f":"IF(BK165<>\"\",BK167-BK165,0)","v":0},null,null,null,null,null,null,null,null,null,null,null,null,null,null,null,null,null,null,null,null,null,null,null,null,null,null,null,null,null,null,null,null,null,null,null,null,null,null,null,null,null,{"$f":"IF(DC167<>\"\",DC167-DC164,0)","v":0},{"$f":"IF(DC167<>\"\",DC167-DC165,0)","v":0},"imbal",null,null,null,null,null,null,null,null,null,null,null,null,null,null,null,null,null,"est",{"$f":"SUM(DW163:DW165)","v":0},{"$f":"SUM(DX163:DX165)","v":0},{"$f":"SUM(DY163:DY165)","v":0},null,null,null,null,null,null,null,null,null,null,null,null,null,null,null,null,null,null,null,null,null,null,null,null,null,null,null,null,null,null,null,null,null,null,null,null,null,null,null,null,null,null,null,null,null,null,null,null,null,null,null,null,null,null,null,null,null,null,null,null,null,null,null,null,null,null,null,null,null,null,null,null,null,null,null,null,null,null,null,null,null,null,null,null,null,null,null,null,null,null,null,null,null,null,null,null,null,null,null,null,null,null,null,null,{"$f":"IF(IA167<>\"\",IA167-IA164,0)","v":0},{"$f":"IF(IA167<>\"\",IA167-IA165,0)","v":0},"imbal",null,null,null,null,null,null,null,null,null,null,null,null,null,null,null,null,null,"est",{"$f":"SUM(IU163:IU165)","v":0},{"$f":"SUM(IV163:IV165)","v":0},{"$f":"SUM(IW163:IW165)","v":0}]
[null,null,null,null,null,null,null,null,null,null,null,null,null,null,null,null,null,null,null,null,null,null,null,null,null,null,null,null,null,null,null,null,null,null,null,null,null,null,"tgt",{"$f":"AX190","v":0},{"$f":"BH178","v":0},{"$f":"BD160","v":0},null,null,null,null,null,null,null,null,null,null,null,null,null,null,null,null,null,"target",{"$f":"IF(BU173<>\"\",AVERAGE(BK167,BU173),BK167)","v":0},"?",{"$f":"SUM(BF172:BF174)","v":0},null,null,null,null,null,null,null,null,null,null,null,null,null,null,null,null,null,null,null,null,null,null,null,null,null,null,null,null,null,null,null,null,null,null,null,null,null,null,null,null,null,null,null,null,{"$f":"CHOOSE(1,\"<\",\"LINK\",DE167,DC167)","v":"<"},"LINK_ID",null,null,null,null,null,null,null,null,null,null,null,null,null,null,null,null,"tgt",{"$f":"DJ190","v":0},{"$f":"DP160","v":0},{"$f":"DF165","v":0},null,null,null,null,null,null,null,null,null,null,null,null,null,null,null,null,null,null,null,null,null,null,null,null,null,null,null,null,null,null,null,null,null,null,null,null,null,null,null,null,null,null,null,null,null,null,null,null,null,null,null,null,null,null,null,null,null,null,null,null,null,null,null,null,null,null,null,null,null,null,null,null,null,null,null,null,null,null,null,null,null,null,null,null,null,null,null,null,null,null,null,null,null,null,null,null,null,null,null,null,null,null,null,null,null,null,{"$f":"CHOOSE(1,\"<\",\"LINK\",IC167,IA167)","v":"<"},"LINK_ID",null,null,null,null,null,null,null,null,null,null,null,null,null,null,null,null,"tgt",{"$f":"IH190","v":0},{"$f":"IN160","v":0},{"$f":"ID165","v":0}]
[null,null,null,null,null,null,null,null,null,null,null,null,null,null,null,null,null,null,null,null,null,null,null,null,null,null,null,null,null,null,null,null,null,null,null,null,null,null,"err",{"$f":"IFERROR(ABS(AN166-AN167)/AN167,0)","v":0},{"$f":"IFERROR(ABS(AO166-AO167)/AO167,0)","v":0},{"$f":"IFERROR(ABS(AP166-AP167)/AP167,0)","v":0},null,null,{"$f":"SUM(AN168:AQ168,BQ163:BQ166)","v":0},null,null,null,"RNSE",{"$f":"RNSE(AX170,AX173)","v":"-"},"-","-",null,null,null,null,null,null,null,null,null,"?",{"$f":"SUM(BC172:BC174)","v":0},null,null,null,null,null,null,null,null,null,null,null,null,null,null,null,null,null,null,null,null,null,null,null,null,null,null,null,null,null,null,null,null,null,null,null,null,null,null,null,null,null,null,null,null,null,null,null,null,null,"RNSE",{"$f":"RNSE(DJ170,DJ173)","v":"-"},{"$f":"RNSE(DK170,DK173)","v":"-"},{"$f":"RNSE(DL170,DL173)","v":"-"},null,null,null,null,null,null,null,null,null,"err",{"$f":"IFERROR(ABS(DW166-DW167)/DW167,0)","v":0},{"$f":"IFERROR(ABS(DX166-DX167)/DX167,0)","v":0},0,null,null,{"$f":"SUM(DW168:DY168,EB163:EB165)","v":0},null,null,null,null,null,null,null,null,null,null,null,null,null,null,null,null,null,null,null,null,null,null,null,null,null,null,null,null,null,null,null,null,null,null,null,null,null,null,null,null,null,null,null,null,"RNSE",{"$f":"RNSE(FV170,FV173)","v":"-"},"-","-",null,null,null,null,null,null,null,null,null,null,null,null,null,null,null,null,null,null,null,null,null,null,null,null,null,null,null,null,null,null,null,null,null,null,null,null,null,null,null,null,null,null,null,null,null,null,null,null,null,null,null,null,null,null,null,null,null,null,null,null,"RNSE",{"$f":"RNSE(IH170,IH173)","v":"-"},{"$f":"RNSE(II170,II173)","v":"-"},{"$f":"RNSE(IJ170,IJ173)","v":"-"},null,null,null,null,null,null,null,null,null,"err",{"$f":"IFERROR(ABS(IU166-IU167)/IU167,0)","v":0},{"$f":"IFERROR(ABS(IV166-IV167)/IV167,0)","v":0},0,null,null,{"$f":"SUM(IU168:IW168,IZ163:IZ165)","v":0}]
[null,null,null,null,null,null,null,null,null,null,null,null,null,null,null,null,null,null,null,null,null,null,null,null,null,null,null,null,null,null,null,null,null,null,null,null,null,null,null,null,null,null,null,null,null,null,null,null,"%",{"$f":"AX170/AY158","v":{"$error":"#DIV/0!"}},{"$f":"AY170/AY158","v":{"$error":"#DIV/0!"}},{"$f":"AZ170/AY158","v":{"$error":"#DIV/0!"}},null,null,null,null,null,null,null,null,null,null,null,null,null,null,null,null,null,null,null,null,null,null,null,null,null,null,null,null,null,null,null,null,null,null,null,null,null,null,null,null,null,null,null,null,null,null,null,null,null,null,null,null,null,null,null,null,null,null,null,null,"%",{"$f":"DJ170/DK158","v":{"$error":"#DIV/0!"}},{"$f":"DK170/DK158","v":{"$error":"#DIV/0!"}},{"$f":"DL170/DK158","v":{"$error":"#DIV/0!"}},null,null,null,null,null,null,null,null,null,null,null,null,null,null,null,null,null,null,null,null,null,null,null,null,null,null,null,null,null,null,null,null,null,null,null,null,null,null,null,null,null,null,null,null,null,null,null,null,null,null,null,null,null,null,null,null,null,null,null,null,"%",{"$f":"FV170/FW158","v":{"$error":"#DIV/0!"}},{"$f":"FW170/FW158","v":{"$error":"#DIV/0!"}},{"$f":"FX170/FW158","v":{"$error":"#DIV/0!"}},null,null,null,null,null,null,null,null,null,null,null,null,null,null,null,null,null,null,null,null,null,null,null,null,null,null,null,null,null,null,null,null,null,null,null,null,null,null,null,null,null,null,null,null,null,null,null,null,null,null,null,null,null,null,null,null,null,null,null,null,"%",{"$f":"IH170/II158","v":{"$error":"#DIV/0!"}},{"$f":"II170/II158","v":{"$error":"#DIV/0!"}},{"$f":"IJ170/II158","v":{"$error":"#DIV/0!"}}]
[null,null,null,null,null,null,null,null,null,null,null,null,null,null,null,null,null,null,null,null,null,null,null,null,null,null,null,null,null,null,null,null,null,null,null,null,null,null,null,null,null,null,null,null,null,null,null,null,"bal",{"$f":"AN175","v":0},{"$f":"AO175","v":0},{"$f":"AP175","v":0},null,null,null,null,null,null,null,null,null,null,null,null,null,null,null,null,null,null,null,null,null,null,null,null,null,null,null,null,null,null,null,null,null,null,null,null,null,null,null,null,null,null,null,null,null,null,null,null,null,null,null,null,null,null,null,null,null,null,null,null,"bal",{"$f":"DY183","v":0},{"$f":"DW183","v":0},{"$f":"DX183","v":0},null,null,null,null,null,null,null,null,null,null,null,null,null,null,null,null,null,null,null,null,null,null,null,null,null,null,null,null,null,null,null,null,null,null,null,null,null,null,null,null,null,null,null,null,null,null,null,null,null,null,null,null,null,null,null,null,null,null,null,null,"bal",{"$f":"GR185","v":0},{"$f":"GS185","v":0},{"$f":"GT185","v":0},null,null,null,null,null,null,null,null,null,null,null,null,null,null,null,null,null,null,null,null,null,null,null,null,null,null,null,null,null,null,null,null,null,null,null,null,null,null,null,null,null,null,null,null,null,null,null,null,null,null,null,null,null,null,null,null,null,null,null,null,"bal",{"$f":"IW183","v":0},{"$f":"IU183","v":0},{"$f":"IV183","v":0}]
[null,null,null,null,null,null,null,null,null,null,null,null,null,null,null,null,null,null,null,null,null,null,null,null,null,null,null,null,null,null,null,null,null,null,null,null,null,null,"Local OD Estimated",null,null,null,null,null,null,null,null,null,null,"$",9,"M",null,null,"raw","%",null,"bal","%","RNSE",null,null,"",null,null,null,null,null,null,null,null,null,null,null,null,null,null,null,null,null,null,null,null,null,null,null,null,null,null,null,null,null,null,null,null,null,null,null,null,null,null,null,null,null,null,null,null,null,null,null,null,null,null,8,"$","M",null,null,null,null,null,null,null,null,null,null,"",null,null,null,null,null,null,null,null,null,null,null,null,null,null,null,null,null,null,null,null,null,null,null,null,null,null,null,null,null,null,null,null,null,null,null,null,null,null,null,null,null,null,null,null,null,null,null,null,null,null,"$",9,"M",null,null,null,null,null,null,null,null,null,null,"",null,null,null,null,null,null,null,null,null,null,null,null,null,null,null,null,null,null,null,null,null,null,null,null,null,null,null,null,null,null,null,null,null,null,null,null,null,null,null,null,null,null,null,null,null,null,null,null,null,null,8,"$","M",null,null,null,null,null,null,null,null,null,null,""]
[null,null,null,null,null,null,null,null,null,null,null,null,null,null,null,null,null,null,null,null,null,null,null,null,null,null,null,null,null,null,null,null,null,null,null,null,null,null,{"$f":"\"local_od_est_\"&BA175","v":"local_od_est_1"},1,2,3,"est","tgt","err",null,null,null,"%",{"$f":"AX173/AZ158","v":{"$error":"#DIV/0!"}},{"$f":"AY173/AZ158","v":{"$error":"#DIV/0!"}},{"$f":"AZ173/AZ158","v":{"$error":"#DIV/0!"}},null,{"$f":"CHOOSE(1,\"<\",\"TURN\",8,BA175,BC172,BF172)","v":"<"},0,{"$f":"BC172/BK168","v":{"$error":"#DIV/0!"}},"<",{"$f":"AP174","v":0},{"$f":"BF172/BK167","v":{"$error":"#DIV/0!"}},{"$f":"RNSE(BF172,BC172)","v":"-"},null,null,null,null,null,null,null,null,null,null,null,null,null,null,null,null,null,null,null,null,null,null,null,null,null,null,null,null,null,null,null,null,null,null,null,null,null,null,null,null,null,null,null,null,null,null,null,null,null,null,null,null,"%",{"$f":"DJ173/DL158","v":{"$error":"#DIV/0!"}},{"$f":"DK173/DL158","v":{"$error":"#DIV/0!"}},{"$f":"DL173/DL158","v":{"$error":"#DIV/0!"}},null,null,null,null,null,null,null,null,null,null,null,null,null,null,null,null,null,null,null,null,null,null,null,null,null,null,null,null,null,null,null,null,null,null,null,null,null,null,null,null,null,null,null,null,null,null,null,null,null,null,null,null,null,null,null,null,null,null,null,null,"%",{"$f":"FV173/FX158","v":{"$error":"#DIV/0!"}},{"$f":"FW173/FX158","v":{"$error":"#DIV/0!"}},{"$f":"FX173/FX158","v":{"$error":"#DIV/0!"}},null,null,null,null,null,null,null,null,null,null,null,null,null,null,null,null,null,null,null,null,null,null,null,null,null,null,null,null,null,null,null,null,null,null,null,null,null,null,null,null,null,null,null,null,null,null,null,null,null,null,null,null,null,null,null,null,null,null,null,null,"%",{"$f":"IH173/IJ158","v":{"$error":"#DIV/0!"}},{"$f":"II173/IJ158","v":{"$error":"#DIV/0!"}},{"$f":"IJ173/IJ158","v":{"$error":"#DIV/0!"}}]
[null,null,null,null,null,null,null,null,null,null,null,null,null,null,null,null,null,null,null,null,null,null,null,null,null,null,null,null,null,null,null,null,null,null,null,null,null,null,1,{"$f":"AN163","v":0},0,0,{"$f":"SUM(AN173:AP173)","v":0},{"$f":"AR163","v":0},{"$f":"IFERROR(ABS(AQ173-AR173)/AR173,0)","v":0},null,null,null,"raw",0,0,0,null,{"$f":"CHOOSE(1,\">\",\"TURN\",6,BA175,BC173,BF173)","v":">"},0,{"$f":"BC173/BK168","v":{"$error":"#DIV/0!"}},">",{"$f":"AN174","v":0},{"$f":"BF173/BK167","v":{"$error":"#DIV/0!"}},{"$f":"RNSE(BF173,BC173)","v":"-"},null,null,null,null,null,null,null,null,null,null,null,null,null,null,null,null,null,null,null,null,null,null,null,null,null,null,null,null,null,null,null,null,null,null,null,null,null,null,null,null,null,null,null,null,null,null,null,null,null,null,null,null,"raw",0,0,0,null,null,null,null,null,null,null,null,null,null,null,null,null,null,null,null,null,null,null,null,null,null,null,null,null,null,null,null,null,null,null,null,null,null,null,null,null,null,null,null,null,null,null,null,null,null,null,null,null,null,null,null,null,null,null,null,null,null,null,null,"raw",0,0,0,null,null,null,null,null,null,null,null,null,null,null,null,null,null,null,null,null,null,null,null,null,null,null,null,null,null,null,null,null,null,null,null,null,null,null,null,null,null,null,null,null,null,null,null,null,null,null,null,null,null,null,null,null,null,null,null,null,null,null,null,"raw",0,0,0]
[null,null,null,null,null,null,null,null,null,null,null,null,null,null,null,null,null,null,null,null,null,null,null,null,null,null,null,null,null,null,null,null,null,null,null,null,null,null,2,0,0,0,{"$f":"SUM(AN174:AP174)","v":0},{"$f":"AR164","v":0},{"$f":"IFERROR(ABS(AQ174-AR174)/AR174,0)","v":0},null,null,null,null,{"$f":"CHOOSE(1,\"$\",\"TURN\",11,BA175,AX173,AX170)","v":"$"},{"$f":"CHOOSE(1,\"9\",\"TURN\",10,BA175,AY173,AY170)","v":"9"},{"$f":"CHOOSE(1,\"M\",\"TURN\",9,BA175,AZ173,AZ170)","v":"M"},null,{"$f":"CHOOSE(1,\"N\",\"TURN\",5,BA175,BC174,BF174)","v":"N"},0,{"$f":"BC174/BK168","v":{"$error":"#DIV/0!"}},"N",{"$f":"AO174","v":0},{"$f":"BF174/BK167","v":{"$error":"#DIV/0!"}},"-",null,null,null,null,null,null,null,null,null,null,null,null,null,null,null,null,null,null,null,null,null,null,null,null,null,null,null,null,null,null,null,null,null,null,null,null,null,null,null,null,null,null,null,null,null,null,null,null,null,null,null,null,null,{"$f":"CHOOSE(1,8,\"TURN\",12,DM175,DJ173,DJ170)","v":8},{"$f":"CHOOSE(1,\"$\",\"TURN\",11,DM175,DK173,DK170)","v":"$"},{"$f":"CHOOSE(1,\"M\",\"TURN\",9,DM175,DL173,DL170)","v":"M"},null,null,null,null,null,null,null,null,null,null,null,null,null,null,null,null,null,null,null,null,null,null,null,null,null,null,null,null,null,null,null,null,null,null,null,null,null,null,null,null,null,null,null,null,null,null,null,null,null,null,null,null,null,null,null,null,null,null,null,null,null,{"$f":"CHOOSE(1,\"$\",\"TURN\",11,FY175,FV173,FV170)","v":"$"},{"$f":"CHOOSE(1,\"9\",\"TURN\",10,FY175,FW173,FW170)","v":"9"},{"$f":"CHOOSE(1,\"M\",\"TURN\",9,FY175,FX173,FX170)","v":"M"},null,null,null,null,null,null,null,null,{"$f":"SUM(FW177,FW173,GB177)","v":0},"\"",{"$f":"IF(GJ175<>\"\",GJ175-GG174,0)","v":0},null,null,null,null,null,null,null,null,null,null,null,null,null,null,null,null,null,null,null,null,null,null,null,null,null,null,null,null,null,null,null,null,null,null,null,null,null,null,null,null,null,null,null,null,null,null,null,null,null,null,{"$f":"CHOOSE(1,8,\"TURN\",12,IK175,IH173,IH170)","v":8},{"$f":"CHOOSE(1,\"$\",\"TURN\",11,IK175,II173,II170)","v":"$"},{"$f":"CHOOSE(1,\"M\",\"TURN\",9,IK175,IJ173,IJ170)","v":"M"}]
[null,null,null,null,null,null,null,null,null,null,null,null,null,null,null,null,null,null,null,null,null,null,null,null,null,null,null,null,null,null,null,null,null,null,null,null,null,null,3,0,0,0,{"$f":"SUM(AN175:AP175)","v":0},{"$f":"AR165","v":0},0,null,null,null,null,null,null,null,1,null,null,null,null,null,null,null,null,null,null,null,null,null,null,null,null,null,null,null,null,null,null,null,null,null,null,null,null,null,null,null,null,null,null,null,null,null,null,null,null,null,null,null,null,null,null,null,null,null,null,null,null,null,null,null,null,null,null,null,null,null,null,null,2,null,null,null,null,null,null,null,null,null,null,null,null,null,null,null,null,null,null,null,null,null,null,null,null,null,null,null,null,null,null,null,null,null,null,null,null,null,null,null,null,null,null,null,null,null,null,null,null,null,null,null,null,null,null,null,null,null,null,null,null,null,null,null,2,null,null,null,null,null,null,null,{"$f":"SUM(FT177,FW170,GB180)","v":0},"\"",{"$f":"IF(GJ175<>\"\",GJ175-GG175,0)","v":0},null,{"$f":"CHOOSE(1,\"\"\"\",\"LINK\",GK176,GJ175)","v":"\""},null,null,null,null,null,null,null,null,null,null,null,null,null,null,null,null,null,null,null,null,null,null,null,null,null,null,null,null,null,null,null,null,null,null,null,null,null,null,null,null,null,null,null,null,null,null,null,null,null,null,null,2]
[null,null,null,null,null,null,null,null,null,null,null,null,null,null,null,null,null,null,null,null,null,null,null,null,null,null,null,null,null,null,null,null,null,null,null,null,null,null,"est",{"$f":"SUM(AN173:AN175)","v":0},{"$f":"SUM(AO173:AO175)","v":0},{"$f":"SUM(AP173:AP175)","v":0},null,null,null,null,null,null,null,null,null,null,null,{"$f":"CHOOSE(1,\"L\",\"TURN\",1,BA175,BB177,BB180)","v":"L"},{"$f":"CHOOSE(1,\"#\",\"TURN\",3,BA175,BC177,BC180)","v":"#"},{"$f":"CHOOSE(1,\";\",\"TURN\",4,BA175,BD177,BD180)","v":";"},null,null,null,{"$f":"SUM(BC174,AY173,BD177)","v":0},"\"",{"$f":"IF(BK177<>\"\",BK177-BH176,0)","v":0},null,null,null,null,null,null,null,null,null,null,null,null,null,null,null,null,null,null,null,null,null,null,null,null,null,null,null,null,null,null,null,null,null,null,null,null,null,null,null,null,null,null,null,{"$f":"IF(CZ177<>\"\",DC176-CZ177,0)","v":0},{"$f":"SUM(DK176:DK178)","v":0},"\"",null,{"$f":"RNSE(DH176,DK176)","v":"-"},{"$f":"DH176/DC177","v":{"$error":"#DIV/0!"}},{"$f":"DY184","v":0},"O",{"$f":"DK176/DC176","v":{"$error":"#DIV/0!"}},0,{"$f":"CHOOSE(1,\"O\",\"TURN\",13,DM175,DK176,DH176)","v":"O"},null,{"$f":"CHOOSE(1,\"L\",\"TURN\",1,DM175,DN177,DN180)","v":"L"},{"$f":"CHOOSE(1,\":\",\"TURN\",2,DM175,DO177,DO180)","v":":"},{"$f":"CHOOSE(1,\"#\",\"TURN\",3,DM175,DP177,DP180)","v":"#"},null,null,null,null,null,null,null,null,null,null,null,null,null,null,null,null,null,null,null,null,null,null,null,null,null,null,null,null,null,null,null,null,null,null,null,null,null,null,null,null,null,null,null,null,null,null,null,null,null,{"$f":"IF(FL177<>\"\",FO176-FL177,0)","v":0},{"$f":"SUM(FW176:FW178)","v":0},"\"",null,{"$f":"RNSE(FT176,FW176)","v":"-"},{"$f":"FT176/FO177","v":{"$error":"#DIV/0!"}},{"$f":"GT186","v":0},"=",{"$f":"FW176/FO176","v":{"$error":"#DIV/0!"}},0,{"$f":"CHOOSE(1,\"=\",\"TURN\",14,FY175,FW176,FT176)","v":"="},null,{"$f":"CHOOSE(1,\"L\",\"TURN\",1,FY175,FZ177,FZ180)","v":"L"},{"$f":"CHOOSE(1,\"#\",\"TURN\",3,FY175,GA177,GA180)","v":"#"},{"$f":"CHOOSE(1,\";\",\"TURN\",4,FY175,GB177,GB180)","v":";"},null,null,null,null,{"$f":"IF(GJ175<>\"\",GJ175,GG175)","v":0},"target","imbal",null,"LINK_ID",null,null,null,null,null,null,null,null,null,null,null,null,null,null,null,null,null,null,null,null,null,null,null,null,null,null,null,null,null,null,null,null,null,null,null,null,null,null,null,null,{"$f":"IF(HX177<>\"\",IA176-HX177,0)","v":0},{"$f":"SUM(II176:II178)","v":0},"\"",null,{"$f":"RNSE(IF176,II176)","v":"-"},{"$f":"IF176/IA177","v":{"$error":"#DIV/0!"}},{"$f":"IW184","v":0},"O",{"$f":"II176/IA176","v":{"$error":"#DIV/0!"}},0,{"$f":"CHOOSE(1,\"O\",\"TURN\",13,IK175,II176,IF176)","v":"O"},null,{"$f":"CHOOSE(1,\"L\",\"TURN\",1,IK175,IL177,IL180)","v":"L"},{"$f":"CHOOSE(1,\":\",\"TURN\",2,IK175,IM177,IM180)","v":":"},{"$f":"CHOOSE(1,\"#\",\"TURN\",3,IK175,IN177,IN180)","v":"#"}]
[null,null,null,null,null,null,null,null,null,null,null,null,null,null,null,null,null,null,null,null,null,null,null,null,null,null,null,null,null,null,null,null,null,null,null,null,null,null,"tgt",{"$f":"AN167","v":0},{"$f":"AO167","v":0},{"$f":"AP167","v":0},null,null,null,null,null,null,null,null,null,null,null,0,0,0,"raw",null,null,{"$f":"SUM(BF174,AY170,BD180)","v":0},"\"",{"$f":"IF(BK177<>\"\",BK177-BH177,0)","v":0},null,{"$f":"CHOOSE(1,\"\"\"\",\"LINK\",BL178,BK177)","v":"\""},null,null,null,null,null,null,null,null,null,null,null,null,null,null,null,null,null,null,null,null,null,null,null,null,null,null,null,null,null,null,null,null,null,null,null,null,null,null,null,null,{"$f":"CHOOSE(1,\"\"\"\",\"LINK\",CZ178,CZ177)","v":"\""},{"$f":"IF(CZ177<>\"\",DC177-CZ177,0)","v":0},{"$f":"SUM(DH176:DH178)","v":0},"\"",null,"-",{"$f":"DH177/DC177","v":{"$error":"#DIV/0!"}},{"$f":"DX184","v":0},"=",{"$f":"DK177/DC176","v":{"$error":"#DIV/0!"}},0,{"$f":"CHOOSE(1,\"=\",\"TURN\",14,DM175,DK177,DH177)","v":"="},null,0,0,0,"raw",null,null,null,null,null,null,null,null,null,null,null,null,null,null,null,null,null,null,null,null,null,null,null,null,null,null,null,null,null,null,null,null,null,null,null,null,null,null,null,null,null,null,null,null,null,null,null,{"$f":"CHOOSE(1,\"\"\"\",\"LINK\",FL178,FL177)","v":"\""},{"$f":"IF(FL177<>\"\",FO177-FL177,0)","v":0},{"$f":"SUM(FT176:FT178)","v":0},"\"",null,{"$f":"RNSE(FT177,FW177)","v":"-"},{"$f":"FT177/FO177","v":{"$error":"#DIV/0!"}},{"$f":"GS186","v":0},"\"",{"$f":"FW177/FO176","v":{"$error":"#DIV/0!"}},0,{"$f":"CHOOSE(1,\"\"\"\",\"TURN\",15,FY175,FW177,FT177)","v":"\""},null,0,0,0,"raw",null,null,null,null,null,null,null,null,null,null,null,null,null,null,null,null,null,null,null,null,null,null,null,null,null,null,null,null,null,null,null,null,null,null,null,null,null,null,null,null,null,null,null,null,null,null,null,{"$f":"CHOOSE(1,\"\"\"\",\"LINK\",HX178,HX177)","v":"\""},{"$f":"IF(HX177<>\"\",IA177-HX177,0)","v":0},{"$f":"SUM(IF176:IF178)","v":0},"\"",null,"-",{"$f":"IF177/IA177","v":{"$error":"#DIV/0!"}},{"$f":"IV184","v":0},"=",{"$f":"II177/IA176","v":{"$error":"#DIV/0!"}},0,{"$f":"CHOOSE(1,\"=\",\"TURN\",14,IK175,II177,IF177)","v":"="},null,0,0,0,"raw"]
[null,null,null,null,null,null,null,null,null,null,null,null,null,null,null,null,null,null,null,null,null,null,null,null,null,null,null,null,null,null,null,null,null,null,null,null,null,null,"err",{"$f":"IFERROR(ABS(AN176-AN177)/AN177,0)","v":0},{"$f":"IFERROR(ABS(AO176-AO177)/AO177,0)","v":0},0,null,null,{"$f":"SUM(AN178:AP178,AS173:AS175)","v":0},null,null,null,null,null,null,null,null,{"$f":"BB177/BB192","v":{"$error":"#DIV/0!"}},{"$f":"BC177/BB192","v":{"$error":"#DIV/0!"}},{"$f":"BD177/BB192","v":{"$error":"#DIV/0!"}},"%",null,null,{"$f":"IF(BL178<>\"\",AVERAGE(BH177,BL178),BH177)","v":0},"target","imbal",null,"LINK_ID",null,null,null,null,null,null,null,null,null,null,null,null,null,null,null,null,null,null,null,null,null,null,null,null,null,null,null,null,null,null,null,null,null,null,null,null,null,null,null,"LINK_ID",null,"imbal",{"$f":"IF(CZ177<>\"\",CZ177,DC177)","v":0},"target",null,{"$f":"RNSE(DH178,DK178)","v":"-"},{"$f":"DH178/DC177","v":{"$error":"#DIV/0!"}},{"$f":"DW184","v":0},"?",{"$f":"DK178/DC176","v":{"$error":"#DIV/0!"}},0,{"$f":"CHOOSE(1,\"?\",\"TURN\",16,DM175,DK178,DH178)","v":"?"},null,{"$f":"DN177/DN192","v":{"$error":"#DIV/0!"}},{"$f":"DO177/DN192","v":{"$error":"#DIV/0!"}},{"$f":"DP177/DN192","v":{"$error":"#DIV/0!"}},"%",null,null,null,null,null,null,null,null,null,null,null,null,null,null,null,null,null,null,null,null,null,null,null,null,null,null,null,null,null,null,null,null,null,null,null,null,null,null,null,null,null,null,null,null,null,null,"LINK_ID",null,"imbal",{"$f":"IF(FL177<>\"\",FL177,FO177)","v":0},"target",null,{"$f":"RNSE(FT178,FW178)","v":"-"},{"$f":"FT178/FO177","v":{"$error":"#DIV/0!"}},{"$f":"GR186","v":0},"?",{"$f":"FW178/FO176","v":{"$error":"#DIV/0!"}},0,{"$f":"CHOOSE(1,\"?\",\"TURN\",16,FY175,FW178,FT178)","v":"?"},null,{"$f":"FZ177/FZ192","v":{"$error":"#DIV/0!"}},{"$f":"GA177/FZ192","v":{"$error":"#DIV/0!"}},{"$f":"GB177/FZ192","v":{"$error":"#DIV/0!"}},"%",null,null,null,null,null,null,null,null,null,null,null,null,null,null,null,null,null,null,null,null,null,null,null,null,null,null,null,null,null,null,null,null,null,null,null,null,null,null,null,null,null,null,null,null,null,null,"LINK_ID",null,"imbal",{"$f":"IF(HX177<>\"\",HX177,IA177)","v":0},"target",null,{"$f":"RNSE(IF178,II178)","v":"-"},{"$f":"IF178/IA177","v":{"$error":"#DIV/0!"}},{"$f":"IU184","v":0},"?",{"$f":"II178/IA176","v":{"$error":"#DIV/0!"}},0,{"$f":"CHOOSE(1,\"?\",\"TURN\",16,IK175,II178,IF178)","v":"?"},null,{"$f":"IL177/IL192","v":{"$error":"#DIV/0!"}},{"$f":"IM177/IL192","v":{"$error":"#DIV/0!"}},{"$f":"IN177/IL192","v":{"$error":"#DIV/0!"}},"%"]
[null,null,null,null,null,null,null,null,null,null,null,null,null,null,null,null,null,null,null,null,null,null,null,null,null,null,null,null,null,null,null,null,null,null,null,null,null,null,null,null,null,null,"",null,null,null,null,null,null,null,null,null,null,"L","#",";",null,null,null,null,null,null,null,null,null,null,null,null,null,null,null,null,null,null,null,null,null,null,null,null,null,null,null,null,null,null,null,null,null,null,null,null,null,null,null,null,null,null,null,null,null,null,null,null,null,null,"",null,null,"RNSE","%","bal",null,"%","raw",null,null,"L",":","#",null,null,null,null,null,null,null,null,null,null,null,null,null,null,null,null,null,null,null,null,null,null,null,null,null,null,null,null,null,null,null,null,null,null,null,null,null,null,null,null,null,null,null,null,null,null,null,null,null,null,"",null,null,"RNSE","%","bal",null,"%","raw",null,null,"L","#",";",null,null,null,null,null,null,null,null,null,null,null,null,null,null,null,null,null,null,null,null,null,null,null,null,null,null,null,null,null,null,null,null,null,null,null,null,null,null,null,null,null,null,null,null,null,null,null,null,null,null,"",null,null,"RNSE","%","bal",null,"%","raw",null,null,"L",":","#"]
[null,null,null,null,null,null,null,null,null,null,null,null,null,null,null,null,null,null,null,null,null,null,null,null,null,null,null,null,null,null,null,null,null,null,null,null,null,null,null,null,null,null,null,null,null,null,null,null,null,null,null,null,null,{"$f":"AN173","v":0},{"$f":"AP173","v":0},{"$f":"AO173","v":0},"bal",null,null,null,null,null,null,null,null,null,null,null,null,null,null,null,null,null,null,null,null,null,null,null,null,null,null,null,null,null,null,null,null,null,null,null,null,null,null,null,null,null,null,null,null,null,null,null,null,null,null,null,null,null,null,null,null,null,null,null,null,{"$f":"DW182","v":0},{"$f":"DY182","v":0},{"$f":"DX182","v":0},"bal",null,null,null,null,"Local OD Estimated",null,null,null,null,null,null,null,null,null,null,null,null,null,null,null,null,null,null,null,null,null,null,null,null,null,null,null,null,null,null,null,null,null,null,null,null,null,null,null,null,null,null,null,null,null,null,null,null,null,null,null,null,null,null,null,{"$f":"GR183","v":0},{"$f":"GT183","v":0},{"$f":"GS183","v":0},"bal",null,null,null,null,null,null,null,null,null,null,null,null,null,null,null,null,null,null,null,null,null,null,null,null,null,null,null,null,null,null,null,null,null,null,null,null,null,null,null,null,null,null,null,null,null,null,null,null,null,null,null,null,null,null,null,null,null,null,null,null,{"$f":"IU182","v":0},{"$f":"IW182","v":0},{"$f":"IV182","v":0},"bal",null,null,null,null,"Local OD Estimated"]
[null,null,null,null,null,null,null,null,null,null,null,null,null,null,null,null,null,null,null,null,null,null,null,null,null,null,null,null,null,null,null,null,null,null,null,null,null,null,null,null,null,null,null,null,null,null,null,null,null,null,null,null,null,{"$f":"BB180/BC192","v":{"$error":"#DIV/0!"}},{"$f":"BC180/BC192","v":{"$error":"#DIV/0!"}},{"$f":"BD180/BC192","v":{"$error":"#DIV/0!"}},"%",null,null,null,null,null,null,null,null,null,null,null,null,null,null,null,null,null,null,null,null,null,null,null,null,null,null,null,null,null,null,null,null,null,null,null,null,null,null,null,null,null,null,null,null,null,null,null,null,null,null,null,null,null,null,null,null,null,null,null,null,{"$f":"DN180/DO192","v":{"$error":"#DIV/0!"}},{"$f":"DO180/DO192","v":{"$error":"#DIV/0!"}},{"$f":"DP180/DO192","v":{"$error":"#DIV/0!"}},"%",null,null,null,null,{"$f":"\"local_od_est_\"&DM175","v":"local_od_est_2"},1,3,4,"est","tgt","err",null,null,null,null,null,null,null,null,null,null,null,null,null,null,null,null,null,null,null,null,null,null,null,null,null,null,null,null,null,null,null,null,null,null,null,null,null,null,null,null,null,null,null,null,null,null,null,null,null,{"$f":"FZ180/GA192","v":{"$error":"#DIV/0!"}},{"$f":"GA180/GA192","v":{"$error":"#DIV/0!"}},{"$f":"GB180/GA192","v":{"$error":"#DIV/0!"}},"%",null,null,null,"Local OD Raw",null,null,null,null,null,null,null,null,null,"Local OD Estimated",null,null,null,null,null,null,null,null,null,null,null,null,null,null,null,null,null,null,null,null,null,null,null,null,null,null,null,null,null,null,null,null,null,null,null,null,null,null,null,null,null,null,null,null,null,null,{"$f":"IL180/IM192","v":{"$error":"#DIV/0!"}},{"$f":"IM180/IM192","v":{"$error":"#DIV/0!"}},{"$f":"IN180/IM192","v":{"$error":"#DIV/0!"}},"%",null,null,null,null,{"$f":"\"local_od_est_\"&IK175","v":"local_od_est_2"},1,3,4,"est","tgt","err"]
[null,null,null,null,null,null,null,null,null,null,null,null,null,null,null,null,null,null,null,null,null,null,null,null,null,null,null,null,null,null,null,null,null,null,null,null,null,null,null,null,null,null,null,null,null,null,null,null,null,null,null,null,null,{"$f":"RNSE(BB180,BB177)","v":"-"},{"$f":"RNSE(BC180,BC177)","v":"-"},{"$f":"RNSE(BD180,BD177)","v":"-"},"RNSE",null,null,null,null,null,null,null,null,null,null,null,null,null,null,null,null,null,null,null,null,null,null,null,null,null,null,null,null,null,null,null,null,null,null,null,null,null,null,null,null,null,null,null,null,null,null,null,null,null,null,null,null,null,null,null,null,null,null,null,null,{"$f":"RNSE(DN180,DN177)","v":"-"},"-","-","RNSE",null,null,null,null,1,{"$f":"DW163","v":0},0,0,{"$f":"SUM(DW182:DY182)","v":0},{"$f":"EA163","v":0},{"$f":"IFERROR(ABS(DZ182-EA182)/EA182,0)","v":0},null,null,null,null,null,null,null,null,null,null,null,null,null,null,null,null,null,null,null,null,null,null,null,null,null,null,null,null,null,null,null,null,null,null,null,null,null,null,null,null,null,null,null,null,null,null,null,null,null,{"$f":"RNSE(FZ180,FZ177)","v":"-"},{"$f":"RNSE(GA180,GA177)","v":"-"},{"$f":"RNSE(GB180,GB177)","v":"-"},"RNSE",null,null,null,{"$f":"\"local_od_raw_\"&FY175","v":"local_od_raw_2"},1,2,3,4,"est","tgt","err",null,null,{"$f":"\"local_od_est_\"&FY175","v":"local_od_est_2"},1,2,3,4,"est","tgt","err",null,null,null,null,null,null,null,null,null,null,null,null,null,null,null,null,null,null,null,null,null,null,null,null,null,null,null,null,null,null,null,null,null,null,null,null,null,null,null,{"$f":"RNSE(IL180,IL177)","v":"-"},"-","-","RNSE",null,null,null,null,1,{"$f":"IU163","v":0},0,0,{"$f":"SUM(IU182:IW182)","v":0},{"$f":"IY163","v":0},{"$f":"IFERROR(ABS(IX182-IY182)/IY182,0)","v":0}]
[null,null,null,null,null,null,null,null,null,null,null,null,null,null,null,null,null,null,null,null,null,null,null,null,null,null,null,null,null,null,null,null,null,null,null,null,null,null,null,null,null,null,null,null,null,null,null,null,null,null,null,null,null,null,null,null,null,null,null,null,null,null,null,null,null,null,null,null,null,null,null,null,null,null,null,null,null,null,null,null,null,null,null,null,null,null,null,null,null,null,null,null,null,null,null,null,null,null,null,null,null,null,null,null,null,null,null,null,null,null,null,null,null,null,null,null,null,null,null,null,null,null,null,null,null,3,{"$f":"DW164","v":0},{"$f":"DX164","v":0},0,{"$f":"SUM(DW183:DY183)","v":0},{"$f":"EA164","v":0},{"$f":"IFERROR(ABS(DZ183-EA183)/EA183,0)","v":0},null,null,null,null,null,null,null,null,null,null,null,null,null,null,null,null,null,null,null,null,null,null,null,null,null,null,null,null,null,null,null,null,null,null,null,null,null,null,null,null,null,null,null,null,null,null,null,null,null,null,null,null,null,null,null,null,1,{"$f":"FZ177","v":0},{"$f":"GB177","v":0},{"$f":"GA177","v":0},0,{"$f":"SUM(GH183:GK183)","v":0},{"$f":"GB192","v":0},{"$f":"IFERROR(ABS(GL183-GM183)/GM183,0)","v":0},null,null,1,{"$f":"GH183","v":0},0,0,0,{"$f":"SUM(GR183:GU183)","v":0},{"$f":"GM183","v":0},{"$f":"IFERROR(ABS(GV183-GW183)/GW183,0)","v":0},null,null,null,null,null,null,null,null,null,null,null,null,null,null,null,null,null,null,null,null,null,null,null,null,null,null,null,null,null,null,null,null,null,null,null,null,null,null,null,null,null,null,null,null,null,null,null,3,{"$f":"IU164","v":0},{"$f":"IV164","v":0},0,{"$f":"SUM(IU183:IW183)","v":0},{"$f":"IY164","v":0},{"$f":"IFERROR(ABS(IX183-IY183)/IY183,0)","v":0}]
[null,null,null,null,null,null,null,null,null,null,null,null,null,null,null,null,null,null,null,null,null,null,null,null,null,null,null,null,null,null,null,null,null,null,null,null,null,null,{"$f":"CHOOSE(1,BA175&\":\",\"IX_NAME\",AN184)","v":"1:"},"Default St & EB I-888 Ramps",null,null,null,null,null,null,null,null,null,null,null,null,null,null,null,null,null,null,null,null,null,null,null,null,null,null,null,null,null,null,null,null,null,null,null,null,null,null,null,null,null,null,null,null,null,null,null,null,null,null,null,null,null,null,null,null,null,null,null,null,null,null,{"$f":"CHOOSE(1,DM175&\":\",\"IX_NAME\",CZ184)","v":"2:"},"Default St & EB I-888 Ramps",null,null,null,null,null,null,null,null,null,null,null,null,null,null,null,null,null,null,null,null,null,4,{"$f":"DW165","v":0},{"$f":"DX165","v":0},0,{"$f":"SUM(DW184:DY184)","v":0},{"$f":"EA165","v":0},0,null,null,null,null,null,null,null,null,null,null,null,null,null,null,null,null,null,null,null,null,null,null,null,null,null,null,null,null,null,null,null,null,null,null,null,null,null,null,null,null,null,null,null,null,null,null,null,null,null,null,null,null,null,null,null,null,2,0,0,0,0,{"$f":"SUM(GH184:GK184)","v":0},0,{"$f":"IFERROR(ABS(GL184-GM184)/GM184,0)","v":0},null,null,2,0,0,0,0,{"$f":"SUM(GR184:GU184)","v":0},{"$f":"GM184","v":0},{"$f":"IFERROR(ABS(GV184-GW184)/GW184,0)","v":0},null,null,null,null,null,null,null,null,null,null,null,null,null,null,null,null,null,null,null,null,null,null,null,null,{"$f":"CHOOSE(1,IK175&\":\",\"IX_NAME\",HX184)","v":"2:"},"Default St & EB I-888 Ramps",null,null,null,null,null,null,null,null,null,null,null,null,null,null,null,null,null,null,null,null,null,4,{"$f":"IU165","v":0},{"$f":"IV165","v":0},0,{"$f":"SUM(IU184:IW184)","v":0},{"$f":"IY165","v":0},0]
[null,null,null,null,null,null,null,null,null,null,null,null,null,null,null,null,null,null,null,null,null,null,null,null,null,null,null,null,null,null,null,null,null,null,null,null,null,null,null,"Raw Count Date:",null,null,null,null,null,null,null,null,null,null,null,null,null,null,null,null,"",null,null,null,null,null,null,null,null,null,null,null,null,null,null,null,null,null,null,null,null,null,null,null,null,null,null,null,null,null,null,null,null,null,null,null,null,null,null,null,null,null,null,null,null,null,null,"Raw Count Date:",null,null,null,null,null,null,null,null,null,null,null,null,null,null,null,null,"",null,null,null,null,"est",{"$f":"SUM(DW182:DW184)","v":0},{"$f":"SUM(DX182:DX184)","v":0},{"$f":"SUM(DY182:DY184)","v":0},null,null,null,null,null,null,null,null,null,null,null,null,null,null,null,null,null,null,null,null,null,null,null,null,null,null,null,null,null,null,null,null,null,null,null,null,null,null,null,null,null,null,null,null,null,null,null,null,null,null,null,null,null,null,null,"",null,null,null,3,{"$f":"FV173","v":0},{"$f":"FW173","v":0},{"$f":"FX173","v":0},0,{"$f":"SUM(GH185:GK185)","v":0},{"$f":"FV158","v":0},0,null,null,3,0,0,0,0,0,{"$f":"GM185","v":0},0,null,null,null,null,null,null,null,null,null,null,null,null,null,null,null,null,null,null,null,null,null,null,null,null,null,"Raw Count Date:",null,null,null,null,null,null,null,null,null,null,null,null,null,null,null,null,"",null,null,null,null,"est",{"$f":"SUM(IU182:IU184)","v":0},{"$f":"SUM(IV182:IV184)","v":0},{"$f":"SUM(IW182:IW184)","v":0}]
[null,null,null,null,null,null,null,null,null,null,null,null,null,null,null,null,null,null,null,null,null,null,null,null,null,null,null,null,null,null,null,null,null,null,null,null,null,null,null,null,null,null,null,null,null,null,null,null,null,null,null,null,null,null,null,null,null,null,null,null,null,null,null,null,null,null,null,null,null,null,null,null,null,null,null,null,null,null,null,null,null,null,null,null,null,null,null,null,null,null,null,null,null,null,null,null,null,null,null,null,null,null,null,null,null,null,null,null,null,null,null,null,null,null,null,null,null,null,null,null,null,null,null,null,null,"tgt",{"$f":"DW167","v":0},{"$f":"DX167","v":0},{"$f":"DY167","v":0},null,null,null,null,null,null,null,null,null,null,null,null,null,null,null,null,null,null,null,null,null,null,null,null,null,null,null,null,null,null,null,null,null,null,null,null,null,{"$f":"CHOOSE(1,FY175&\":\",\"IX_NAME\",FL186)","v":"2:"},"Default St & EB I-888 Ramps",null,null,null,null,null,null,null,null,null,null,null,null,null,null,null,null,null,null,null,null,4,{"$f":"FW178","v":0},{"$f":"FW177","v":0},{"$f":"FW176","v":0},0,{"$f":"SUM(GH186:GK186)","v":0},{"$f":"FO178","v":0},0,null,null,4,0,0,0,0,0,{"$f":"GM186","v":0},0,null,null,null,null,null,null,null,null,null,null,null,null,null,null,null,null,null,null,null,null,null,null,null,null,null,null,null,null,null,null,null,null,null,null,null,null,null,null,null,"Default St",null,null,null,null,null,null,null,"tgt",{"$f":"IU167","v":0},{"$f":"IV167","v":0},{"$f":"IW167","v":0}]
[null,null,null,null,null,null,null,null,null,null,null,null,null,null,null,null,null,null,null,null,null,null,null,null,null,null,null,null,null,null,null,null,null,null,null,null,null,null,null,null,null,null,null,null,null,null,null,null,null,null,null,null,null,null,null,null,null,null,null,null,null,null,null,null,null,null,null,null,null,null,null,null,null,null,null,null,null,null,null,null,null,null,null,null,null,null,null,null,null,null,null,null,null,null,null,null,null,null,null,null,null,null,null,null,null,null,null,null,null,null,null,null,null,null,null,null,null,null,null,null,null,null,null,null,null,"err",{"$f":"IFERROR(ABS(DW185-DW186)/DW186,0)","v":0},{"$f":"IFERROR(ABS(DX185-DX186)/DX186,0)","v":0},0,null,null,{"$f":"SUM(DW187:DY187,EB182:EB184)","v":0},null,null,null,null,null,null,null,null,null,null,null,null,null,null,null,null,null,null,null,null,null,null,null,null,null,null,null,null,null,null,null,null,null,null,null,"Raw Count Date:",null,null,null,null,null,null,null,null,null,null,null,null,null,null,null,null,null,null,null,null,"est",{"$f":"SUM(GH183:GH186)","v":0},{"$f":"SUM(GI183:GI186)","v":0},{"$f":"SUM(GJ183:GJ186)","v":0},{"$f":"SUM(GK183:GK186)","v":0},null,null,null,null,null,"est",{"$f":"SUM(GR183:GR186)","v":0},{"$f":"SUM(GS183:GS186)","v":0},0,0,null,null,null,null,null,null,null,null,null,null,null,null,null,null,null,null,null,null,null,null,null,null,null,null,null,null,null,null,null,null,null,null,null,null,null,null,null,null,null,null,null,null,null,null,null,null,null,null,null,null,"err",{"$f":"IFERROR(ABS(IU185-IU186)/IU186,0)","v":0},{"$f":"IFERROR(ABS(IV185-IV186)/IV186,0)","v":0},0,null,null,{"$f":"SUM(IU187:IW187,IZ182:IZ184)","v":0}]
[null,null,null,null,null,null,null,null,null,null,null,null,null,null,null,null,null,null,null,null,null,null,null,null,null,null,null,null,null,null,null,null,null,null,null,null,null,null,null,null,null,null,null,null,null,null,null,null,null,null,null,null,null,null,null,null,null,null,null,null,null,null,null,null,null,null,null,null,null,null,null,null,null,null,null,null,null,null,null,null,null,null,null,null,null,null,null,null,null,null,null,null,null,null,null,null,null,null,null,null,null,null,null,null,null,null,null,null,null,null,null,null,null,null,null,null,null,null,null,null,null,null,null,null,null,null,null,null,null,null,null,null,null,null,null,null,null,null,null,null,null,null,null,null,null,null,null,null,null,null,null,null,null,null,null,null,null,null,null,null,null,null,null,null,null,null,null,null,null,null,null,null,null,null,null,null,null,null,null,null,null,null,null,null,null,null,null,null,"tgt",{"$f":"FV190","v":0},{"$f":"GG176","v":0},{"$f":"GB160","v":0},0,null,null,null,null,null,"tgt",{"$f":"GH188","v":0},{"$f":"GI188","v":0},{"$f":"GJ188","v":0},{"$f":"GK188","v":0}]
[null,null,null,null,null,null,null,null,null,null,null,null,null,null,null,null,null,null,null,null,null,null,null,null,null,null,null,null,null,null,null,null,null,null,null,null,null,null,null,null,null,null,null,null,null,null,null,null,null,null,null,null,null,null,null,null,null,null,null,null,null,null,null,null,null,null,null,null,null,null,null,null,null,null,null,null,null,null,null,null,null,null,null,null,null,null,null,null,null,null,null,null,null,null,null,null,null,null,null,null,null,null,null,null,null,null,null,null,null,null,null,null,null,null,null,null,null,null,null,null,null,null,null,null,null,null,null,null,null,null,null,null,null,null,null,null,null,null,null,null,null,null,null,null,null,null,null,null,null,null,null,null,null,null,null,null,null,null,null,null,null,null,null,null,null,null,null,null,null,null,null,null,null,null,null,null,null,null,null,null,null,null,null,null,null,null,null,null,"err",{"$f":"IFERROR(ABS(GH187-GH188)/GH188,0)","v":0},{"$f":"IFERROR(ABS(GI187-GI188)/GI188,0)","v":0},0,0,null,null,{"$f":"SUM(GH189:GK189,GN183:GN186)","v":0},null,null,"err",{"$f":"IFERROR(ABS(GR187-GR188)/GR188,0)","v":0},{"$f":"IFERROR(ABS(GS187-GS188)/GS188,0)","v":0},0,0,null,null,{"$f":"SUM(GR189:GU189,GX183:GX186)","v":0}]
[null,null,null,null,null,null,null,null,null,null,null,null,null,null,null,null,null,null,null,null,null,null,null,null,null,null,null,null,null,null,null,null,null,null,null,null,null,null,null,null,null,null,null,null,null,null,null,null,null,{"$f":"IF(AY193<>\"\",AVERAGE(AY190,AY193),AY190)","v":0},{"$f":"SUM(BB180,BF173,AX170)","v":0},{"$f":"SUM(BB177,BC173,AX173)","v":0},null,null,null,null,null,null,null,null,null,null,null,null,null,null,null,null,null,null,null,null,null,null,null,null,null,null,null,null,null,null,null,null,null,null,null,null,null,null,null,null,null,null,null,null,null,null,null,null,null,null,null,null,null,null,null,null,null,null,null,null,null,{"$f":"IF(DK193<>\"\",AVERAGE(DK190,DK193),DK190)","v":0},{"$f":"SUM(DN180,DK170,DH178)","v":0},{"$f":"SUM(DN177,DK173,DK178)","v":0},null,null,null,null,null,null,null,null,null,null,null,null,null,null,null,null,null,null,null,null,null,null,null,null,null,null,null,null,null,null,null,null,null,null,null,null,null,null,null,null,null,null,null,null,null,null,null,null,null,null,null,null,null,null,null,null,null,null,null,null,null,{"$f":"IF(FW193<>\"\",AVERAGE(FW190,FW193),FW190)","v":0},{"$f":"SUM(FZ180,FV170,FT178)","v":0},{"$f":"SUM(FZ177,FV173,FW178)","v":0},null,null,null,null,null,null,null,null,null,null,null,null,null,null,null,null,null,null,null,null,null,null,null,null,null,null,null,null,null,null,null,null,null,null,null,null,null,null,null,null,null,null,null,null,null,null,null,null,null,null,null,null,null,null,null,null,null,null,null,null,null,{"$f":"IF(II193<>\"\",AVERAGE(II190,II193),II190)","v":0},{"$f":"SUM(IL180,II170,IF178)","v":0},{"$f":"SUM(IL177,II173,II178)","v":0}]
[null,null,null,null,null,null,null,null,null,null,null,null,null,null,null,null,null,null,null,null,null,null,null,null,null,null,null,null,null,null,null,null,null,null,null,null,null,null,null,null,null,null,null,null,null,null,null,null,null,"target","$","$",null,"#","#","target",null,null,null,null,null,null,null,null,null,null,null,null,null,null,null,null,null,null,null,null,null,null,null,null,null,null,null,null,null,null,null,null,null,null,null,null,null,null,null,null,null,null,null,null,null,null,null,null,null,null,null,null,null,null,null,null,null,"target","$","$",null,"#","#","target",null,null,null,null,null,null,null,null,null,null,null,null,null,null,null,null,null,null,null,null,null,null,null,null,null,null,null,null,null,null,null,null,null,null,null,null,null,null,null,null,null,null,null,null,null,null,null,null,null,null,null,null,null,null,null,null,null,"target","$","$",null,"#","#","target",null,null,null,null,null,null,null,null,null,null,null,null,null,null,null,null,null,null,null,null,null,null,null,null,null,null,null,null,null,null,null,null,null,null,null,null,null,null,null,null,null,null,null,null,null,null,null,null,null,null,null,null,null,null,null,null,null,"target","$","$",null,"#","#","target"]
[null,null,null,null,null,null,null,null,null,null,null,null,null,null,null,null,null,null,null,null,null,null,null,null,null,null,null,null,null,null,null,null,null,null,null,null,null,null,null,null,null,null,null,null,null,null,null,null,null,"imbal",{"$f":"IF(AY193<>\"\",AY193-AY190,0)","v":0},{"$f":"IF(AZ193<>\"\",AZ193-AZ190,0)","v":0},null,{"$f":"SUM(BB177:BD177)","v":0},{"$f":"SUM(BB180:BD180)","v":0},{"$f":"IF(BC195<>\"\",AVERAGE(BC192,BC195),BC192)","v":0},null,null,null,null,null,null,null,null,null,null,null,null,null,null,null,null,null,null,null,null,null,null,null,null,null,null,null,null,null,null,null,null,null,null,null,null,null,null,null,null,null,null,null,null,null,null,null,null,null,null,null,null,null,null,null,null,null,"imbal",{"$f":"IF(DK193<>\"\",DK193-DK190,0)","v":0},{"$f":"IF(DL193<>\"\",DL193-DL190,0)","v":0},null,{"$f":"SUM(DN177:DP177)","v":0},{"$f":"SUM(DN180:DP180)","v":0},{"$f":"IF(DO195<>\"\",AVERAGE(DO192,DO195),DO192)","v":0},null,null,null,null,null,null,null,null,null,null,null,null,null,null,null,null,null,null,null,null,null,null,null,null,null,null,null,null,null,null,null,null,null,null,null,null,null,null,null,null,null,null,null,null,null,null,null,null,null,null,null,null,null,null,null,null,null,"imbal",{"$f":"IF(FW193<>\"\",FW193-FW190,0)","v":0},{"$f":"IF(FX193<>\"\",FX193-FX190,0)","v":0},null,{"$f":"SUM(FZ177:GB177)","v":0},{"$f":"SUM(FZ180:GB180)","v":0},{"$f":"IF(GA195<>\"\",AVERAGE(GA192,GA195),GA192)","v":0},null,null,null,null,null,null,null,null,null,null,null,null,null,null,null,null,null,null,null,null,null,null,null,null,null,null,null,null,null,null,null,null,null,null,null,null,null,null,null,null,null,null,null,null,null,null,null,null,null,null,null,null,null,null,null,null,null,"imbal",{"$f":"IF(II193<>\"\",II193-II190,0)","v":0},{"$f":"IF(IJ193<>\"\",IJ193-IJ190,0)","v":0},null,{"$f":"SUM(IL177:IN177)","v":0},{"$f":"SUM(IL180:IN180)","v":0},{"$f":"IF(IM195<>\"\",AVERAGE(IM192,IM195),IM192)","v":0}]

{"sheet":"Single-Point","index":7,"n_rows":76,"n_cols":78,"rows_kept":76,"cut":false,"hidden":false,"merged":[]}
[]
[]
[]
[]
[]
[]
[null,null,null,null,null,null,null,null,null,null,null,null,null,null,null,null,null,null,null,null,null,null,null,null,null,null,null,null,null,null,null,null,null,null,null,null,null,null,null,null,null,null,null,null,null,null,null,null,null,null,null,null,null,null,null,null,null,null,{"$f":"IF(BH4<>\"\",AVERAGE(BH7,BH4),BH7)","v":0},{"$f":"SUM(BF30:BI30)","v":0},{"$f":"SUM(BF33:BI33)","v":0},null,{"$f":"IF(BK6<>\"\",BK6-BK9,0)","v":0},{"$f":"IF(BL6<>\"\",BL6-BL9,0)","v":0},"imbal"]
[null,null,null,null,null,null,null,null,null,null,null,null,null,null,null,null,null,null,null,null,null,null,null,null,null,null,null,null,null,null,null,null,null,null,null,null,null,null,null,null,null,null,null,null,null,null,null,null,null,null,null,null,null,null,null,null,null,null,"target","$","$",null,"#","#","target"]
[null,null,null,null,null,null,null,null,null,null,null,null,null,null,null,null,null,null,null,null,null,null,null,null,null,null,null,null,null,null,null,null,null,null,null,null,null,null,null,null,null,null,null,null,null,null,null,null,null,null,null,null,null,null,null,null,null,null,null,null,null,null,{"$f":"SUM(BI33,BH49,BM50)","v":0},{"$f":"SUM(BI30,BE49,BM53)","v":0},{"$f":"IF(BL6<>\"\",AVERAGE(BL9,BL6),BL9)","v":0}]
[]
[]
[]
[]
[]
[]
[]
[]
[null,null,null,null,null,null,null,null,null,null,null,null,null,null,null,null,null,null,null,null,null,null,null,null,null,null,null,null,null,null,null,null,null,null,null,null,null,null,null,null,null,null,null,null,null,null,null,null,null,null,null,null,null,null,null,null,null,null,null,null,"Default St"]
[]
[null,null,null,null,null,null,null,null,null,null,null,null,null,null,null,null,null,null,null,null,null,null,null,null,null,null,null,null,null,null,null,null,null,null,null,null,null,null,null,null,null,null,null,null,null,null,null,null,null,null,null,null,null,null,null,null,null,null,null,null,null,null,null,null,null,null,null,null,null,null,"Local OD Raw"]
[null,null,null,null,null,null,null,null,null,null,null,null,null,null,null,null,null,null,null,null,null,null,null,null,null,null,null,null,null,null,null,null,null,null,null,null,null,null,null,null,null,null,null,null,null,null,null,null,null,null,null,null,null,null,null,null,null,null,null,null,null,null,null,null,null,null,null,null,null,null,{"$f":"\"local_od_raw_\"&BJ41","v":"local_od_raw_1"},1,2,3,4,"est","tgt","err"]
[null,null,null,null,null,null,null,null,null,null,null,null,null,null,null,null,null,null,null,null,null,null,null,null,null,null,null,null,null,null,null,null,null,null,null,null,null,null,null,null,null,null,null,null,null,null,null,null,null,null,null,null,null,null,null,null,null,null,null,null,null,null,null,null,null,null,null,null,null,null,1,{"$f":"BK50","v":0},{"$f":"BN50","v":0},{"$f":"BM50","v":0},{"$f":"BL50","v":0},{"$f":"SUM(BT22:BW22)","v":0},{"$f":"BM76","v":0},{"$f":"IFERROR(ABS(BX22-BY22)/BY22,0)","v":0}]
[null,null,null,null,null,null,null,null,null,null,null,null,null,null,null,null,null,null,null,null,null,null,null,null,null,null,null,null,null,null,null,null,null,null,null,null,null,null,null,null,null,null,null,null,null,null,null,null,null,null,null,null,null,null,null,null,null,null,null,null,null,null,null,null,null,null,null,null,null,null,2,{"$f":"BL34","v":0},0,{"$f":"BL33","v":0},0,{"$f":"SUM(BT23:BW23)","v":0},{"$f":"BT35","v":0},{"$f":"IFERROR(ABS(BX23-BY23)/BY23,0)","v":0}]
[null,null,null,null,null,null,null,null,null,null,null,null,null,null,null,null,null,null,null,null,null,null,null,null,null,null,null,null,null,null,null,null,null,null,null,null,null,null,null,null,null,null,null,null,null,null,null,null,null,null,null,null,null,null,null,null,null,null,null,null,null,null,null,null,null,null,null,null,null,null,3,{"$f":"BG33","v":0},{"$f":"BH33","v":0},{"$f":"BI33","v":0},{"$f":"BF33","v":0},{"$f":"SUM(BT24:BW24)","v":0},{"$f":"BG7","v":0},0]
[null,null,null,null,null,null,null,null,null,null,null,null,null,null,null,null,null,null,null,null,null,null,null,null,null,null,null,null,null,null,null,"Local OD Raw",null,null,null,null,null,null,null,null,null,null,null,null,null,null,null,null,null,null,null,null,null,null,null,null,null,null,null,null,null,null,null,null,null,null,null,null,null,null,4,{"$f":"BH50","v":0},0,{"$f":"BH49","v":0},0,{"$f":"SUM(BT25:BW25)","v":0},{"$f":"AZ48","v":0},0]
[null,null,null,null,null,null,null,null,null,null,{"$f":"CHOOSE(1,V42&\":\",\"IX_NAME\",L26)","v":"1:"},"Default St & I-999",null,null,null,null,null,null,null,null,null,null,null,null,null,null,null,null,null,null,null,{"$f":"\"local_od_raw_\"&V42","v":"local_od_raw_1"},1,2,3,4,"est","tgt","err",null,null,null,null,null,null,null,null,null,null,null,null,null,null,null,null,null,null,null,null,null,null,null,null,null,null,null,null,null,null,null,"est",{"$f":"SUM(BT22:BT25)","v":0},{"$f":"SUM(BU22:BU25)","v":0},{"$f":"SUM(BV22:BV25)","v":0},{"$f":"SUM(BW22:BW25)","v":0}]
[null,null,null,null,null,null,null,null,null,null,null,"Raw Count Date:",null,null,null,null,null,null,null,null,null,null,null,null,null,null,null,null,null,null,null,1,0,{"$f":"AA44","v":0},0,{"$f":"Z44","v":0},{"$f":"SUM(AG27:AJ27)","v":0},{"$f":"AC53","v":0},{"$f":"IFERROR(ABS(AK27-AL27)/AL27,0)","v":0},null,null,null,null,null,null,null,null,null,null,null,null,null,null,null,null,null,null,null,null,null,null,null,null,null,null,null,null,null,null,null,"tgt",{"$f":"BG74","v":0},{"$f":"BS48","v":0},{"$f":"BM9","v":0},{"$f":"BA35","v":0}]
[null,null,null,null,null,null,null,null,null,null,null,null,null,null,null,"LINK_ID",null,null,null,null,null,null,null,null,null,null,null,{"$f":"CHOOSE(1,\"#\",\"LINK\",AC28,AB29)","v":"#"},"LINK_ID",null,null,2,{"$f":"Z40","v":0},{"$f":"Z41","v":0},{"$f":"Z38","v":0},{"$f":"Z39","v":0},{"$f":"SUM(AG28:AJ28)","v":0},{"$f":"AN39","v":0},{"$f":"IFERROR(ABS(AK28-AL28)/AL28,0)","v":0},null,null,null,null,null,null,null,null,null,null,null,{"$f":"CHOOSE(1,BJ41&\":\",\"IX_NAME\",AZ28)","v":"1:"},"Default St & I-999",null,null,null,null,"RNSE",{"$f":"RNSE(BF30,BF33)","v":"-"},{"$f":"RNSE(BG30,BG33)","v":"-"},"-","-",null,null,null,null,null,null,null,null,null,"err",{"$f":"IFERROR(ABS(BT26-BT27)/BT27,0)","v":0},{"$f":"IFERROR(ABS(BU26-BU27)/BU27,0)","v":0},0,0,null,null,{"$f":"SUM(BT28:BW28,BZ22:BZ25)","v":0}]
[null,null,null,null,null,null,null,null,null,null,null,null,null,null,null,null,{"$f":"CHOOSE(1,\"$\",\"LINK\",P28,Q28)","v":"$"},null,null,null,null,null,null,null,null,null,null,null,null,null,null,3,0,{"$f":"R40","v":0},0,{"$f":"Q40","v":0},{"$f":"SUM(AG29:AJ29)","v":0},{"$f":"P31","v":0},0,null,null,null,null,null,null,null,null,null,null,null,null,"Raw Count Date:",null,null,null,null,"%",{"$f":"BF30/BH7","v":{"$error":"#DIV/0!"}},{"$f":"BG30/BH7","v":{"$error":"#DIV/0!"}},{"$f":"BH30/BH7","v":{"$error":"#DIV/0!"}},{"$f":"BI30/BH7","v":{"$error":"#DIV/0!"}}]
[null,null,null,null,null,null,null,null,null,null,null,null,null,null,null,"imbal",{"$f":"IF(Q28<>\"\",Q31-Q28,0)","v":0},{"$f":"IF(Q28<>\"\",R31-Q28,0)","v":0},null,null,null,null,null,null,null,null,{"$f":"IF(AB29<>\"\",AB29-AA32,0)","v":0},{"$f":"IF(AB29<>\"\",AB29-AB32,0)","v":0},"imbal",null,null,4,{"$f":"R46","v":0},{"$f":"R45","v":0},{"$f":"R44","v":0},{"$f":"R43","v":0},{"$f":"SUM(AG30:AJ30)","v":0},{"$f":"E45","v":0},0,null,null,null,null,null,null,null,null,null,null,null,null,null,null,null,null,null,"bal",{"$f":"BW58","v":0},{"$f":"BT58","v":0},{"$f":"BU58","v":0},{"$f":"BV58","v":0}]
[null,null,null,null,null,null,null,null,null,null,null,null,null,null,null,{"$f":"IF(Q28<>\"\",Q28,Q31)","v":0},{"$f":"SUM(Q37:R37)","v":0},{"$f":"SUM(Q40:R40)","v":0},null,null,null,null,null,null,null,null,"#","#","target",null,null,"est",{"$f":"SUM(AG27:AG30)","v":0},{"$f":"SUM(AH27:AH30)","v":0},{"$f":"SUM(AI27:AI30)","v":0},{"$f":"SUM(AJ27:AJ30)","v":0},null,null,null,null,null,null,null,null,null,null,null,null,null,null,null,null,null,null,null,null,null,8,"$",9,"M"]
[null,null,null,null,null,null,null,null,null,null,null,null,null,null,null,"target","$","$",null,null,null,null,null,null,null,null,{"$f":"SUM(R44,Z38)","v":0},{"$f":"SUM(O44,AC38)","v":0},{"$f":"IF(AB29<>\"\",AB29,AB32)","v":0},null,null,"tgt",{"$f":"P52","v":0},{"$f":"AL45","v":0},{"$f":"AC32","v":0},{"$f":"G39","v":0},null,null,null,null,null,null,null,null,null,null,null,null,null,null,null,null,null,null,null,null,"%",{"$f":"BF33/BI7","v":{"$error":"#DIV/0!"}},{"$f":"BG33/BI7","v":{"$error":"#DIV/0!"}},{"$f":"BH33/BI7","v":{"$error":"#DIV/0!"}},{"$f":"BI33/BI7","v":{"$error":"#DIV/0!"}},null,null,"raw","%",null,"bal","%","RNSE"]
[null,null,null,null,null,null,null,null,null,null,null,null,null,null,null,null,null,null,null,null,null,null,null,null,null,null,null,null,null,null,null,"err",{"$f":"IFERROR(ABS(AG31-AG32)/AG32,0)","v":0},{"$f":"IFERROR(ABS(AH31-AH32)/AH32,0)","v":0},0,0,null,null,{"$f":"SUM(AG33:AJ33,AM27:AM30)","v":0},null,null,null,null,null,null,null,null,null,null,null,null,null,null,null,null,null,"raw",0,0,0,0,null,{"$f":"CHOOSE(1,\"<\",\"TURN\",8,BJ59,BL33,BO33)","v":"<"},0,{"$f":"BL33/BT37","v":{"$error":"#DIV/0!"}},"<",{"$f":"BV57","v":0},{"$f":"BO33/BT36","v":{"$error":"#DIV/0!"}},{"$f":"RNSE(BO33,BL33)","v":"-"}]
[null,null,null,null,null,null,null,null,null,null,null,null,null,null,null,null,null,null,null,null,null,null,null,null,null,null,null,null,null,null,null,null,null,null,null,null,null,null,null,null,null,null,null,null,null,null,null,null,null,null,null,null,null,null,null,null,null,{"$f":"CHOOSE(1,8,\"TURN\",12,BJ59,BF33,BF30)","v":8},{"$f":"CHOOSE(1,\"$\",\"TURN\",11,BJ59,BG33,BG30)","v":"$"},{"$f":"CHOOSE(1,\"9\",\"TURN\",10,BJ59,BH33,BH30)","v":"9"},{"$f":"CHOOSE(1,\"M\",\"TURN\",9,BJ59,BI33,BI30)","v":"M"},null,{"$f":"CHOOSE(1,\">\",\"TURN\",6,BJ59,BL34,BO34)","v":">"},0,{"$f":"BL34/BT37","v":{"$error":"#DIV/0!"}},">",{"$f":"BT57","v":0},{"$f":"BO34/BT36","v":{"$error":"#DIV/0!"}},{"$f":"RNSE(BO34,BL34)","v":"-"}]
[null,null,null,null,null,null,null,null,null,null,null,null,null,null,null,"RNSE",{"$f":"RNSE(Q37,Q40)","v":"-"},{"$f":"RNSE(R37,R40)","v":"-"},null,null,null,null,null,null,null,null,null,null,null,null,null,null,null,null,null,null,null,null,null,null,null,null,null,null,null,null,null,null,"LINK_ID",null,"imbal","target",{"$f":"IF(AX36<>\"\",AX36,BA36)","v":0},null,null,null,null,null,null,null,null,null,null,null,null,null,null,null,null,null,"target",{"$f":"IF(BW36<>\"\",BW36,BT36)","v":0},"imbal","LINK_ID"]
[null,null,null,null,null,null,null,null,null,null,null,null,null,null,null,"%",{"$f":"Q37/Q31","v":{"$error":"#DIV/0!"}},{"$f":"R37/Q31","v":{"$error":"#DIV/0!"}},null,null,null,null,null,null,null,null,null,null,null,null,null,null,null,null,null,null,null,null,null,null,null,null,null,null,null,null,null,null,{"$f":"CHOOSE(1,\"'\",\"LINK\",AW35,AX36)","v":"'"},null,{"$f":"IF(AX36<>\"\",AX36-BA36,0)","v":0},"'",{"$f":"SUM(BL53,BF30)","v":0},null,null,null,null,null,null,null,null,null,null,null,null,null,null,null,null,null,"%",{"$f":"SUM(BO33:BO34)","v":0},{"$f":"IF(BW36<>\"\",BT36-BW36,0)","v":0},{"$f":"CHOOSE(1,\"%\",\"LINK\",BV35,BW36)","v":"%"}]
[null,null,null,null,null,null,null,null,null,null,null,null,null,null,null,"bal",{"$f":"AJ53","v":0},{"$f":"AH53","v":0},null,null,null,null,null,null,null,"raw","%",null,"bal","%","RNSE",null,null,null,null,null,null,null,null,null,null,null,null,null,null,null,null,null,null,null,{"$f":"IF(AX36<>\"\",AX36-BA37,0)","v":0},"'",{"$f":"SUM(BL50,BF33)","v":0},null,null,null,null,null,null,null,null,null,null,null,null,null,null,null,null,null,"%",{"$f":"SUM(BL33:BL34)","v":0},{"$f":"IF(BW36<>\"\",BT37-BW36,0)","v":0}]
[null,null,null,null,null,null,null,null,null,null,null,null,null,null,null,null,8,9,null,null,null,null,null,null,{"$f":"CHOOSE(1,\"<\",\"TURN\",8,V42,Z38,AC38)","v":"<"},0,{"$f":"Z38/AN41","v":{"$error":"#DIV/0!"}},"<",{"$f":"AI52","v":0},{"$f":"AC38/AN40","v":{"$error":"#DIV/0!"}},{"$f":"RNSE(AC38,Z38)","v":"-"}]
[null,null,null,null,"imbal","target",{"$f":"IF(D40<>\"\",AVERAGE(G40,D40),G40)","v":0},null,null,null,null,null,null,null,null,"%",{"$f":"Q40/R31","v":{"$error":"#DIV/0!"}},{"$f":"R40/R31","v":{"$error":"#DIV/0!"}},null,null,null,null,null,null,{"$f":"CHOOSE(1,\"!\",\"TURN\",7,V42,Z39,AC39)","v":"!"},0,{"$f":"Z39/AN41","v":{"$error":"#DIV/0!"}},"!",{"$f":"AJ52","v":0},{"$f":"AC39/AN40","v":{"$error":"#DIV/0!"}},{"$f":"RNSE(AC39,Z39)","v":"-"},null,null,null,null,null,null,null,"target",{"$f":"IF(F28<>\"\",AVERAGE(AN40,F28),AN40)","v":0}]
[null,null,null,null,{"$f":"IF(D40<>\"\",D40-G40,0)","v":0},"!",{"$f":"SUM(O43,Z47,AC39,Q37)","v":0},null,null,null,null,null,null,null,null,"raw",0,0,null,null,null,null,null,null,{"$f":"CHOOSE(1,\">\",\"TURN\",6,V42,Z40,AC40)","v":">"},0,{"$f":"Z40/AN41","v":{"$error":"#DIV/0!"}},">",{"$f":"AG52","v":0},{"$f":"AC40/AN40","v":{"$error":"#DIV/0!"}},"-",null,null,null,null,null,null,null,"!",{"$f":"SUM(AC38:AC41)","v":0}]
[null,null,null,null,{"$f":"IF(D41<>\"\",D41-G41,0)","v":0},"!",{"$f":"SUM(R43,Z44,Z39,Q40)","v":0},null,null,null,null,null,null,null,null,null,{"$f":"CHOOSE(1,8,\"TURN\",12,V42,Q40,Q37)","v":8},{"$f":"CHOOSE(1,\"9\",\"TURN\",10,V42,R40,R37)","v":"9"},null,null,null,null,null,null,{"$f":"CHOOSE(1,\"N\",\"TURN\",5,V42,Z41,AC41)","v":"N"},0,{"$f":"Z41/AN41","v":{"$error":"#DIV/0!"}},"N",{"$f":"AH52","v":0},{"$f":"AC41/AN40","v":{"$error":"#DIV/0!"}},"-",null,null,null,null,null,null,null,"!",{"$f":"SUM(Z38:Z41)","v":0},null,null,null,null,null,null,null,null,null,null,null,null,null,null,null,null,null,null,null,null,null,1]
[null,null,null,null,null,null,null,null,null,null,null,null,null,null,null,null,null,null,null,null,null,1]
[null,null,null,null,{"$f":"SUM(R43:R46)","v":0},"\"",null,null,null,null,"Default St",null,{"$f":"RNSE(O43,R43)","v":"-"},{"$f":"O43/E44","v":{"$error":"#DIV/0!"}},{"$f":"AJ54","v":0},"O",{"$f":"R43/E43","v":{"$error":"#DIV/0!"}},0,{"$f":"CHOOSE(1,\"O\",\"TURN\",13,V42,R43,O43)","v":"O"},null,null,null,null,null,null,{"$f":"CHOOSE(1,\":\",\"TURN\",2,V42,Z44,Z47)","v":":"},{"$f":"CHOOSE(1,\";\",\"TURN\",4,V42,AA44,AA47)","v":";"},null,null,null,null,null,null,"Default St",null,null,null,{"$f":"SUM(Z41,R40,R45,AA44)","v":0},"\"",{"$f":"IF(AO43<>\"\",AO43-AL43,0)","v":0}]
[null,null,null,null,{"$f":"SUM(O43:O46)","v":0},"\"",null,null,null,null,null,null,"-",{"$f":"O44/E44","v":{"$error":"#DIV/0!"}},{"$f":"AI54","v":0},"=",{"$f":"R44/E43","v":{"$error":"#DIV/0!"}},0,{"$f":"CHOOSE(1,\"=\",\"TURN\",14,V42,R44,O44)","v":"="},null,null,null,null,null,null,0,0,"raw",null,null,null,null,null,null,null,null,null,{"$f":"SUM(AC41,R37,O45,AA47)","v":0},"\"",{"$f":"IF(AO44<>\"\",AO44-AL44,0)","v":0}]
[null,null,null,null,{"$f":"IF(B44<>\"\",AVERAGE(E44,B44),E44)","v":0},"target",null,null,null,null,null,null,"-",{"$f":"O45/E44","v":{"$error":"#DIV/0!"}},{"$f":"AH54","v":0},"\"",{"$f":"R45/E43","v":{"$error":"#DIV/0!"}},0,{"$f":"CHOOSE(1,\"\"\"\",\"TURN\",15,V42,R45,O45)","v":"\""},null,null,null,null,null,null,{"$f":"Z44/AA53","v":{"$error":"#DIV/0!"}},{"$f":"AA44/AA53","v":{"$error":"#DIV/0!"}},"%",null,null,null,null,null,null,null,null,null,{"$f":"IF(D32<>\"\",AVERAGE(AL44,D32),AL44)","v":0},"target","imbal"]
[null,null,null,null,null,null,null,null,null,null,null,null,"-",{"$f":"O46/E44","v":{"$error":"#DIV/0!"}},{"$f":"AG54","v":0},"?",{"$f":"R46/E43","v":{"$error":"#DIV/0!"}},0,{"$f":"CHOOSE(1,\"?\",\"TURN\",16,V42,R46,O46)","v":"?"},null,null,null,null,null,null,":",";",null,null,null,null,null,null,null,null,null,null,null,null,null,null,null,null,null,null,null,null,null,null,null,{"$f":"IF(AW47<>\"\",AZ46-AW47,0)","v":0},{"$f":"SUM(BH49:BH50)","v":0},"(",null,null,null,null,null,null,null,null,null,null,null,null,null,null,null,null,null,{"$f":"SUM(BN50,BH33)","v":0},"&",{"$f":"IF(BV47<>\"\",BV47-BS46,0)","v":0}]
[null,null,null,null,null,null,null,null,null,null,null,null,"RNSE","%","bal",null,"%","raw",null,null,null,null,null,null,null,{"$f":"AJ51","v":0},{"$f":"AH51","v":0},"bal",null,null,null,null,null,null,null,null,null,null,null,null,null,null,null,null,null,null,null,null,null,{"$f":"CHOOSE(1,\"(\",\"LINK\",AW48,AW47)","v":"("},{"$f":"IF(AW47<>\"\",AZ47-AW47,0)","v":0},{"$f":"SUM(BE49:BE50)","v":0},"(",null,null,null,null,null,null,null,null,null,null,null,null,null,null,null,null,null,{"$f":"SUM(BN53,BH30)","v":0},"&",{"$f":"IF(BV47<>\"\",BV47-BS47,0)","v":0},null,{"$f":"CHOOSE(1,\"&\",\"LINK\",BV48,BV47)","v":"&"}]
[null,null,null,null,null,null,null,null,null,null,null,null,null,null,null,null,null,null,null,null,null,null,null,null,null,{"$f":"Z47/AB53","v":{"$error":"#DIV/0!"}},{"$f":"AA47/AB53","v":{"$error":"#DIV/0!"}},"%",null,null,null,null,null,null,null,null,null,null,null,null,null,null,null,null,null,null,null,null,"LINK_ID",null,"imbal",{"$f":"IF(AW47<>\"\",AW47,AZ47)","v":0},"target",null,null,null,null,null,null,null,null,null,null,null,null,null,null,null,null,null,{"$f":"IF(BV47<>\"\",BV47,BS47)","v":0},"target","imbal","LINK_ID"]
[null,null,null,null,null,null,null,null,null,null,null,null,null,null,null,null,null,null,null,null,null,null,null,null,null,{"$f":"RNSE(Z47,Z44)","v":"-"},{"$f":"RNSE(AA47,AA44)","v":"-"},"RNSE",null,null,null,"Local OD Estimated",null,null,null,null,null,null,null,null,null,null,null,null,null,null,null,null,null,null,null,null,null,null,{"$f":"RNSE(BE49,BH49)","v":"-"},{"$f":"BE49/AZ47","v":{"$error":"#DIV/0!"}},{"$f":"BV59","v":0},"=",{"$f":"BH49/AZ46","v":{"$error":"#DIV/0!"}},0,{"$f":"CHOOSE(1,\"=\",\"TURN\",14,BJ59,BH49,BE49)","v":"="},null,{"$f":"CHOOSE(1,\"L\",\"TURN\",1,BJ59,BK50,BK53)","v":"L"},{"$f":"CHOOSE(1,\":\",\"TURN\",2,BJ59,BL50,BL53)","v":":"},{"$f":"CHOOSE(1,\"#\",\"TURN\",3,BJ59,BM50,BM53)","v":"#"},{"$f":"CHOOSE(1,\";\",\"TURN\",4,BJ59,BN50,BN53)","v":";"}]
[null,null,null,null,null,null,null,null,null,null,null,null,null,null,null,null,null,null,null,null,null,null,null,null,null,null,null,null,null,null,null,{"$f":"\"local_od_est_\"&V42","v":"local_od_est_1"},1,2,3,4,"est","tgt","err",null,null,null,null,null,null,null,null,null,null,null,null,null,null,null,{"$f":"RNSE(BE50,BH50)","v":"-"},{"$f":"BE50/AZ47","v":{"$error":"#DIV/0!"}},{"$f":"BT59","v":0},"?",{"$f":"BH50/AZ46","v":{"$error":"#DIV/0!"}},0,{"$f":"CHOOSE(1,\"?\",\"TURN\",16,BJ59,BH50,BE50)","v":"?"},null,0,0,0,0,"raw"]
[null,null,null,null,null,null,null,null,null,null,null,null,null,null,null,null,null,null,null,null,null,null,null,null,null,null,null,null,null,null,null,1,{"$f":"AG27","v":0},0,0,0,{"$f":"SUM(AG51:AJ51)","v":0},{"$f":"AL27","v":0},{"$f":"IFERROR(ABS(AK51-AL51)/AL51,0)","v":0},null,null,null,null,null,null,null,null,null,null,null,null,null,null,null,"RNSE","%","bal",null,"%","raw",null,null,{"$f":"BK50/BK76","v":{"$error":"#DIV/0!"}},{"$f":"BL50/BK76","v":{"$error":"#DIV/0!"}},{"$f":"BM50/BK76","v":{"$error":"#DIV/0!"}},{"$f":"BN50/BK76","v":{"$error":"#DIV/0!"}},"%"]
[null,null,null,null,null,null,null,null,null,null,null,null,null,null,null,{"$f":"IF(Q55<>\"\",Q55,Q52)","v":0},{"$f":"SUM(AC40,O46)","v":0},{"$f":"SUM(,Z40,R46)","v":0},null,null,null,null,null,null,null,null,"#","#","target",null,null,2,0,0,0,0,{"$f":"SUM(AG52:AJ52)","v":0},{"$f":"AL28","v":0},{"$f":"IFERROR(ABS(AK52-AL52)/AL52,0)","v":0},null,null,null,null,null,null,null,null,null,null,null,null,null,null,null,null,null,null,null,null,null,null,null,"L",":","#",";"]
[null,null,null,null,null,null,null,null,null,null,null,null,null,null,null,"target","$","$",null,null,null,null,null,null,null,null,{"$f":"SUM(Z44:AA44)","v":0},{"$f":"SUM(Z47:AA47)","v":0},{"$f":"IF(AB56<>\"\",AB56,AB53)","v":0},null,null,3,0,0,0,0,0,{"$f":"AL29","v":0},0,null,null,null,null,null,null,null,null,null,null,null,null,null,null,null,null,null,null,null,null,null,null,null,{"$f":"BT56","v":0},{"$f":"BW56","v":0},{"$f":"BV56","v":0},{"$f":"BU56","v":0},"bal"]
[null,null,null,null,null,null,null,null,null,null,null,null,null,null,null,"imbal",{"$f":"IF(Q55<>\"\",Q55-Q52,0)","v":0},{"$f":"IF(Q55<>\"\",Q55-R52,0)","v":0},null,null,null,null,null,null,null,null,{"$f":"IF(AB56<>\"\",AA53-AB56,0)","v":0},{"$f":"IF(AB56<>\"\",AB53-AB56,0)","v":0},"imbal",null,null,4,0,0,0,0,0,{"$f":"AL30","v":0},0,null,null,null,null,null,null,null,null,null,null,null,null,null,null,null,null,null,null,null,null,null,null,null,{"$f":"BK53/BL76","v":{"$error":"#DIV/0!"}},{"$f":"BL53/BL76","v":{"$error":"#DIV/0!"}},{"$f":"BM53/BL76","v":{"$error":"#DIV/0!"}},{"$f":"BN53/BL76","v":{"$error":"#DIV/0!"}},"%",null,null,null,"Local OD Estimated"]
[null,null,null,null,null,null,null,null,null,null,null,null,null,null,null,null,null,null,null,null,null,null,null,null,null,null,null,{"$f":"CHOOSE(1,\"#\",\"LINK\",AC56,AB56)","v":"#"},null,null,null,"est",{"$f":"SUM(AG51:AG54)","v":0},{"$f":"SUM(AH51:AH54)","v":0},0,0,null,null,null,null,null,null,null,null,null,null,null,null,null,null,null,null,null,null,null,null,null,null,null,null,null,null,{"$f":"RNSE(BK53,BK50)","v":"-"},"-","-","-","RNSE",null,null,null,{"$f":"\"local_od_est_\"&BJ41","v":"local_od_est_1"},1,2,3,4,"est","tgt","err"]
[null,null,null,null,null,null,null,null,null,null,null,null,null,null,null,"LINK_ID",{"$f":"CHOOSE(1,\"$\",\"LINK\",P56,Q55)","v":"$"},null,null,null,null,null,null,null,null,null,null,null,"LINK_ID",null,null,"tgt",{"$f":"AG32","v":0},{"$f":"AH32","v":0},{"$f":"AI32","v":0},{"$f":"AJ32","v":0},null,null,null,null,null,null,null,null,null,null,null,null,null,null,null,null,null,null,null,null,null,null,null,null,null,null,null,null,null,null,null,null,null,null,1,{"$f":"BT22","v":0},0,0,0,{"$f":"SUM(BT56:BW56)","v":0},{"$f":"BY22","v":0},{"$f":"IFERROR(ABS(BX56-BY56)/BY56,0)","v":0}]
[null,null,null,null,null,null,null,null,null,null,null,null,null,null,null,null,null,null,null,null,null,null,null,null,null,null,null,null,null,null,null,"err",{"$f":"IFERROR(ABS(AG55-AG56)/AG56,0)","v":0},{"$f":"IFERROR(ABS(AH55-AH56)/AH56,0)","v":0},0,0,null,null,{"$f":"SUM(AG57:AJ57,AM51:AM54)","v":0},null,null,null,null,null,null,null,null,null,null,null,null,null,null,null,null,null,null,null,null,null,null,null,null,null,null,null,null,null,null,null,2,0,0,0,0,{"$f":"SUM(BT57:BW57)","v":0},{"$f":"BY23","v":0},{"$f":"IFERROR(ABS(BX57-BY57)/BY57,0)","v":0}]
[null,null,null,null,null,null,null,null,null,null,null,null,null,null,null,null,null,null,null,null,null,null,null,null,null,null,null,null,null,null,null,null,null,null,null,null,null,null,null,null,null,null,null,null,null,null,null,null,null,null,null,null,null,null,null,null,null,null,null,null,null,null,null,null,null,null,null,null,null,null,3,0,0,0,0,0,{"$f":"BY24","v":0},0]
[null,null,null,null,null,null,null,null,null,null,null,null,null,null,null,null,null,null,null,null,null,null,null,null,null,null,null,null,null,null,null,null,null,null,null,null,null,null,null,null,null,null,null,null,null,null,null,null,null,null,null,null,null,null,null,null,null,null,null,null,null,null,null,null,null,null,null,null,null,null,4,0,0,0,0,0,{"$f":"BY25","v":0},0]
[null,null,null,null,null,null,null,null,null,null,null,null,null,null,null,null,null,null,null,null,null,null,null,null,null,null,null,null,null,null,null,null,null,null,null,null,null,null,null,null,null,null,null,null,null,null,null,null,null,null,null,null,null,null,null,null,null,null,null,null,"Default St",null,null,null,null,null,null,null,null,null,"est",{"$f":"SUM(BT56:BT59)","v":0},{"$f":"SUM(BU56:BU59)","v":0},0,0]
[null,null,null,null,null,null,null,null,null,null,null,null,null,null,null,null,null,null,null,null,null,null,null,null,null,null,null,null,null,null,null,null,null,null,null,null,null,null,null,null,null,null,null,null,null,null,null,null,null,null,null,null,null,null,null,null,null,null,null,null,null,null,null,null,null,null,null,null,null,null,"tgt",{"$f":"BT27","v":0},{"$f":"BU27","v":0},{"$f":"BV27","v":0},{"$f":"BW27","v":0}]
[null,null,null,null,null,null,null,null,null,null,null,null,null,null,null,null,null,null,null,null,null,null,null,null,null,null,null,null,null,null,null,null,null,null,null,null,null,null,null,null,null,null,null,null,null,null,null,null,null,null,null,null,null,null,null,null,null,null,null,null,null,null,null,null,null,null,null,null,null,null,"err",{"$f":"IFERROR(ABS(BT60-BT61)/BT61,0)","v":0},{"$f":"IFERROR(ABS(BU60-BU61)/BU61,0)","v":0},0,0,null,null,{"$f":"SUM(BT62:BW62,BZ56:BZ59)","v":0}]
[null,null,null,null,null,null,null,null,null,null,null,null,null,null,null,null,null,null,null,null,null,null,null,null,null,null,null,null,null,null,null,null,null,null,null,null,null,null,null,null,null,null,null,null,null,null,null,null,null,null,null,""]
[]
[]
[]
[]
[]
[null,null,null,null,null,null,null,null,null,null,null,null,null,null,null,null,null,null,null,null,null,null,null,null,null,null,null,null,null,null,null,null,null,null,null,null,null,null,null,null,null,null,null,null,null,null,null,null,null,null,null,null,null,null,null,null,null,null,null,null,null,null,null,null,null,""]
[]
[]
[]
[]
[null,null,null,null,null,null,null,null,null,null,null,null,null,null,null,null,null,null,null,null,null,null,null,null,null,null,null,null,null,null,null,null,null,null,null,null,null,null,null,null,null,null,null,null,null,null,null,null,null,null,null,null,null,null,null,null,null,null,{"$f":"IF(BH77<>\"\",AVERAGE(BH74,BH77),BH74)","v":0},{"$f":"SUM(BK53,BG30,BE50)","v":0},{"$f":"SUM(BK50,BG33,BH50)","v":0}]
[null,null,null,null,null,null,null,null,null,null,null,null,null,null,null,null,null,null,null,null,null,null,null,null,null,null,null,null,null,null,null,null,null,null,null,null,null,null,null,null,null,null,null,null,null,null,null,null,null,null,null,null,null,null,null,null,null,null,"target","$","$",null,"#","#","target"]
[null,null,null,null,null,null,null,null,null,null,null,null,null,null,null,null,null,null,null,null,null,null,null,null,null,null,null,null,null,null,null,null,null,null,null,null,null,null,null,null,null,null,null,null,null,null,null,null,null,null,null,null,null,null,null,null,null,null,"imbal",{"$f":"IF(BH77<>\"\",BH77-BH74,0)","v":0},{"$f":"IF(BI77<>\"\",BI77-BI74,0)","v":0},null,{"$f":"SUM(BK50:BN50)","v":0},{"$f":"SUM(BK53:BN53)","v":0},{"$f":"IF(BL79<>\"\",AVERAGE(BL76,BL79),BL76)","v":0}]